Workbook

Sheet StartUp

Sheet COVER
A3: .
C9: SAILING SCHEDULE FROM HOCHIMINH CITY TO
B10: 1/ | C10: NORTH EUROPE (AEC7 DIRECT SERVICE) | D10: LE HAVRE / HAMBURG / BREMERHAVEN / ZEEBRUGGE / ROTTERDAM / SOUTHAMPTON
B11: 2/ | C11: NORTH EUROPE (AEC2 SERVICE) | D11: HAMBURG / LE HARVE / ROTTERDAM
B12: 3/ | C12: NORTH EUROPE (AEC8 SERVICE) | D12: LE HAVRE / ROTTERDAM / HAMBURG / ZEEBRUGGE
B13: 4/ | C13: WEST MEDITERRANEAN (AMC1 SERVICE) | D13: LA SPEZIA /GENOA / FOS / NAPOLI /VALENCIA/ BARCELONA
B14: 5/ | C14: EAST MEDITERRANEAN (AMC1 SERVICE) | D14: AMBARLI / HAYDAPARSA / IZMIR / IZMIT / GEMLIK /MERSIN / BERUIT / LATAKIA /TRIPOLI / MISURATA/ ALEXANDRIA /EL DEKHEILA
B15: 6/ | C15: AUSTRALIA | D15: FREMANTLE / SYDNEY / MELBOURNE / ADELAIDE
B16: 7/ | C16: ARABIAN GULF (AEC1 SERVICE) | D16: JEBEL ALI / MUSCAT / DOHA / AJMAN /KUWAIT / DAMMAM /RIYADH/…
B17: 8/ | C17: RED SEA (AEC2 SERVICE) | D17: JEDDAH / SOKHNA PORT / AQABA / PORT SUDAN
B18: 9/ | C18: US-AEC9 | D18: NEW YORK / NORFOLK / SAVANNAH
B19: 10/ | C19: US-AMC1 | D19: NEW YORK / NORFOLK / SAVANNAH
B20: 11/ | C20: BRAZIL ( SAM1 ) | D20: RIO DE JANEIRO/ PARANAGUA / SANTOS / ITAJAL
B21: 12/ | C21: WEST AFRICA (WAF1 SERVICE) | D21: LAGOS / TEMA / ABIDJAN
B22: 13/ | C22: IADA | D22: PORT KELANG / PENANG
C23: Click here for Feeder Closing Time

Sheet NE-AEC7 (DIRECTLY)
D3: HOCHIMINHCITY TO NORTH EUROPE
F4: AEC7 SERVICE
I6: Update: | J6: 41046
A7: MOTHER VESSEL | B7: ETD VUNG TAU | C7: ETA SIN | D7: ETA PKG | E7: LE HAVRE | F7: HAMBURG | G7: BREMERHAVEN | H7: ZEEBRUGGE | I7: ROTTERDAM | J7: SOUTHAMPTON
A8: CMA CGM ALASKA 436W | B8: 40977 | C8: =B8+3 -> 40980 | D8: =C8+1 -> 40981 | E8: =B8+20 -> 40997 | F8: =B8+22 -> 40999 | G8: =B8+24 -> 41001 | H8: =B8+26 -> 41003 | I8: =B8+27 -> 41004 | J8: =B8+28 -> 41005
A9: CMA CGM ANDROMEDA 438W | B9: =B8+6 -> 40983 | C9: =B9+3 -> 40986 | D9: =C9+1 -> 40987 | E9: =B9+21 -> 41004 | F9: =B9+23 -> 41006 | G9: =B9+25 -> 41008 | H9: =B9+27 -> 41010 | I9: =B9+28 -> 41011 | J9: =B9+29 -> 41012
A10: CMA CGM LIBRA 440W | B10: =B9+7 -> 40990 | C10: =B10+3 -> 40993 | D10: =C10+1 -> 40994 | E10: =B10+21 -> 41011 | F10: =B10+23 -> 41013 | G10: =B10+25 -> 41015 | H10: =B10+27 -> 41017 | I10: =B10+28 -> 41018 | J10: =B10+29 -> 41019
A11: CMA CGM MUSCA 442W | B11: =B10+9 -> 40999 | C11: =B11+3 -> 41002 | D11: =C11+1 -> 41003 | E11: =B11+20 -> 41019 | F11: =B11+22 -> 41021 | G11: =B11+23 -> 41022 | H11: =B11+25 -> 41024 | I11: =B11+26 -> 41025 | J11: =B11+27 -> 41026
A12: CMA CGM AQUILA 444W | B12: =B11+6 -> 41005 | C12: =B12+3 -> 41008 | D12: =C12+1 -> 41009 | E12: =B12+22 -> 41027 | F12: =B12+24 -> 41029 | G12: =B12+24 -> 41029 | H12: =B12+26 -> 41031 | I12: =B12+27 -> 41032 | J12: =B12+28 -> 41033
A13: CMA CGM HYDRA 446W | B13: =B12+7 -> 41012 | C13: =B13+2 -> 41014 | D13: =C13+1 -> 41015 | E13: =B13+21 -> 41033 | F13: =B13+23 -> 41035 | G13: =B13+25 -> 41037 | H13: =B13+26 -> 41038 | I13: =B13+27 -> 41039 | J13: =B13+28 -> 41040
A14: CMA CGM PEGASUS 448W | B14: =B13+6 -> 41018 | C14: =B14+3 -> 41021 | D14: =C14+1 -> 41022 | E14: =B14+22 -> 41040 | F14: =B14+23 -> 41041 | G14: =B14+25 -> 41043 | H14: =B14+27 -> 41045 | I14: =B14+28 -> 41046 | J14: =B14+29 -> 41047
A15: CMA CGM LEO 450W | B15: =B14+7 -> 41025 | C15: =B15+3 -> 41028 | D15: =C15+1 -> 41029 | E15: =B15+21 -> 41046 | F15: =B15+23 -> 41048 | G15: =B15+25 -> 41050 | H15: =B15+27 -> 41052 | I15: =B15+28 -> 41053 | J15: =B15+29 -> 41054
A16: CMA CGM CALLISTO 452W | B16: =B15+7 -> 41032 | C16: =B16+3 -> 41035 | D16: =C16+1 -> 41036 | E16: =B16+21 -> 41053 | F16: =B16+23 -> 41055 | G16: =B16+25 -> 41057 | H16: =B16+27 -> 41059 | I16: =B16+28 -> 41060 | J16: =B16+29 -> 41061
A17: CMA CGM VELA 454W | B17: =B16+7 -> 41039 | C17: =B17+3 -> 41042 | D17: =C17+1 -> 41043 | E17: =B17+21 -> 41060 | F17: =B17+23 -> 41062 | G17: =B17+25 -> 41064 | H17: =B17+27 -> 41066 | I17: =B17+28 -> 41067 | J17: =B17+29 -> 41068
A18: CMA CGM THALASSA 456W | B18: =B17+9 -> 41048 | C18: =B18+3 -> 41051 | D18: =C18+1 -> 41052 | E18: =B18+19 -> 41067 | F18: =B18+21 -> 41069 | G18: =B18+23 -> 41071 | H18: =B18+25 -> 41073 | I18: =B18+26 -> 41074 | J18: =B18+27 -> 41075
A19: CMA CGM ANDROMEDA 460W | B19: =B18+5 -> 41053 | C19: 41057 | D19: 41058 | E19: =B19+22 -> 41075 | F19: =B19+24 -> 41077 | G19: =B19+26 -> 41079 | H19: =B19+28 -> 41081 | I19: =B19+29 -> 41082 | J19: =B19+30 -> 41083
A20: CMA CGM LIBRA 462W | B20: =B19+7 -> 41060 | C20: =B20+3 -> 41063 | D20: =C20+1 -> 41064 | E20: =B20+21 -> 41081 | F20: =B20+23 -> 41083 | G20: =B20+25 -> 41085 | H20: =B20+27 -> 41087 | I20: =B20+28 -> 41088 | J20: =B20+29 -> 41089
A21: CMA CGM TITAN 054W | B21: =B20+7 -> 41067 | C21: =B21+3 -> 41070 | D21: =C21+1 -> 41071 | E21: =B21+21 -> 41088 | F21: =B21+23 -> 41090 | G21: =B21+25 -> 41092 | H21: =B21+27 -> 41094 | I21: =B21+28 -> 41095 | J21: =B21+29 -> 41096
A22: CMA CGM MUSCA 464W | B22: =B21+7 -> 41074 | C22: =B22+3 -> 41077 | D22: =C22+1 -> 41078 | E22: =B22+21 -> 41095 | F22: =B22+23 -> 41097 | G22: =B22+25 -> 41099 | H22: =B22+27 -> 41101 | I22: =B22+28 -> 41102 | J22: =B22+29 -> 41103
A23: CMA CGM AQUILA 466W | B23: =B22+7 -> 41081 | C23: =B23+3 -> 41084 | D23: =C23+1 -> 41085 | E23: =B23+21 -> 41102 | F23: =B23+23 -> 41104 | G23: =B23+25 -> 41106 | H23: =B23+27 -> 41108 | I23: =B23+28 -> 41109 | J23: =B23+29 -> 41110
A24: CMA CGM HYDRA 468W | B24: =B23+7 -> 41088 | C24: =B24+3 -> 41091 | D24: =C24+1 -> 41092 | E24: =B24+21 -> 41109 | F24: =B24+23 -> 41111 | G24: =B24+25 -> 41113 | H24: =B24+27 -> 41115 | I24: =B24+28 -> 41116 | J24: =B24+29 -> 41117
A26: THE ABOVE SAILING SCHEDULE IS SUBJECT TO CHANGE WITH/WITHOUT PRIOR NOTICE | H26: Person to contact :
A27: VIET HOA TRANSPORT SERVICE & TRADING CO., LTD. ( HEAD OFFICE 1) | I27: Office 1 : | K27: Ms. Simmi (84-8) 39402520 ( Ext : 122 )
A28: 284 Nguyen Tat Thanh Street, Dist. 4, Ho Chi Minh City, VietNam | I28: Office 2 : | K28: Ms. Jasmine (84-8) 38268533 ( Ext : 101 )
A29: Tel : (84-8) 39402520 (12 lines) Fax : (84-8) 39402601 / 39408933 / 39411087 | I29: Office 3 : | K29: Ms. Oanh (84-8) 62810240 ( Ext: 117 )
A30: Email : general@viethoagroup.com Website : www.viethoagroup.com

Sheet NE-AEC2
E4: HOCHIMINHCITY TO NORTH EUROPE
G5: AEC2 SERVICE
H6: ='NE-AEC7 (DIRECTLY)'!I6 -> Update: | I6: ='NE-AEC7 (DIRECTLY)'!$J$6 -> 41046
A7: FEEDER | B7: VOY | C7: ETD HCM | D7: ETA PKG | E7: MOTHER VESSEL | F7: ETA PKG | G7: SOUTHAMPTON | H7: HAMBURG | I7: BREMERHAVEN | J7: ZEEBRUGGE | K7: ROTTERDAM | L7: LE HAVRE
E8: CMA CGM CHRISTOPHE COLOMB 828W | F8: 40973 | G8: =F8+21 -> 40994 | H8: =G8+2 -> 40996 | I8: =H8+2 -> 40998 | J8: =I8+2 -> 41000 | K8: =J8+1 -> 41001 | L8: =K8+1 -> 41002
A9: SARA | B9: 82 | C9: 40962 | D9: =C9+3 -> 40965
A10: SIMA SAPPHIRE | B10: 405 | C10: 40965 | D10: =C10+3 -> 40968
E12: CMA CGM LAPEROUSE 830W | F12: =F8+7 -> 40980 | G12: =F12+21 -> 41001 | H12: =G12+2 -> 41003 | I12: =H12+2 -> 41005 | J12: =I12+2 -> 41007 | K12: =J12+1 -> 41008 | L12: =K12+1 -> 41009
A13: =A9 -> SARA | B13: =B9+1 -> 83 | C13: =C9+7 -> 40969 | D13: =C13+3 -> 40972
A14: =A10 -> SIMA SAPPHIRE | B14: =B10+1 -> 406 | C14: =C10+7 -> 40972 | D14: =C14+3 -> 40975
E16: CMA CGM MAGELLAN 832W | F16: =F12+7 -> 40987 | G16: =F16+21 -> 41008 | H16: =G16+2 -> 41010 | I16: =H16+2 -> 41012 | J16: =I16+2 -> 41014 | K16: =J16+1 -> 41015 | L16: =K16+1 -> 41016
A17: =A13 -> SARA | B17: =B13+1 -> 84 | C17: =C13+7 -> 40976 | D17: =C17+3 -> 40979
A18: =A14 -> SIMA SAPPHIRE | B18: =B14+1 -> 407 | C18: =C14+7 -> 40979 | D18: =C18+3 -> 40982
E20: CMA CGM CASSIOPEIA 834W | F20: =F16+7 -> 40994 | G20: =F20+21 -> 41015 | H20: =G20+2 -> 41017 | I20: =H20+2 -> 41019 | J20: =I20+2 -> 41021 | K20: =J20+1 -> 41022 | L20: =K20+1 -> 41023
A21: =A17 -> SARA | B21: =B17+1 -> 85 | C21: =C17+7 -> 40983 | D21: =C21+3 -> 40986
A22: =A18 -> SIMA SAPPHIRE | B22: =B18+1 -> 408 | C22: =C18+7 -> 40986 | D22: =C22+3 -> 40989
E24: CMA CGM GEMINI 836W | F24: =F20+7 -> 41001 | G24: =F24+21 -> 41022 | H24: =G24+2 -> 41024 | I24: =H24+2 -> 41026 | J24: =I24+2 -> 41028 | K24: =J24+1 -> 41029 | L24: =K24+1 -> 41030
A25: =A21 -> SARA | B25: =B21+1 -> 86 | C25: =C21+7 -> 40990 | D25: =C25+3 -> 40993
A26: =A22 -> SIMA SAPPHIRE | B26: =B22+1 -> 409 | C26: =C22+7 -> 40993 | D26: =C26+3 -> 40996
E28: CMA CGM AMERIGO VESPUCCI 838W | F28: =F24+7 -> 41008 | G28: =F28+21 -> 41029 | H28: =G28+2 -> 41031 | I28: =H28+2 -> 41033 | J28: =I28+2 -> 41035 | K28: =J28+1 -> 41036 | L28: =K28+1 -> 41037
A29: =A25 -> SARA | B29: =B25+1 -> 87 | C29: =C25+7 -> 40997 | D29: =C29+3 -> 41000
A30: =A26 -> SIMA SAPPHIRE | B30: =B26+1 -> 410 | C30: =C26+7 -> 41000 | D30: =C30+3 -> 41003
E32: CMA CGM CENTAURUS 840W | F32: =F28+7 -> 41015 | G32: =F32+20 -> 41035 | H32: =G32+3 -> 41038 | I32: =H32+2 -> 41040 | J32: =I32+2 -> 41042 | K32: =J32+1 -> 41043 | L32: =K32+1 -> 41044
A33: CAPE FRIO | B33: 52 | C33: 41005 | D33: =C33+3 -> 41008
A34: =A30 -> SIMA SAPPHIRE | B34: =B30+1 -> 411 | C34: =C30+7 -> 41007 | D34: =C34+3 -> 41010
E36: CMA CGM CORTE REAL 842W | F36: =F32+9 -> 41024 | G36: =F36+19 -> 41043 | H36: =G36+2 -> 41045 | I36: =H36+2 -> 41047 | J36: =I36+2 -> 41049 | K36: =J36+1 -> 41050 | L36: =K36+1 -> 41051
A37: PAC ANTLIA | B37: 60 | C37: =C33+7 -> 41012 | D37: =C37+3 -> 41015
A38: =A34 -> SIMA SAPPHIRE | B38: =B34+1 -> 412 | C38: =C34+7 -> 41014 | D38: =C38+3 -> 41017
E40: MALIK AL ASHTAR 1216W | F40: =F36+5 -> 41029 | G40: =F40+21 -> 41050 | H40: =G40+2 -> 41052 | I40: =H40+2 -> 41054 | J40: =I40+2 -> 41056 | K40: =J40+1 -> 41057 | L40: =K40+1 -> 41058
A41: =A33 -> CAPE FRIO | B41: =B33+1 -> 53 | C41: =C37+7 -> 41019 | D41: =C41+3 -> 41022
A42: =A38 -> SIMA SAPPHIRE | B42: =B38+1 -> 413 | C42: =C38+7 -> 41021 | D42: =C42+3 -> 41024
E44: CMA CGM COLUMBA 846W | F44: =F40+7 -> 41036 | G44: =F44+21 -> 41057 | H44: =G44+2 -> 41059 | I44: =H44+2 -> 41061 | J44: =I44+2 -> 41063 | K44: =J44+1 -> 41064 | L44: =K44+1 -> 41065
A45: =A37 -> PAC ANTLIA | B45: =B37+1 -> 61 | C45: =C41+7 -> 41026 | D45: =C45+3 -> 41029
A46: =A42 -> SIMA SAPPHIRE | B46: =B42+1 -> 414 | C46: =C42+7 -> 41028 | D46: =C46+3 -> 41031
E48: AL QIBLA 1218W | F48: =F44+9 -> 41045 | G48: =F48+21 -> 41066 | H48: =G48+3 -> 41069 | I48: =H48+1 -> 41070 | J48: =I48+2 -> 41072 | K48: =J48+1 -> 41073 | L48: =K48+1 -> 41074
A49: =A41 -> CAPE FRIO | B49: =B41+1 -> 54 | C49: =C45+7 -> 41033 | D49: =C49+3 -> 41036
A50: =A46 -> SIMA SAPPHIRE | B50: =B46+1 -> 415 | C50: =C46+7 -> 41035 | D50: =C50+3 -> 41038
E52: CMA CGM CHRISTOPHE COLOMB 850W | F52: =F48+5 -> 41050 | G52: =F52+21 -> 41071 | H52: =G52+2 -> 41073 | I52: =H52+2 -> 41075 | J52: =I52+2 -> 41077 | K52: =J52+1 -> 41078 | L52: =K52+1 -> 41079
A53: =A45 -> PAC ANTLIA | B53: =B45+1 -> 62 | C53: =C49+7 -> 41040 | D53: =C53+3 -> 41043
A54: =A50 -> SIMA SAPPHIRE | B54: =B50+1 -> 416 | C54: =C50+7 -> 41042 | D54: =C54+3 -> 41045
E56: CMA CGM LAPEROUSE 852W | F56: =F52+7 -> 41057 | G56: =F56+21 -> 41078 | H56: =G56+2 -> 41080 | I56: =H56+2 -> 41082 | J56: =I56+2 -> 41084 | K56: =J56+1 -> 41085 | L56: =K56+1 -> 41086
A57: =A49 -> CAPE FRIO | B57: =B49+1 -> 55 | C57: =C53+7 -> 41047 | D57: =C57+3 -> 41050
A58: =A54 -> SIMA SAPPHIRE | B58: =B54+1 -> 417 | C58: =C54+7 -> 41049 | D58: =C58+3 -> 41052
E60: CMA CGM MAGELLAN 854W | F60: =F56+7 -> 41064 | G60: =F60+21 -> 41085 | H60: =G60+2 -> 41087 | I60: =H60+2 -> 41089 | J60: =I60+2 -> 41091 | K60: =J60+1 -> 41092 | L60: =K60+1 -> 41093
A61: GALLANT WAVE | B61: =B53+2 -> 64 | C61: =C57+6 -> 41053 | D61: =C61+3 -> 41056
A62: =A58 -> SIMA SAPPHIRE | B62: =B58+1 -> 418 | C62: =C58+7 -> 41056 | D62: =C62+3 -> 41059
E64: CMA CGM CASSIOPEIA 856W | F64: =F60+7 -> 41071 | G64: =F64+21 -> 41092 | H64: =G64+2 -> 41094 | I64: =H64+2 -> 41096 | J64: =I64+2 -> 41098 | K64: =J64+1 -> 41099 | L64: =K64+1 -> 41100
A65: =A57 -> CAPE FRIO | B65: =B57+1 -> 56 | C65: =C61+8 -> 41061 | D65: =C65+3 -> 41064
A66: =A62 -> SIMA SAPPHIRE | B66: =B62+1 -> 419 | C66: =C62+7 -> 41063 | D66: =C66+3 -> 41066
E68: CMA CGM GEMINI 858W | F68: =F64+7 -> 41078 | G68: =F68+21 -> 41099 | H68: =G68+2 -> 41101 | I68: =H68+2 -> 41103 | J68: =I68+2 -> 41105 | K68: =J68+1 -> 41106 | L68: =K68+1 -> 41107
A69: =A53 -> PAC ANTLIA | B69: =B61+1 -> 65 | C69: =C65+7 -> 41068 | D69: =C69+3 -> 41071
A70: =A66 -> SIMA SAPPHIRE | B70: =B66+1 -> 420 | C70: =C66+7 -> 41070 | D70: =C70+3 -> 41073
E72: CMA CGM AMERIGO VESPUCCI 860W | F72: =F68+7 -> 41085 | G72: =F72+21 -> 41106 | H72: =G72+2 -> 41108 | I72: =H72+2 -> 41110 | J72: =I72+2 -> 41112 | K72: =J72+1 -> 41113 | L72: =K72+1 -> 41114
A73: =A65 -> CAPE FRIO | B73: =B65+1 -> 57 | C73: =C69+7 -> 41075 | D73: =C73+3 -> 41078
A74: =A70 -> SIMA SAPPHIRE | B74: =B70+1 -> 421 | C74: =C70+7 -> 41077 | D74: =C74+3 -> 41080
E76: CMA CGM CENTAURUS 862W | F76: =F72+7 -> 41092 | G76: =F76+21 -> 41113 | H76: =G76+2 -> 41115 | I76: =H76+2 -> 41117 | J76: =I76+2 -> 41119 | K76: =J76+1 -> 41120 | L76: =K76+1 -> 41121
A77: =A69 -> PAC ANTLIA | B77: =B69+1 -> 66 | C77: =C73+7 -> 41082 | D77: =C77+3 -> 41085
A78: =A74 -> SIMA SAPPHIRE | B78: =B74+1 -> 422 | C78: =C74+7 -> 41084 | D78: =C78+3 -> 41087
E80: CMA CGM CORTE REAL 864W | F80: =F76+7 -> 41099 | G80: =F80+21 -> 41120 | H80: =G80+2 -> 41122 | I80: =H80+2 -> 41124 | J80: =I80+2 -> 41126 | K80: =J80+1 -> 41127 | L80: =K80+1 -> 41128
A81: =A73 -> CAPE FRIO | B81: =B73+1 -> 58 | C81: =C77+7 -> 41089 | D81: =C81+3 -> 41092
A82: =A78 -> SIMA SAPPHIRE | B82: =B78+1 -> 423 | C82: =C78+7 -> 41091 | D82: =C82+3 -> 41094
E84: MALIK AL ASHTAR 1227W | F84: =F80+7 -> 41106 | G84: =F84+21 -> 41127 | H84: =G84+2 -> 41129 | I84: =H84+2 -> 41131 | J84: =I84+2 -> 41133 | K84: =J84+1 -> 41134 | L84: =K84+1 -> 41135
A85: =A77 -> PAC ANTLIA | B85: =B77+1 -> 67 | C85: =C81+7 -> 41096 | D85: =C85+3 -> 41099
A86: =A82 -> SIMA SAPPHIRE | B86: =B82+1 -> 424 | C86: =C82+7 -> 41098 | D86: =C86+3 -> 41101
A89: THE ABOVE SAILING SCHEDULE IS SUBJECT TO CHANGE WITH/WITHOUT PRIOR NOTICE | H89: Person to contact :
A90: VIET HOA TRANSPORT SERVICE & TRADING CO., LTD. ( HEAD OFFICE 1) | I90: Office 1 : | K90: Ms. Simmi (84-8) 39402520 ( Ext : 122 )
A91: 284 Nguyen Tat Thanh Street, Dist. 4, Ho Chi Minh City, VietNam | I91: Office 2 : | K91: Ms. Jasmine (84-8) 38268533 ( Ext : 101 )
A92: Tel : (84-8) 39402520 (12 lines) Fax : (84-8) 39402601 / 39408933 / 39411087 | I92: Office 3 : | K92: Ms. Oanh (84-8) 62810240 ( Ext: 117 )
A93: Email : general@viethoagroup.com Website : www.viethoagroup.com

Sheet NE-AEC8
D3: HOCHIMINHCITY TO NORTH EUROPE
F4: AEC8 SERVICE
J6: Update: | K6: ='NE-AEC7 (DIRECTLY)'!$J$6 -> 41046
A7: FEEDER | B7: VOY | C7: ETD HCM | D7: ETA SIN | E7: ETA PKG | F7: MOTHER VESSEL | G7: ETA PKG | H7: LE HAVRE | I7: ROTTERDAM | J7: HAMBURG | K7: ZEEBRUGGE
A8: SARA | B8: 80 | C8: 40948 | D8: =#REF! -> #REF! | E8: 40951 | F8: AIN SNAN 1206W | G8: 40957 | H8: =G8+17 -> 40974 | I8: =H8+3 -> 40977 | J8: =I8+3 -> 40980 | K8: =H8+9 -> 40983
A9: =A8 -> SARA | B9: =B8+1 -> 81 | C9: =C8+7 -> 40955 | D9: =#REF! -> #REF! | E9: =C9+3 -> 40958 | F9: CSCL VENUS 0009W | G9: =G8+7 -> 40964 | H9: =G9+17 -> 40981 | I9: =H9+3 -> 40984 | J9: =I9+3 -> 40987 | K9: =H9+9 -> 40990
A10: =A9 -> SARA | B10: =B9+1 -> 82 | C10: =C9+7 -> 40962 | D10: =#REF! -> #REF! | E10: =C10+3 -> 40965 | F10: CSCL MERCURY 0007W | G10: =G9+7 -> 40971 | H10: =G10+17 -> 40988 | I10: =H10+3 -> 40991 | J10: =I10+3 -> 40994 | K10: =H10+9 -> 40997
A11: =A10 -> SARA | B11: =B10+1 -> 83 | C11: =C10+7 -> 40969 | D11: =#REF! -> #REF! | E11: =C11+3 -> 40972 | F11: CSCL JUPITER 0009W | G11: =G10+8 -> 40979 | H11: =G11+18 -> 40997 | I11: =H11+3 -> 41000 | J11: =I11+3 -> 41003 | K11: =H11+9 -> 41006
A12: =A11 -> SARA | B12: =B11+1 -> 84 | C12: =C11+7 -> 40976 | D12: =#REF! -> #REF! | E12: =C12+3 -> 40979 | F12: CSCL SATURN 0003W | G12: =G11+5 -> 40984 | H12: =G12+18 -> 41002 | I12: =H12+3 -> 41005 | J12: =I12+3 -> 41008 | K12: =H12+9 -> 41011
A13: =A12 -> SARA | B13: =B12+1 -> 85 | C13: =C12+7 -> 40983 | D13: =#REF! -> #REF! | E13: =C13+3 -> 40986 | F13: AL ULA 1211W | G13: =G12+7 -> 40991 | H13: =G13+19 -> 41010 | I13: =H13+3 -> 41013 | J13: =I13+2 -> 41015 | K13: =H13+8 -> 41018
A14: =A13 -> SARA | B14: =B13+1 -> 86 | C14: =C13+7 -> 40990 | D14: =#REF! -> #REF! | E14: =C14+3 -> 40993 | F14: CSCL MARS 0005W | G14: =G13+9 -> 41000 | H14: =G14+17 -> 41017 | I14: =H14+3 -> 41020 | J14: =I14+3 -> 41023 | K14: =H14+9 -> 41026
A15: =A14 -> SARA | B15: =B14+1 -> 87 | C15: =C14+7 -> 40997 | D15: =#REF! -> #REF! | E15: =C15+3 -> 41000 | F15: CMA CGM NEVADA 567W | G15: =G14+6 -> 41006 | H15: =G15+18 -> 41024 | I15: =H15+3 -> 41027 | J15: =I15+3 -> 41030 | K15: =H15+9 -> 41033
F16: AL RIFFA 1214W | G16: =G15+10 -> 41016 | H16: =G16+18 -> 41034 | I16: =H16+3 -> 41037 | J16: =I16+3 -> 41040 | K16: =H16+9 -> 41043
A17: ='NE-AEC2'!A33 -> CAPE FRIO | B17: ='NE-AEC2'!B33 -> 52 | C17: ='NE-AEC2'!C33 -> 41005 | D17: ='NE-AEC2'!D33 -> 41008 | E17: =C17+3 -> 41008
A18: ='NE-AEC2'!A34 -> SIMA SAPPHIRE | B18: ='NE-AEC2'!B34 -> 411 | C18: ='NE-AEC2'!C34 -> 41007 | D18: ='NE-AEC2'!D34 -> 41010 | E18: =C18+3 -> 41010
F20: CSCL STAR 0013W | G20: =G16+4 -> 41020 | H20: =G20+18 -> 41038 | I20: =H20+3 -> 41041 | J20: =I20+3 -> 41044 | K20: =H20+9 -> 41047
A21: ='NE-AEC2'!A37 -> PAC ANTLIA | B21: ='NE-AEC2'!B37 -> 60 | C21: ='NE-AEC2'!C37 -> 41012 | D21: ='NE-AEC2'!D37 -> 41015 | E21: =C21+3 -> 41015
A22: ='NE-AEC2'!A38 -> SIMA SAPPHIRE | B22: ='NE-AEC2'!B38 -> 412 | C22: ='NE-AEC2'!C38 -> 41014 | D22: ='NE-AEC2'!D38 -> 41017 | E22: =C22+3 -> 41017
F24: AIN SNAN 1216W | G24: =G20+8 -> 41028 | H24: =G24+18 -> 41046 | I24: =H24+3 -> 41049 | J24: =I24+3 -> 41052 | K24: =H24+9 -> 41055
A25: ='NE-AEC2'!A41 -> CAPE FRIO | B25: ='NE-AEC2'!B41 -> 53 | C25: ='NE-AEC2'!C41 -> 41019 | D25: ='NE-AEC2'!D41 -> 41022 | E25: =C25+3 -> 41022
A26: ='NE-AEC2'!A42 -> SIMA SAPPHIRE | B26: ='NE-AEC2'!B42 -> 413 | C26: ='NE-AEC2'!C42 -> 41021 | D26: ='NE-AEC2'!D42 -> 41024 | E26: =C26+3 -> 41024
F28: CSCL VENUS 0011W | G28: =G24+5 -> 41033 | H28: =G28+18 -> 41051 | I28: =H28+3 -> 41054 | J28: =I28+3 -> 41057 | K28: =H28+9 -> 41060
A29: ='NE-AEC2'!A45 -> PAC ANTLIA | B29: ='NE-AEC2'!B45 -> 61 | C29: ='NE-AEC2'!C45 -> 41026 | D29: ='NE-AEC2'!D45 -> 41029 | E29: =C29+3 -> 41029
A30: ='NE-AEC2'!A46 -> SIMA SAPPHIRE | B30: ='NE-AEC2'!B46 -> 414 | C30: ='NE-AEC2'!C46 -> 41028 | D30: ='NE-AEC2'!D46 -> 41031 | E30: =C30+3 -> 41031
F32: CSCL MERCURY 0009W | G32: =G28+9 -> 41042 | H32: =G32+17 -> 41059 | I32: =H32+3 -> 41062 | J32: =I32+3 -> 41065 | K32: =H32+9 -> 41068
A33: ='NE-AEC2'!A49 -> CAPE FRIO | B33: ='NE-AEC2'!B49 -> 54 | C33: ='NE-AEC2'!C49 -> 41033 | D33: ='NE-AEC2'!D49 -> 41036 | E33: =C33+3 -> 41036
A34: ='NE-AEC2'!A50 -> SIMA SAPPHIRE | B34: ='NE-AEC2'!B50 -> 415 | C34: ='NE-AEC2'!C50 -> 41035 | D34: ='NE-AEC2'!D50 -> 41038 | E34: =C34+3 -> 41038
F36: CSCL JUPITER 0011W | G36: =G32+5 -> 41047 | H36: =G36+18 -> 41065 | I36: =H36+3 -> 41068 | J36: =I36+3 -> 41071 | K36: =H36+9 -> 41074
A37: ='NE-AEC2'!A53 -> PAC ANTLIA | B37: ='NE-AEC2'!B53 -> 62 | C37: ='NE-AEC2'!C53 -> 41040 | D37: ='NE-AEC2'!D53 -> 41043 | E37: =C37+3 -> 41043
A38: ='NE-AEC2'!A54 -> SIMA SAPPHIRE | B38: ='NE-AEC2'!B54 -> 416 | C38: ='NE-AEC2'!C54 -> 41042 | D38: ='NE-AEC2'!D54 -> 41045 | E38: =C38+3 -> 41045
F40: CSCL SATURN 0005W | G40: =G36+7 -> 41054 | H40: =G40+18 -> 41072 | I40: =H40+3 -> 41075 | J40: =I40+3 -> 41078 | K40: =H40+9 -> 41081
A41: ='NE-AEC2'!A57 -> CAPE FRIO | B41: ='NE-AEC2'!B57 -> 55 | C41: ='NE-AEC2'!C57 -> 41047 | D41: ='NE-AEC2'!D57 -> 41050 | E41: =C41+3 -> 41050
A42: ='NE-AEC2'!A58 -> SIMA SAPPHIRE | B42: ='NE-AEC2'!B58 -> 417 | C42: ='NE-AEC2'!C58 -> 41049 | D42: ='NE-AEC2'!D58 -> 41052 | E42: =C42+3 -> 41052
F44: ALULA 1221W | G44: =G40+7 -> 41061 | H44: =G44+18 -> 41079 | I44: =H44+4 -> 41083 | J44: =I44+3 -> 41086 | K44: =H44+9 -> 41088
A45: ='NE-AEC2'!A61 -> GALLANT WAVE | B45: ='NE-AEC2'!B61 -> 64 | C45: ='NE-AEC2'!C61 -> 41053 | D45: ='NE-AEC2'!D61 -> 41056 | E45: =C45+3 -> 41056
A46: ='NE-AEC2'!A62 -> SIMA SAPPHIRE | B46: ='NE-AEC2'!B62 -> 418 | C46: ='NE-AEC2'!C62 -> 41056 | D46: ='NE-AEC2'!D62 -> 41059 | E46: =C46+3 -> 41059
F48: CSCL MARS 0007W | G48: =G44+7 -> 41068 | H48: =G48+18 -> 41086 | I48: =H48+3 -> 41089 | J48: =I48+3 -> 41092 | K48: =H48+9 -> 41095
A49: ='NE-AEC2'!A65 -> CAPE FRIO | B49: ='NE-AEC2'!B65 -> 56 | C49: ='NE-AEC2'!C65 -> 41061 | D49: ='NE-AEC2'!D65 -> 41064 | E49: =C49+3 -> 41064
A50: ='NE-AEC2'!A66 -> SIMA SAPPHIRE | B50: ='NE-AEC2'!B66 -> 419 | C50: ='NE-AEC2'!C66 -> 41063 | D50: ='NE-AEC2'!D66 -> 41066 | E50: =C50+3 -> 41066
F52: CMA CGM NEVADA 587W | G52: =G48+7 -> 41075 | H52: =G52+18 -> 41093 | I52: =H52+3 -> 41096 | J52: =I52+3 -> 41099 | K52: =H52+9 -> 41102
A53: ='NE-AEC2'!A69 -> PAC ANTLIA | B53: ='NE-AEC2'!B69 -> 65 | C53: ='NE-AEC2'!C69 -> 41068 | D53: ='NE-AEC2'!D69 -> 41071 | E53: =C53+3 -> 41071
A54: ='NE-AEC2'!A70 -> SIMA SAPPHIRE | B54: ='NE-AEC2'!B70 -> 420 | C54: ='NE-AEC2'!C70 -> 41070 | D54: ='NE-AEC2'!D70 -> 41073 | E54: =C54+3 -> 41073
F56: AL RIFFA 1224W | G56: =G52+7 -> 41082 | H56: =G56+18 -> 41100 | I56: =H56+3 -> 41103 | J56: =I56+3 -> 41106 | K56: =H56+9 -> 41109
A57: ='NE-AEC2'!A73 -> CAPE FRIO | B57: ='NE-AEC2'!B73 -> 57 | C57: ='NE-AEC2'!C73 -> 41075 | D57: ='NE-AEC2'!D73 -> 41078 | E57: =C57+3 -> 41078
A58: ='NE-AEC2'!A74 -> SIMA SAPPHIRE | B58: ='NE-AEC2'!B74 -> 421 | C58: ='NE-AEC2'!C74 -> 41077 | D58: ='NE-AEC2'!D74 -> 41080 | E58: =C58+3 -> 41080
F60: CSCL STAR 0015W | G60: =G56+7 -> 41089 | H60: =G60+18 -> 41107 | I60: =H60+3 -> 41110 | J60: =I60+3 -> 41113 | K60: =H60+9 -> 41116
A61: ='NE-AEC2'!A77 -> PAC ANTLIA | B61: ='NE-AEC2'!B77 -> 66 | C61: ='NE-AEC2'!C77 -> 41082 | D61: ='NE-AEC2'!D77 -> 41085 | E61: =C61+3 -> 41085
A62: ='NE-AEC2'!A78 -> SIMA SAPPHIRE | B62: ='NE-AEC2'!B78 -> 422 | C62: ='NE-AEC2'!C78 -> 41084 | D62: ='NE-AEC2'!D78 -> 41087 | E62: =C62+3 -> 41087
F64: AIN SNAN 1226W | G64: =G60+7 -> 41096 | H64: =G64+18 -> 41114 | I64: =H64+3 -> 41117 | J64: =I64+3 -> 41120 | K64: =H64+9 -> 41123
A65: ='NE-AEC2'!A81 -> CAPE FRIO | B65: ='NE-AEC2'!B81 -> 58 | C65: ='NE-AEC2'!C81 -> 41089 | D65: ='NE-AEC2'!D81 -> 41092 | E65: =C65+3 -> 41092
A66: ='NE-AEC2'!A82 -> SIMA SAPPHIRE | B66: ='NE-AEC2'!B82 -> 423 | C66: ='NE-AEC2'!C82 -> 41091 | D66: ='NE-AEC2'!D82 -> 41094 | E66: =C66+3 -> 41094
F68: CSCL VENUS 0013W | G68: =G64+7 -> 41103 | H68: =G68+18 -> 41121 | I68: =H68+3 -> 41124 | J68: =I68+3 -> 41127 | K68: =H68+9 -> 41130
A69: ='NE-AEC2'!A85 -> PAC ANTLIA | B69: ='NE-AEC2'!B85 -> 67 | C69: ='NE-AEC2'!C85 -> 41096 | D69: ='NE-AEC2'!D85 -> 41099 | E69: =C69+3 -> 41099
A70: ='NE-AEC2'!A86 -> SIMA SAPPHIRE | B70: ='NE-AEC2'!B86 -> 424 | C70: ='NE-AEC2'!C86 -> 41098 | D70: ='NE-AEC2'!D86 -> 41101 | E70: =C70+3 -> 41101
A73: THE ABOVE SAILING SCHEDULE IS SUBJECT TO CHANGE WITH/WITHOUT PRIOR NOTICE | H73: Person to contact :
A74: VIET HOA TRANSPORT SERVICE & TRADING CO., LTD. ( HEAD OFFICE 1) | I74: Office 1 : | K74: Ms. Simmi (84-8) 39402520 ( Ext : 122 )
A75: 284 Nguyen Tat Thanh Street, Dist. 4, Ho Chi Minh City, VietNam | I75: Office 2 : | K75: Ms. Jasmine (84-8) 38268533 ( Ext : 101 )
A76: Tel : (84-8) 39402520 (12 lines) Fax : (84-8) 39402601 / 39408933 / 39411087 | I76: Office 3 : | K76: Ms. Oanh (84-8) 62810240 ( Ext: 117 )
A77: Email : general@viethoagroup.com Website : www.viethoagroup.com

Sheet RS-AEC8
E3: HOCHIMINHCITY TO RED SEA PORTS
L5: Update: | M5: ='NE-AEC7 (DIRECTLY)'!$J$6 -> 41046
A6: FEEDER | B6: VOY | C6: ETD HCM | D6: ETA PKG | E6: MOTHER VESSEL | F6: ETA PKG | G6: Jeddah | H6: AQABA | I6: HODEIDAH | J6: PORT SUDAN | K6: ADEN | L6: DJIBOUTI | M6: SOKHNA PORT
A7: =#REF! -> #REF! | B7: =#REF! -> #REF! | C7: =#REF! -> #REF! | D7: =#REF! -> #REF! | E7: =#REF! -> #REF! | F7: 40619 | G7: =F7+10 -> 40629 | H7: =M7+2 -> 40633 | I7: =M7+2 -> 40633 | J7: =H7+3 -> 40636 | K7: =J7+2 -> 40638 | L7: =H7+2 -> 40635 | M7: =G7+2 -> 40631
A8: =#REF! -> #REF! | B8: =#REF! -> #REF! | C8: =#REF! -> #REF! | D8: =#REF! -> #REF! | E8: =#REF! -> #REF! | F8: =F7+7 -> 40626 | G8: =F8+10 -> 40636 | H8: =M8+2 -> 40640 | I8: =M8+2 -> 40640 | J8: =H8+3 -> 40643 | K8: =J8+2 -> 40645 | L8: =H8+2 -> 40642 | M8: =G8+2 -> 40638
A9: =#REF! -> #REF! | B9: =#REF! -> #REF! | C9: =#REF! -> #REF! | D9: =#REF! -> #REF! | E9: =#REF! -> #REF! | F9: =F8+7 -> 40633 | G9: =F9+10 -> 40643 | H9: =M9+2 -> 40647 | I9: =M9+2 -> 40647 | J9: =H9+3 -> 40650 | K9: =J9+2 -> 40652 | L9: =H9+2 -> 40649 | M9: =G9+2 -> 40645
A10: =#REF! -> #REF! | B10: =#REF! -> #REF! | C10: =#REF! -> #REF! | D10: =#REF! -> #REF! | E10: =#REF! -> #REF! | F10: =F9+7 -> 40640 | G10: =F10+10 -> 40650 | H10: =M10+2 -> 40654 | I10: =M10+2 -> 40654 | J10: =H10+3 -> 40657 | K10: =J10+2 -> 40659 | L10: =H10+2 -> 40656 | M10: =G10+2 -> 40652
A11: =#REF! -> #REF! | B11: =#REF! -> #REF! | C11: =#REF! -> #REF! | D11: =#REF! -> #REF! | E11: =#REF! -> #REF! | F11: =F10+7 -> 40647 | G11: =F11+10 -> 40657 | H11: =M11+2 -> 40661 | I11: =M11+2 -> 40661 | J11: =H11+3 -> 40664 | K11: =J11+2 -> 40666 | L11: =H11+2 -> 40663 | M11: =G11+2 -> 40659
A12: =#REF! -> #REF! | B12: =#REF! -> #REF! | C12: =#REF! -> #REF! | D12: =#REF! -> #REF! | E12: =#REF! -> #REF! | F12: =F11+7 -> 40654 | G12: =F12+10 -> 40664 | H12: =M12+2 -> 40668 | I12: =M12+2 -> 40668 | J12: =H12+3 -> 40671 | K12: =J12+2 -> 40673 | L12: =H12+2 -> 40670 | M12: =G12+2 -> 40666
A13: =#REF! -> #REF! | B13: =#REF! -> #REF! | C13: =#REF! -> #REF! | D13: =#REF! -> #REF! | E13: =#REF! -> #REF! | F13: =F12+7 -> 40661 | G13: =F13+10 -> 40671 | H13: =M13+2 -> 40675 | I13: =M13+2 -> 40675 | J13: =H13+3 -> 40678 | K13: =J13+2 -> 40680 | L13: =H13+2 -> 40677 | M13: =G13+2 -> 40673
A14: =#REF! -> #REF! | B14: =#REF! -> #REF! | C14: =#REF! -> #REF! | D14: =#REF! -> #REF! | E14: =#REF! -> #REF! | F14: =F13+7 -> 40668 | G14: =F14+10 -> 40678 | H14: =M14+2 -> 40682 | I14: =M14+2 -> 40682 | J14: =H14+3 -> 40685 | K14: =J14+2 -> 40687 | L14: =H14+2 -> 40684 | M14: =G14+2 -> 40680
A15: =#REF! -> #REF! | B15: =#REF! -> #REF! | C15: =#REF! -> #REF! | D15: =#REF! -> #REF! | E15: =#REF! -> #REF! | F15: =F14+7 -> 40675 | G15: =F15+12 -> 40687 | H15: =M15+2 -> 40691 | I15: =M15+2 -> 40691 | J15: =H15+3 -> 40694 | K15: =J15+2 -> 40696 | L15: =H15+2 -> 40693 | M15: =G15+2 -> 40689
A16: =#REF! -> #REF! | B16: =#REF! -> #REF! | C16: =#REF! -> #REF! | D16: =#REF! -> #REF! | E16: =#REF! -> #REF! | F16: =F15+7 -> 40682 | G16: =F16+11 -> 40693 | H16: =M16+2 -> 40697 | I16: =M16+2 -> 40697 | J16: =H16+3 -> 40700 | K16: =J16+2 -> 40702 | L16: =H16+2 -> 40699 | M16: =G16+2 -> 40695
A17: =#REF! -> #REF! | B17: =#REF! -> #REF! | C17: =#REF! -> #REF! | D17: =#REF! -> #REF! | E17: =#REF! -> #REF! | F17: =F16+7 -> 40689 | G17: =F17+11 -> 40700 | H17: =M17+2 -> 40704 | I17: =M17+2 -> 40704 | J17: =H17+3 -> 40707 | K17: =J17+2 -> 40709 | L17: =H17+2 -> 40706 | M17: =G17+2 -> 40702
A18: =#REF! -> #REF! | B18: =#REF! -> #REF! | C18: =#REF! -> #REF! | D18: =#REF! -> #REF! | E18: =#REF! -> #REF! | F18: =F17+7 -> 40696 | G18: =F18+10 -> 40706 | H18: =M18+2 -> 40710 | I18: =M18+2 -> 40710 | J18: =H18+3 -> 40713 | K18: =J18+2 -> 40715 | L18: =H18+2 -> 40712 | M18: =G18+2 -> 40708
A19: =#REF! -> #REF! | B19: =#REF! -> #REF! | C19: =#REF! -> #REF! | D19: =#REF! -> #REF! | E19: =#REF! -> #REF! | F19: =F18+7 -> 40703 | G19: =F19+10 -> 40713 | H19: =M19+2 -> 40717 | I19: =M19+2 -> 40717 | J19: =H19+3 -> 40720 | K19: =J19+2 -> 40722 | L19: =H19+2 -> 40719 | M19: =G19+2 -> 40715
A20: =#REF! -> #REF! | B20: =#REF! -> #REF! | C20: =#REF! -> #REF! | D20: =#REF! -> #REF! | E20: =#REF! -> #REF! | F20: =F19+7 -> 40710 | G20: =F20+10 -> 40720 | H20: =M20+2 -> 40724 | I20: =M20+2 -> 40724 | J20: =H20+3 -> 40727 | K20: =J20+2 -> 40729 | L20: =H20+2 -> 40726 | M20: =G20+2 -> 40722
A21: =#REF! -> #REF! | B21: =#REF! -> #REF! | C21: =#REF! -> #REF! | D21: =#REF! -> #REF! | E21: =#REF! -> #REF! | F21: =F20+7 -> 40717 | G21: =F21+10 -> 40727 | H21: =M21+2 -> 40731 | I21: =M21+2 -> 40731 | J21: =H21+3 -> 40734 | K21: =J21+2 -> 40736 | L21: =H21+2 -> 40733 | M21: =G21+2 -> 40729
A22: =#REF! -> #REF! | B22: =#REF! -> #REF! | C22: =#REF! -> #REF! | D22: =#REF! -> #REF! | E22: =#REF! -> #REF! | F22: =F21+7 -> 40724 | G22: =F22+10 -> 40734 | H22: =M22+2 -> 40738 | I22: =M22+2 -> 40738 | J22: =H22+3 -> 40741 | K22: =J22+2 -> 40743 | L22: =H22+2 -> 40740 | M22: =G22+2 -> 40736
A23: =#REF! -> #REF! | B23: =#REF! -> #REF! | C23: =#REF! -> #REF! | D23: =#REF! -> #REF! | E23: =#REF! -> #REF! | F23: =F22+7 -> 40731 | G23: =F23+10 -> 40741 | H23: =M23+2 -> 40745 | I23: =M23+2 -> 40745 | J23: =H23+3 -> 40748 | K23: =J23+2 -> 40750 | L23: =H23+2 -> 40747 | M23: =G23+2 -> 40743
A24: =#REF! -> #REF! | B24: =#REF! -> #REF! | C24: =#REF! -> #REF! | D24: =#REF! -> #REF! | E24: =#REF! -> #REF! | F24: =F23+7 -> 40738 | G24: =F24+10 -> 40748 | H24: =M24+2 -> 40752 | I24: =M24+2 -> 40752 | J24: =H24+3 -> 40755 | K24: =J24+2 -> 40757 | L24: =H24+2 -> 40754 | M24: =G24+2 -> 40750
A25: =#REF! -> #REF! | B25: =#REF! -> #REF! | C25: =#REF! -> #REF! | D25: =#REF! -> #REF! | E25: =#REF! -> #REF! | F25: =F24+7 -> 40745 | G25: =F25+10 -> 40755 | H25: =M25+2 -> 40759 | I25: =M25+2 -> 40759 | J25: =H25+3 -> 40762 | K25: =J25+2 -> 40764 | L25: =H25+2 -> 40761 | M25: =G25+2 -> 40757
A26: =#REF! -> #REF! | B26: =#REF! -> #REF! | C26: =#REF! -> #REF! | D26: =#REF! -> #REF! | E26: =#REF! -> #REF! | F26: =F25+7 -> 40752 | G26: =F26+10 -> 40762 | H26: =M26+2 -> 40766 | I26: =M26+2 -> 40766 | J26: =H26+3 -> 40769 | K26: =J26+2 -> 40771 | L26: =H26+2 -> 40768 | M26: =G26+2 -> 40764
A27: =#REF! -> #REF! | B27: =#REF! -> #REF! | C27: =#REF! -> #REF! | D27: =#REF! -> #REF! | E27: =#REF! -> #REF! | F27: =F26+7 -> 40759 | G27: =F27+10 -> 40769 | H27: =M27+2 -> 40773 | I27: =M27+2 -> 40773 | J27: =H27+3 -> 40776 | K27: =J27+2 -> 40778 | L27: =H27+2 -> 40775 | M27: =G27+2 -> 40771
A28: =#REF! -> #REF! | B28: =#REF! -> #REF! | C28: =#REF! -> #REF! | D28: =#REF! -> #REF! | E28: =#REF! -> #REF! | F28: =F27+7 -> 40766 | G28: =F28+10 -> 40776 | H28: =G28+7 -> 40783 | I28: =L28+1 -> 40787 | J28: =G28+4 -> 40780 | K28: =M28+1 -> 40785 | L28: =K28+1 -> 40786 | M28: =H28+1 -> 40784
A29: =#REF! -> #REF! | B29: =#REF! -> #REF! | C29: =#REF! -> #REF! | D29: =#REF! -> #REF! | E29: =#REF! -> #REF! | F29: =F28+7 -> 40773 | G29: =F29+10 -> 40783 | H29: =G29+7 -> 40790 | I29: =L29+1 -> 40794 | J29: =G29+4 -> 40787 | K29: =M29+1 -> 40792 | L29: =K29+1 -> 40793 | M29: =H29+1 -> 40791
A30: =#REF! -> #REF! | B30: =#REF! -> #REF! | C30: =#REF! -> #REF! | D30: =#REF! -> #REF! | E30: =#REF! -> #REF! | F30: =F29+7 -> 40780 | G30: =F30+10 -> 40790 | H30: =G30+8 -> 40798 | I30: =L30+1 -> 40802 | J30: =G30+4 -> 40794 | K30: =M30+1 -> 40800 | L30: =K30+1 -> 40801 | M30: =H30+1 -> 40799
A31: =#REF! -> #REF! | B31: =#REF! -> #REF! | C31: =#REF! -> #REF! | D31: =#REF! -> #REF! | E31: =#REF! -> #REF! | F31: =F30+7 -> 40787 | G31: =F31+10 -> 40797 | H31: =G31+7 -> 40804 | I31: =L31+1 -> 40808 | J31: =G31+4 -> 40801 | K31: =M31+1 -> 40806 | L31: =K31+1 -> 40807 | M31: =H31+1 -> 40805
A32: =#REF! -> #REF! | B32: =#REF! -> #REF! | C32: =#REF! -> #REF! | D32: =#REF! -> #REF! | E32: =#REF! -> #REF! | F32: =F31+7 -> 40794 | G32: =F32+10 -> 40804 | H32: =G32+7 -> 40811 | I32: =L32+1 -> 40815 | J32: =G32+4 -> 40808 | K32: =M32+1 -> 40813 | L32: =K32+1 -> 40814 | M32: =H32+1 -> 40812
A33: =#REF! -> #REF! | B33: =#REF! -> #REF! | C33: =#REF! -> #REF! | D33: =#REF! -> #REF! | E33: =#REF! -> #REF! | F33: =F32+7 -> 40801 | G33: =F33+10 -> 40811 | H33: =G33+7 -> 40818 | I33: =L33+1 -> 40822 | J33: =G33+4 -> 40815 | K33: =M33+1 -> 40820 | L33: =K33+1 -> 40821 | M33: =H33+1 -> 40819
A34: =#REF! -> #REF! | B34: =#REF! -> #REF! | C34: =#REF! -> #REF! | D34: =#REF! -> #REF! | E34: =#REF! -> #REF! | F34: =F33+7 -> 40808 | G34: =F34+10 -> 40818 | H34: =G34+7 -> 40825 | I34: =L34+1 -> 40829 | J34: =G34+4 -> 40822 | K34: =M34+1 -> 40827 | L34: =K34+1 -> 40828 | M34: =H34+1 -> 40826
A35: =#REF! -> #REF! | B35: =#REF! -> #REF! | C35: =#REF! -> #REF! | D35: =#REF! -> #REF! | E35: =#REF! -> #REF! | F35: =F34+7 -> 40815 | G35: =F35+10 -> 40825 | H35: =G35+7 -> 40832 | I35: =L35+1 -> 40836 | J35: =G35+4 -> 40829 | K35: =M35+1 -> 40834 | L35: =K35+1 -> 40835 | M35: =H35+1 -> 40833
A36: =#REF! -> #REF! | B36: =#REF! -> #REF! | C36: =#REF! -> #REF! | D36: =#REF! -> #REF! | E36: =#REF! -> #REF! | F36: =F35+7 -> 40822 | G36: =F36+10 -> 40832 | H36: =G36+7 -> 40839 | I36: =L36+1 -> 40843 | J36: =G36+4 -> 40836 | K36: =M36+1 -> 40841 | L36: =K36+1 -> 40842 | M36: =H36+1 -> 40840
A37: =#REF! -> #REF! | B37: =#REF! -> #REF! | C37: =#REF! -> #REF! | D37: =#REF! -> #REF! | E37: =#REF! -> #REF! | F37: =F36+7 -> 40829 | G37: =F37+10 -> 40839 | H37: =G37+7 -> 40846 | I37: =L37+1 -> 40850 | J37: =G37+4 -> 40843 | K37: =M37+1 -> 40848 | L37: =K37+1 -> 40849 | M37: =H37+1 -> 40847
A38: =#REF! -> #REF! | B38: =#REF! -> #REF! | C38: =#REF! -> #REF! | D38: =#REF! -> #REF! | E38: =#REF! -> #REF! | F38: =F37+7 -> 40836 | G38: =F38+10 -> 40846 | H38: =G38+7 -> 40853 | I38: =L38+1 -> 40857 | J38: =G38+4 -> 40850 | K38: =M38+1 -> 40855 | L38: =K38+1 -> 40856 | M38: =H38+1 -> 40854
A39: =#REF! -> #REF! | B39: =#REF! -> #REF! | C39: =#REF! -> #REF! | D39: =#REF! -> #REF! | E39: =#REF! -> #REF! | F39: =F38+7 -> 40843 | G39: =F39+10 -> 40853 | H39: =G39+7 -> 40860 | I39: =L39+1 -> 40864 | J39: =G39+4 -> 40857 | K39: =M39+1 -> 40862 | L39: =K39+1 -> 40863 | M39: =H39+1 -> 40861
A40: =#REF! -> #REF! | B40: =#REF! -> #REF! | C40: =#REF! -> #REF! | D40: =#REF! -> #REF! | E40: =#REF! -> #REF! | F40: =F39+7 -> 40850 | G40: =F40+10 -> 40860 | H40: =G40+7 -> 40867 | I40: =L40+1 -> 40871 | J40: =G40+4 -> 40864 | K40: =M40+1 -> 40869 | L40: =K40+1 -> 40870 | M40: =H40+1 -> 40868
A41: =#REF! -> #REF! | B41: =#REF! -> #REF! | C41: =#REF! -> #REF! | D41: =#REF! -> #REF! | E41: =#REF! -> #REF! | F41: =F40+7 -> 40857 | G41: =F41+10 -> 40867 | H41: =G41+7 -> 40874 | I41: =L41+1 -> 40878 | J41: =G41+4 -> 40871 | K41: =M41+1 -> 40876 | L41: =K41+1 -> 40877 | M41: =H41+1 -> 40875
A42: =#REF! -> #REF! | B42: =#REF! -> #REF! | C42: =#REF! -> #REF! | D42: =#REF! -> #REF! | E42: =#REF! -> #REF! | F42: =F41+7 -> 40864 | G42: =F42+10 -> 40874 | H42: =G42+7 -> 40881 | I42: =L42+1 -> 40885 | J42: =G42+4 -> 40878 | K42: =M42+1 -> 40883 | L42: =K42+1 -> 40884 | M42: =H42+1 -> 40882
... A44: =#REF! -> #REF! | B44: =#REF! -> #REF! | C44: =#REF! -> #REF! | D44: =#REF! -> #REF! | E44: =#REF! -> #REF! | F44: =F43+7 -> 40878 | G44: =F44+10 -> 40888 | H44: =G44+7 -> 40895 | I44: =L44+1 -> 40899 | J44: =G44+4 -> 40892 | K44: =M44+1 -> 40897 | L44: =K44+1 -> 40898 | M44: =H44+1 -> 40896
A45: =#REF! -> #REF! | B45: =#REF! -> #REF! | C45: =#REF! -> #REF! | D45: =#REF! -> #REF! | E45: =#REF! -> #REF! | F45: =F44+7 -> 40885 | G45: =F45+10 -> 40895 | H45: =G45+2 -> 40897 | I45: =G45+3 -> 40898 | J45: =G45+5 -> 40900 | K45: =G45+5 -> 40900 | L45: =G45+7 -> 40902 | M45: =G45+8 -> 40903
A46: =#REF! -> #REF! | B46: =#REF! -> #REF! | C46: =#REF! -> #REF! | D46: =#REF! -> #REF! | E46: =#REF! -> #REF! | F46: =F45+7 -> 40892 | G46: =F46+10 -> 40902 | H46: =G46+2 -> 40904 | I46: =G46+3 -> 40905 | J46: =G46+5 -> 40907 | K46: =G46+5 -> 40907 | L46: =G46+7 -> 40909 | M46: =G46+8 -> 40910
A47: =#REF! -> #REF! | B47: =#REF! -> #REF! | C47: =#REF! -> #REF! | D47: =#REF! -> #REF! | E47: =#REF! -> #REF! | F47: =F46+7 -> 40899 | G47: =F47+10 -> 40909 | H47: =G47+2 -> 40911 | I47: =G47+3 -> 40912 | J47: =G47+5 -> 40914 | K47: =G47+5 -> 40914 | L47: =G47+7 -> 40916 | M47: =G47+8 -> 40917
A48: =#REF! -> #REF! | B48: =#REF! -> #REF! | C48: =#REF! -> #REF! | D48: =#REF! -> #REF! | E48: =#REF! -> #REF! | F48: =F47+7 -> 40906 | G48: =F48+10 -> 40916 | H48: =G48+2 -> 40918 | I48: =G48+3 -> 40919 | J48: =G48+5 -> 40921 | K48: =G48+5 -> 40921 | L48: =G48+7 -> 40923 | M48: =G48+8 -> 40924
A49: =#REF! -> #REF! | B49: =#REF! -> #REF! | C49: =#REF! -> #REF! | D49: =#REF! -> #REF! | E49: =#REF! -> #REF! | F49: =F48+7 -> 40913 | G49: =F49+10 -> 40923 | H49: =G49+2 -> 40925 | I49: =G49+3 -> 40926 | J49: =G49+5 -> 40928 | K49: =G49+5 -> 40928 | L49: =G49+7 -> 40930 | M49: =G49+8 -> 40931
A50: =#REF! -> #REF! | B50: =#REF! -> #REF! | C50: =#REF! -> #REF! | D50: =#REF! -> #REF! | E50: =#REF! -> #REF! | F50: =F49+7 -> 40920 | G50: =F50+10 -> 40930 | H50: =G50+2 -> 40932 | I50: =G50+3 -> 40933 | J50: =G50+5 -> 40935 | K50: =G50+5 -> 40935 | L50: =G50+7 -> 40937 | M50: =G50+8 -> 40938
A51: =#REF! -> #REF! | B51: =#REF! -> #REF! | C51: =#REF! -> #REF! | D51: =#REF! -> #REF! | E51: =#REF! -> #REF! | F51: =F50+7 -> 40927 | G51: =F51+10 -> 40937 | H51: =G51+2 -> 40939 | I51: =G51+3 -> 40940 | J51: =G51+5 -> 40942 | K51: =G51+5 -> 40942 | L51: =G51+7 -> 40944 | M51: =G51+8 -> 40945
A52: SARA | B52: =#REF! -> #REF! | C52: =#REF! -> #REF! | D52: =#REF! -> #REF! | E52: =#REF! -> #REF! | F52: =F51+7 -> 40934 | G52: =F52+10 -> 40944 | H52: =G52+2 -> 40946 | I52: =G52+3 -> 40947 | J52: =G52+5 -> 40949 | K52: =G52+5 -> 40949 | L52: =G52+7 -> 40951 | M52: =G52+8 -> 40952
A53: =A52 -> SARA | B53: =B52+1 -> #REF! | C53: =#REF! -> #REF! | D53: =#REF! -> #REF! | E53: =#REF! -> #REF! | F53: =F52+7 -> 40941 | G53: =F53+10 -> 40951 | H53: =G53+2 -> 40953 | I53: =G53+3 -> 40954 | J53: =G53+5 -> 40956 | K53: =G53+5 -> 40956 | L53: =G53+7 -> 40958 | M53: =G53+8 -> 40959
A54: OMIT | B54: =B53+1 -> #REF! | C54: =C53+7 -> #REF! | D54: =D53+7 -> #REF! | E54: =#REF! -> #REF! | F54: =F53+7 -> 40948 | G54: =F54+10 -> 40958 | H54: =G54+2 -> 40960 | I54: =G54+3 -> 40961 | J54: =G54+5 -> 40963 | K54: =G54+5 -> 40963 | L54: =G54+7 -> 40965 | M54: =G54+8 -> 40966
A55: SARA | B55: 80 | C55: 40948 | D55: =C55+3 -> 40951 | E55: OMIT | F55: 40948 | G55: =F55+10 -> 40958 | H55: =G55+2 -> 40960 | I55: =G55+3 -> 40961 | J55: =G55+5 -> 40963 | K55: =G55+5 -> 40963 | L55: =G55+7 -> 40965 | M55: =G55+8 -> 40966
A56: =A55 -> SARA | B56: 81 | C56: 40955 | D56: =C56+3 -> 40958 | E56: AL BAHIA 1206W | F56: =F55+7 -> 40955 | G56: =F56+10 -> 40965 | H56: =G56+2 -> 40967 | I56: =G56+3 -> 40968 | J56: =G56+5 -> 40970 | K56: =G56+5 -> 40970 | L56: =G56+7 -> 40972 | M56: =G56+8 -> 40973
A57: FEEDER | B57: VOY | C57: ETD HCM | D57: ETA PKG | E57: MOTHER VESSEL | F57: ETA PKG | G57: Jeddah | H57: AQABA | I57: HODEIDAH | J57: PORT SUDAN | K57: ADEN | L57: DJIBOUTI | M57: SOKHNA PORT
A58: SARA | B58: 82 | C58: 40962 | D58: =C58+3 -> 40965 | E58: CSCL JUPITER 0009W | F58: 40977 | G58: =F58+9 -> 40986 | H58: =G58+6 -> 40992 | I58: =G58+7 -> 40993 | J58: =G58+4 -> 40990 | K58: =G58+5 -> 40991 | L58: =G58+7 -> 40993 | M58: =G58+4 -> 40990
A59: =A58 -> SARA | B59: =B58+1 -> 83 | C59: =C58+7 -> 40969 | D59: =D58+7 -> 40972
A60: =A59 -> SARA | B60: =B59+1 -> 84 | C60: =C59+7 -> 40976 | D60: =D59+7 -> 40979 | E60: CSCL SATURN 0003W | F60: =F58+7 -> 40984 | G60: =F60+10 -> 40994 | H60: =G60+5 -> 40999 | I60: =G60+7 -> 41001 | J60: =G60+3 -> 40997 | K60: =G60+5 -> 40999 | L60: =G60+7 -> 41001 | M60: =G60+5 -> 40999
A61: =A60 -> SARA | B61: =B60+1 -> 85 | C61: =C60+7 -> 40983 | D61: =D60+7 -> 40986 | E61: AL ULA 1211W | F61: =F60+7 -> 40991 | G61: =F61+10 -> 41001 | H61: =G61+5 -> 41006 | I61: =G61+7 -> 41008 | J61: =G61+4 -> 41005 | K61: =G61+5 -> 41006 | L61: =G61+7 -> 41008 | M61: =G61+5 -> 41006
A62: =A61 -> SARA | B62: =B61+1 -> 86 | C62: =C61+7 -> 40990 | D62: =D61+7 -> 40993 | E62: CSCL MARS 0005W | F62: =F61+7 -> 40998 | G62: =F62+10 -> 41008 | H62: =G62+7 -> 41015 | I62: =G62+8 -> 41016 | J62: =G62+4 -> 41012 | K62: =G62+11 -> 41019 | L62: =G62+13 -> 41021 | M62: =G62+7 -> 41015
A63: =A62 -> SARA | B63: =B62+1 -> 87 | C63: =C62+7 -> 40997 | D63: =D62+7 -> 41000 | E63: ='NE-AEC8'!F15 -> CMA CGM NEVADA 567W | F63: ='NE-AEC8'!G15 -> 41006 | G63: =F63+10 -> 41016 | H63: =G63+7 -> 41023 | I63: =G63+7 -> 41023 | J63: =G63+3 -> 41019 | K63: =G63+4 -> 41020 | L63: =G63+6 -> 41022 | M63: =G63+6 -> 41022
E64: ='NE-AEC8'!F16 -> AL RIFFA 1214W | F64: ='NE-AEC8'!$G$16 -> 41016 | G64: =F64+10 -> 41026 | H64: =G64+5 -> 41031 | I64: =G64+5 -> 41031 | J64: =G64+2 -> 41028 | K64: =G64+6 -> 41032 | L64: =G64+7 -> 41033 | M64: =G64+5 -> 41031
A65: ='NE-AEC8'!A17 -> CAPE FRIO | B65: ='NE-AEC8'!B17 -> 52 | C65: ='NE-AEC8'!C17 -> 41005 | D65: ='NE-AEC8'!D17 -> 41008
A66: ='NE-AEC8'!A18 -> SIMA SAPPHIRE | B66: ='NE-AEC8'!B18 -> 411 | C66: ='NE-AEC8'!C18 -> 41007 | D66: ='NE-AEC8'!D18 -> 41010
E68: ='NE-AEC8'!F20 -> CSCL STAR 0013W | F68: ='NE-AEC8'!$G$20 -> 41020 | G68: =F68+9 -> 41029 | H68: =G68+8 -> 41037 | I68: =G68+9 -> 41038 | J68: =G68+5 -> 41034 | K68: =G68+10 -> 41039 | L68: =G68+11 -> 41040 | M68: =G68+8 -> 41037
A69: ='NE-AEC8'!A21 -> PAC ANTLIA | B69: ='NE-AEC8'!B21 -> 60 | C69: ='NE-AEC8'!C21 -> 41012 | D69: ='NE-AEC8'!D21 -> 41015
A70: ='NE-AEC8'!A22 -> SIMA SAPPHIRE | B70: ='NE-AEC8'!B22 -> 412 | C70: ='NE-AEC8'!C22 -> 41014 | D70: ='NE-AEC8'!D22 -> 41017
E72: ='NE-AEC8'!F24 -> AIN SNAN 1216W | F72: ='NE-AEC8'!$G$24 -> 41028 | G72: =F72+9 -> 41037 | H72: =G72+8 -> 41045 | I72: =G72+10 -> 41047 | J72: =G72+5 -> 41042 | K72: =G72+11 -> 41048 | L72: =G72+13 -> 41050 | M72: =G72+9 -> 41046
A73: ='NE-AEC8'!A25 -> CAPE FRIO | B73: ='NE-AEC8'!B25 -> 53 | C73: ='NE-AEC8'!C25 -> 41019 | D73: ='NE-AEC8'!D25 -> 41022
A74: ='NE-AEC8'!A26 -> SIMA SAPPHIRE | B74: ='NE-AEC8'!B26 -> 413 | C74: ='NE-AEC8'!C26 -> 41021 | D74: ='NE-AEC8'!D26 -> 41024
E76: ='NE-AEC8'!F28 -> CSCL VENUS 0011W | F76: ='NE-AEC8'!$G$28 -> 41033 | G76: =F76+9 -> 41042 | H76: =G76+7 -> 41049 | I76: =G76+10 -> 41052 | J76: =G76+5 -> 41047 | K76: =G76+11 -> 41053 | L76: =G76+13 -> 41055 | M76: =G76+9 -> 41051
A77: ='NE-AEC8'!A29 -> PAC ANTLIA | B77: ='NE-AEC8'!B29 -> 61 | C77: ='NE-AEC8'!C29 -> 41026 | D77: ='NE-AEC8'!D29 -> 41029
A78: ='NE-AEC8'!A30 -> SIMA SAPPHIRE | B78: ='NE-AEC8'!B30 -> 414 | C78: ='NE-AEC8'!C30 -> 41028 | D78: ='NE-AEC8'!D30 -> 41031
E80: ='NE-AEC8'!F32 -> CSCL MERCURY 0009W | F80: ='NE-AEC8'!G32 -> 41042 | G80: =F80+9 -> 41051 | H80: =G80+8 -> 41059 | I80: =G80+10 -> 41061 | J80: =G80+5 -> 41056 | K80: =G80+11 -> 41062 | L80: =G80+13 -> 41064 | M80: =G80+9 -> 41060
A81: ='NE-AEC8'!A33 -> CAPE FRIO | B81: ='NE-AEC8'!B33 -> 54 | C81: ='NE-AEC8'!C33 -> 41033 | D81: ='NE-AEC8'!D33 -> 41036
A82: ='NE-AEC8'!A34 -> SIMA SAPPHIRE | B82: ='NE-AEC8'!B34 -> 415 | C82: ='NE-AEC8'!C34 -> 41035 | D82: ='NE-AEC8'!D34 -> 41038
E84: ='NE-AEC8'!F36 -> CSCL JUPITER 0011W | F84: ='NE-AEC8'!G36 -> 41047 | G84: =F84+9 -> 41056 | H84: =G84+8 -> 41064 | I84: =G84+10 -> 41066 | J84: =G84+5 -> 41061 | K84: =G84+11 -> 41067 | L84: =G84+13 -> 41069 | M84: =G84+10 -> 41066
A85: ='NE-AEC8'!A37 -> PAC ANTLIA | B85: ='NE-AEC8'!B37 -> 62 | C85: ='NE-AEC8'!C37 -> 41040 | D85: ='NE-AEC8'!D37 -> 41043
A86: ='NE-AEC8'!A38 -> SIMA SAPPHIRE | B86: ='NE-AEC8'!B38 -> 416 | C86: ='NE-AEC8'!C38 -> 41042 | D86: ='NE-AEC8'!D38 -> 41045
E88: ='NE-AEC8'!F40 -> CSCL SATURN 0005W | F88: ='NE-AEC8'!G40 -> 41054 | G88: =F88+9 -> 41063 | H88: =G88+8 -> 41071 | I88: =G88+10 -> 41073 | J88: =G88+5 -> 41068 | K88: =G88+11 -> 41074 | L88: =G88+13 -> 41076 | M88: =G88+9 -> 41072
A89: ='NE-AEC8'!A41 -> CAPE FRIO | B89: ='NE-AEC8'!B41 -> 55 | C89: ='NE-AEC8'!C41 -> 41047 | D89: ='NE-AEC8'!D41 -> 41050
A90: ='NE-AEC8'!A42 -> SIMA SAPPHIRE | B90: ='NE-AEC8'!B42 -> 417 | C90: ='NE-AEC8'!C42 -> 41049 | D90: ='NE-AEC8'!D42 -> 41052
E92: ='NE-AEC8'!F44 -> ALULA 1221W | F92: ='NE-AEC8'!G44 -> 41061 | G92: =F92+9 -> 41070 | H92: =G92+8 -> 41078 | I92: =G92+10 -> 41080 | J92: =G92+5 -> 41075 | K92: =G92+11 -> 41081 | L92: =G92+13 -> 41083 | M92: =G92+10 -> 41080
A93: ='NE-AEC8'!A45 -> GALLANT WAVE | B93: ='NE-AEC8'!B45 -> 64 | C93: ='NE-AEC8'!C45 -> 41053 | D93: ='NE-AEC8'!D45 -> 41056
A94: ='NE-AEC8'!A46 -> SIMA SAPPHIRE | B94: ='NE-AEC8'!B46 -> 418 | C94: ='NE-AEC8'!C46 -> 41056 | D94: ='NE-AEC8'!D46 -> 41059
E96: ='NE-AEC8'!F48 -> CSCL MARS 0007W | F96: ='NE-AEC8'!G48 -> 41068 | G96: =F96+9 -> 41077 | H96: =G96+8 -> 41085 | I96: =G96+10 -> 41087 | J96: =G96+5 -> 41082 | K96: =G96+11 -> 41088 | L96: =G96+13 -> 41090 | M96: =G96+9 -> 41086
A97: ='NE-AEC8'!A49 -> CAPE FRIO | B97: ='NE-AEC8'!B49 -> 56 | C97: ='NE-AEC8'!C49 -> 41061 | D97: ='NE-AEC8'!D49 -> 41064
A98: ='NE-AEC8'!A50 -> SIMA SAPPHIRE | B98: ='NE-AEC8'!B50 -> 419 | C98: ='NE-AEC8'!C50 -> 41063 | D98: ='NE-AEC8'!D50 -> 41066
E100: ='NE-AEC8'!F52 -> CMA CGM NEVADA 587W | F100: ='NE-AEC8'!G52 -> 41075 | G100: =F100+9 -> 41084 | H100: =G100+8 -> 41092 | I100: =G100+10 -> 41094 | J100: =G100+5 -> 41089 | K100: =G100+11 -> 41095 | L100: =G100+13 -> 41097 | M100: =G100+10 -> 41094
A101: ='NE-AEC8'!A53 -> PAC ANTLIA | B101: ='NE-AEC8'!B53 -> 65 | C101: ='NE-AEC8'!C53 -> 41068 | D101: ='NE-AEC8'!D53 -> 41071
A102: ='NE-AEC8'!A54 -> SIMA SAPPHIRE | B102: ='NE-AEC8'!B54 -> 420 | C102: ='NE-AEC8'!C54 -> 41070 | D102: ='NE-AEC8'!D54 -> 41073
E104: ='NE-AEC8'!F56 -> AL RIFFA 1224W | F104: ='NE-AEC8'!G56 -> 41082 | G104: =F104+9 -> 41091 | H104: =G104+8 -> 41099 | I104: =G104+10 -> 41101 | J104: =G104+5 -> 41096 | K104: =G104+11 -> 41102 | L104: =G104+13 -> 41104 | M104: =G104+9 -> 41100
A105: ='NE-AEC8'!A57 -> CAPE FRIO | B105: ='NE-AEC8'!B57 -> 57 | C105: ='NE-AEC8'!C57 -> 41075 | D105: ='NE-AEC8'!D57 -> 41078
A106: ='NE-AEC8'!A58 -> SIMA SAPPHIRE | B106: ='NE-AEC8'!B58 -> 421 | C106: ='NE-AEC8'!C58 -> 41077 | D106: ='NE-AEC8'!D58 -> 41080
E108: ='NE-AEC8'!F60 -> CSCL STAR 0015W | F108: ='NE-AEC8'!G60 -> 41089 | G108: =F108+9 -> 41098 | H108: =G108+8 -> 41106 | I108: =G108+10 -> 41108 | J108: =G108+5 -> 41103 | K108: =G108+11 -> 41109 | L108: =G108+13 -> 41111 | M108: =G108+10 -> 41108
A109: ='NE-AEC8'!A61 -> PAC ANTLIA | B109: ='NE-AEC8'!B61 -> 66 | C109: ='NE-AEC8'!C61 -> 41082 | D109: ='NE-AEC8'!D61 -> 41085
A110: ='NE-AEC8'!A62 -> SIMA SAPPHIRE | B110: ='NE-AEC8'!B62 -> 422 | C110: ='NE-AEC8'!C62 -> 41084 | D110: ='NE-AEC8'!D62 -> 41087
E112: ='NE-AEC8'!F64 -> AIN SNAN 1226W | F112: ='NE-AEC8'!G64 -> 41096 | G112: =F112+9 -> 41105 | H112: =G112+8 -> 41113 | I112: =G112+10 -> 41115 | J112: =G112+5 -> 41110 | K112: =G112+11 -> 41116 | L112: =G112+13 -> 41118 | M112: =G112+9 -> 41114
A113: ='NE-AEC8'!A65 -> CAPE FRIO | B113: ='NE-AEC8'!B65 -> 58 | C113: ='NE-AEC8'!C65 -> 41089 | D113: ='NE-AEC8'!D65 -> 41092
A114: ='NE-AEC8'!A66 -> SIMA SAPPHIRE | B114: ='NE-AEC8'!B66 -> 423 | C114: ='NE-AEC8'!C66 -> 41091 | D114: ='NE-AEC8'!D66 -> 41094
E116: ='NE-AEC8'!F68 -> CSCL VENUS 0013W | F116: ='NE-AEC8'!G68 -> 41103 | G116: =F116+9 -> 41112 | H116: =G116+8 -> 41120 | I116: =G116+10 -> 41122 | J116: =G116+5 -> 41117 | K116: =G116+11 -> 41123 | L116: =G116+13 -> 41125 | M116: =G116+10 -> 41122
A117: ='NE-AEC8'!A69 -> PAC ANTLIA | B117: ='NE-AEC8'!B69 -> 67 | C117: ='NE-AEC8'!C69 -> 41096 | D117: ='NE-AEC8'!D69 -> 41099
...

Sheet WM-AMC1
D3: HOCHIMINHCITY TO WEST MEDITERRANEAN
D4: AMC1 SERVICE
K6: Update: | L6: ='NE-AEC7 (DIRECTLY)'!$J$6 -> 41046
A7: FEEDER | B7: VOY | C7: ETD HCM | D7: ETA PKG | E7: MOTHER VESSEL | F7: ETA PKG | G7: La Spezia | H7: Genoa | I7: FOS | J7: BARCELONA | K7: Napoli (via SPE) | L7: Valencia | M7: Venice | N7: Koper
A8: SARA | B8: 80 | C8: 40948 | D8: =C8+3 -> 40951 | E8: XIN DA LIAN 1206W | F8: 40958 | G8: =F8+17 -> 40975 | H8: =G8+2 -> 40977 | I8: =H8+2 -> 40979 | J8: =I8+2 -> 40981 | K8: =G8+4 -> 40979 | L8: =I8+3 -> 40982 | M8: =J8+3 -> 40984 | N8: =K8+3 -> 40982
A9: =A8 -> SARA | B9: =B8+1 -> 81 | C9: =C8+7 -> 40955 | D9: =C9+3 -> 40958 | E9: XIN CHI WAN 1207W | F9: =F8+8 -> 40966 | G9: =F9+16 -> 40982 | H9: =G9+2 -> 40984 | I9: =H9+2 -> 40986 | J9: =I9+2 -> 40988 | K9: =G9+4 -> 40986 | L9: =I9+3 -> 40989 | M9: =J9+3 -> 40991 | N9: =K9+3 -> 40989
A10: =A9 -> SARA | B10: =B9+1 -> 82 | C10: =C9+7 -> 40962 | D10: =C10+3 -> 40965 | E10: AL RAWDAH 1208W | F10: =F9+11 -> 40977 | G10: =F10+17 -> 40994 | H10: =G10+2 -> 40996 | I10: =H10+2 -> 40998 | J10: =I10+2 -> 41000 | K10: =G10+4 -> 40998 | L10: =I10+4 -> 41002 | M10: =J10+4 -> 41004 | N10: =K10+4 -> 41002
A11: =A10 -> SARA | B11: =B10+1 -> 83 | C11: =C10+7 -> 40969 | D11: =C11+3 -> 40972
A12: =A11 -> SARA | B12: =B11+1 -> 84 | C12: =C11+7 -> 40976 | D12: =C12+3 -> 40979 | E12: AL SAFAT 1209W | F12: =F10+8 -> 40985 | G12: =F12+16 -> 41001 | H12: =G12+2 -> 41003 | I12: =H12+2 -> 41005 | J12: =I12+2 -> 41007 | K12: =G12+4 -> 41005 | L12: =I12+4 -> 41009 | M12: =J12+4 -> 41011 | N12: =K12+4 -> 41009
A13: =A12 -> SARA | B13: =B12+1 -> 85 | C13: =C12+7 -> 40983 | D13: =C13+3 -> 40986 | E13: CSCL AMERICA 1210W | F13: =F12+3 -> 40988 | G13: =F13+18 -> 41006 | H13: =G13+2 -> 41008 | I13: =H13+3 -> 41011 | J13: =I13+2 -> 41013 | K13: =G13+4 -> 41010 | L13: =I13+3 -> 41014 | M13: =J13+3 -> 41016 | N13: =K13+3 -> 41013
A14: =A13 -> SARA | B14: =B13+1 -> 86 | C14: =C13+7 -> 40990 | D14: =C14+3 -> 40993 | E14: HATTA 1211W | F14: =F13+8 -> 40996 | G14: =F14+18 -> 41014 | H14: =G14+2 -> 41016 | I14: =H14+2 -> 41018 | J14: =I14+2 -> 41020 | K14: =G14+4 -> 41018 | L14: =I14+4 -> 41022 | M14: =J14+4 -> 41024 | N14: =K14+4 -> 41022
A15: =A14 -> SARA | B15: =B14+1 -> 87 | C15: =C14+7 -> 40997 | D15: =C15+3 -> 41000 | E15: AL HILAL 1212W | F15: =F14+8 -> 41004 | G15: =F15+18 -> 41022 | H15: =G15+2 -> 41024 | I15: =H15+2 -> 41026 | J15: =I15+2 -> 41028 | K15: =G15+4 -> 41026 | L15: =I15+4 -> 41030 | M15: =J15+4 -> 41032 | N15: =K15+4 -> 41030
A16: ='NE-AEC8'!A17 -> CAPE FRIO | B16: ='NE-AEC8'!B17 -> 52 | C16: ='NE-AEC8'!C17 -> 41005 | D16: ='NE-AEC8'!D17 -> 41008 | E16: XIN OU ZHOU 1213W | F16: =F15+7 -> 41011 | G16: =F16+17 -> 41028 | H16: =G16+2 -> 41030 | I16: =H16+3 -> 41033 | J16: =I16+2 -> 41035 | K16: =G16+4 -> 41032 | L16: =I16+3 -> 41036 | M16: =J16+3 -> 41038 | N16: =K16+3 -> 41035
E19: MAYSSAN 1214W | F19: =F16+6 -> 41017 | G19: =F19+18 -> 41035 | H19: =G19+2 -> 41037 | I19: =H19+3 -> 41040 | J19: =I19+2 -> 41042 | K19: =G19+4 -> 41039 | L19: =I19+3 -> 41043 | M19: =J19+3 -> 41045 | N19: =K19+3 -> 41042
A20: ='NE-AEC8'!A18 -> SIMA SAPPHIRE | B20: ='NE-AEC8'!B18 -> 411 | C20: ='NE-AEC8'!C18 -> 41007 | D20: ='NE-AEC8'!D18 -> 41010
A21: ='NE-AEC8'!A21 -> PAC ANTLIA | B21: ='NE-AEC8'!B21 -> 60 | C21: ='NE-AEC8'!C21 -> 41012 | D21: ='NE-AEC8'!D21 -> 41015
E23: JAZAN 1215W | F23: =F19+6 -> 41023 | G23: =F23+18 -> 41041 | H23: =G23+2 -> 41043 | I23: =H23+2 -> 41045 | J23: =I23+2 -> 41047 | K23: =G23+4 -> 41045 | L23: =I23+4 -> 41049 | M23: =J23+4 -> 41051 | N23: =K23+4 -> 41049
A24: ='NE-AEC8'!A22 -> SIMA SAPPHIRE | B24: ='NE-AEC8'!B22 -> 412 | C24: ='NE-AEC8'!C22 -> 41014 | D24: ='NE-AEC8'!D22 -> 41017
A25: ='NE-AEC8'!A25 -> CAPE FRIO | B25: ='NE-AEC8'!B25 -> 53 | C25: ='NE-AEC8'!C25 -> 41019 | D25: ='NE-AEC8'!D25 -> 41022
E27: XIN YA ZHOU 1216W | F27: =F23+6 -> 41029 | G27: =F27+18 -> 41047 | H27: =G27+2 -> 41049 | I27: =H27+2 -> 41051 | J27: =I27+2 -> 41053 | K27: =G27+4 -> 41051 | L27: =I27+4 -> 41055 | M27: =F27+24 -> 41053 | N27: =F27+22 -> 41051
A28: ='NE-AEC8'!A26 -> SIMA SAPPHIRE | B28: ='NE-AEC8'!B26 -> 413 | C28: ='NE-AEC8'!C26 -> 41021 | D28: ='NE-AEC8'!D26 -> 41024
A29: ='NE-AEC8'!A29 -> PAC ANTLIA | B29: ='NE-AEC8'!B29 -> 61 | C29: ='NE-AEC8'!C29 -> 41026 | D29: ='NE-AEC8'!D29 -> 41029
E31: AL MANAMAH 1217W | F31: =F27+11 -> 41040 | G31: =F31+18 -> 41058 | H31: =G31+2 -> 41060 | I31: =H31+3 -> 41063 | J31: =I31+2 -> 41065 | K31: =G31+4 -> 41062 | L31: =I31+3 -> 41066 | M31: =F31+25 -> 41065 | N31: =F31+20 -> 41060
A32: ='NE-AEC8'!A30 -> SIMA SAPPHIRE | B32: ='NE-AEC8'!B30 -> 414 | C32: ='NE-AEC8'!C30 -> 41028 | D32: ='NE-AEC8'!D30 -> 41031
A33: ='NE-AEC8'!A33 -> CAPE FRIO | B33: ='NE-AEC8'!B33 -> 54 | C33: ='NE-AEC8'!C33 -> 41033 | D33: ='NE-AEC8'!D33 -> 41036
E35: AL RAWDAH 1218W | F35: =F31+7 -> 41047 | G35: =F35+17 -> 41064 | H35: =G35+2 -> 41066 | I35: =H35+3 -> 41069 | J35: =I35+2 -> 41071 | K35: =G35+4 -> 41068 | L35: =I35+3 -> 41072 | M35: =F35+24 -> 41071 | N35: =F35+26 -> 41073
A36: ='NE-AEC8'!A34 -> SIMA SAPPHIRE | B36: ='NE-AEC8'!B34 -> 415 | C36: ='NE-AEC8'!C34 -> 41035 | D36: ='NE-AEC8'!D34 -> 41038
A37: ='NE-AEC8'!A37 -> PAC ANTLIA | B37: ='NE-AEC8'!B37 -> 62 | C37: ='NE-AEC8'!C37 -> 41040 | D37: ='NE-AEC8'!D37 -> 41043
E39: AL SAFAT 1219W | F39: =F35+6 -> 41053 | G39: =F39+18 -> 41071 | H39: =G39+1 -> 41072 | I39: =H39+3 -> 41075 | J39: =I39+2 -> 41077 | K39: =G39+4 -> 41075 | L39: =I39+3 -> 41078 | M39: =F39+26 -> 41079 | N39: =F39+38 -> 41091
A40: ='NE-AEC8'!A38 -> SIMA SAPPHIRE | B40: ='NE-AEC8'!B38 -> 416 | C40: ='NE-AEC8'!C38 -> 41042 | D40: ='NE-AEC8'!D38 -> 41045
A41: ='NE-AEC8'!A41 -> CAPE FRIO | B41: ='NE-AEC8'!B41 -> 55 | C41: ='NE-AEC8'!C41 -> 41047 | D41: ='NE-AEC8'!D41 -> 41050
E43: CSCL AMERICA 1220W | F43: =F39+5 -> 41058 | G43: =F43+17 -> 41075 | H43: =G43+2 -> 41077 | I43: =H43+3 -> 41080 | J43: =I43+2 -> 41082 | K43: =G43+4 -> 41079 | L43: =I43+3 -> 41083 | M43: =F43+21 -> 41079 | N43: =F43+32 -> 41090
A44: ='NE-AEC8'!A42 -> SIMA SAPPHIRE | B44: ='NE-AEC8'!B42 -> 417 | C44: ='NE-AEC8'!C42 -> 41049 | D44: ='NE-AEC8'!D42 -> 41052
A45: ='NE-AEC8'!A45 -> GALLANT WAVE | B45: ='NE-AEC8'!B45 -> 64 | C45: ='NE-AEC8'!C45 -> 41053 | D45: ='NE-AEC8'!D45 -> 41056
E47: HATTA 1221W | F47: =F43+9 -> 41067 | G47: =F47+18 -> 41085 | H47: =G47+2 -> 41087 | I47: =H47+2 -> 41089 | J47: =I47+2 -> 41091 | K47: =G47+4 -> 41089 | L47: =I47+4 -> 41093 | M47: =F47+21 -> 41088 | N47: =F47+38 -> 41105
A48: ='NE-AEC8'!A46 -> SIMA SAPPHIRE | B48: ='NE-AEC8'!B46 -> 418 | C48: ='NE-AEC8'!C46 -> 41056 | D48: ='NE-AEC8'!D46 -> 41059
A49: ='NE-AEC8'!A49 -> CAPE FRIO | B49: ='NE-AEC8'!B49 -> 56 | C49: ='NE-AEC8'!C49 -> 41061 | D49: ='NE-AEC8'!D49 -> 41064
E51: AL HILAL 1222W | F51: =F47+7 -> 41074 | G51: =F51+17 -> 41091 | H51: =G51+2 -> 41093 | I51: =H51+3 -> 41096 | J51: =I51+2 -> 41098 | K51: =G51+4 -> 41095 | L51: =I51+3 -> 41099 | M51: =F51+26 -> 41100 | N51: =F51+32 -> 41106
A52: ='NE-AEC8'!A50 -> SIMA SAPPHIRE | B52: ='NE-AEC8'!B50 -> 419 | C52: ='NE-AEC8'!C50 -> 41063 | D52: ='NE-AEC8'!D50 -> 41066
A53: ='NE-AEC8'!A53 -> PAC ANTLIA | B53: ='NE-AEC8'!B53 -> 65 | C53: ='NE-AEC8'!C53 -> 41068 | D53: ='NE-AEC8'!D53 -> 41071
E55: XIN OU ZHOU 1223W | F55: =F51+5 -> 41079 | G55: =F55+17 -> 41096 | H55: =G55+2 -> 41098 | I55: =H55+3 -> 41101 | J55: =I55+2 -> 41103 | K55: =G55+4 -> 41100 | L55: =I55+3 -> 41104 | M55: =F55+21 -> 41100 | N55: =F55+38 -> 41117
A56: ='NE-AEC8'!A54 -> SIMA SAPPHIRE | B56: ='NE-AEC8'!B54 -> 420 | C56: ='NE-AEC8'!C54 -> 41070 | D56: ='NE-AEC8'!D54 -> 41073
A57: ='NE-AEC8'!A57 -> CAPE FRIO | B57: ='NE-AEC8'!B57 -> 57 | C57: ='NE-AEC8'!C57 -> 41075 | D57: ='NE-AEC8'!D57 -> 41078
E59: MAYSSAN 1224W | F59: =F55+7 -> 41086 | G59: =F59+17 -> 41103 | H59: =G59+2 -> 41105 | I59: =H59+2 -> 41107 | J59: =I59+2 -> 41109 | K59: =G59+4 -> 41107 | L59: =I59+4 -> 41111 | M59: =F59+21 -> 41107 | N59: =F59+32 -> 41118
A60: ='NE-AEC8'!A58 -> SIMA SAPPHIRE | B60: ='NE-AEC8'!B58 -> 421 | C60: ='NE-AEC8'!C58 -> 41077 | D60: ='NE-AEC8'!D58 -> 41080
A61: ='NE-AEC8'!A61 -> PAC ANTLIA | B61: ='NE-AEC8'!B61 -> 66 | C61: ='NE-AEC8'!C61 -> 41082 | D61: ='NE-AEC8'!D61 -> 41085
E63: JAZAN 1225W | F63: =F59+5 -> 41091 | G63: =F63+17 -> 41108 | H63: =G63+2 -> 41110 | I63: =H63+3 -> 41113 | J63: =I63+2 -> 41115 | K63: =G63+4 -> 41112 | L63: =I63+3 -> 41116 | M63: =F63+23 -> 41114 | N63: =F63+38 -> 41129
A64: ='NE-AEC8'!A62 -> SIMA SAPPHIRE | B64: ='NE-AEC8'!B62 -> 422 | C64: ='NE-AEC8'!C62 -> 41084 | D64: ='NE-AEC8'!D62 -> 41087
A65: ='NE-AEC8'!A65 -> CAPE FRIO | B65: ='NE-AEC8'!B65 -> 58 | C65: ='NE-AEC8'!C65 -> 41089 | D65: ='NE-AEC8'!D65 -> 41092
E67: XIN YA ZHOU 1226W | F67: =F63+7 -> 41098 | G67: =F67+17 -> 41115 | H67: =G67+2 -> 41117 | I67: =H67+2 -> 41119 | J67: =I67+2 -> 41121 | K67: =G67+4 -> 41119 | L67: =I67+4 -> 41123 | M67: =F67+23 -> 41121 | N67: =F67+32 -> 41130
A68: ='NE-AEC8'!A66 -> SIMA SAPPHIRE | B68: ='NE-AEC8'!B66 -> 423 | C68: ='NE-AEC8'!C66 -> 41091 | D68: ='NE-AEC8'!D66 -> 41094
A69: ='NE-AEC8'!A69 -> PAC ANTLIA | B69: ='NE-AEC8'!B69 -> 67 | C69: ='NE-AEC8'!C69 -> 41096 | D69: ='NE-AEC8'!D69 -> 41099
A72: THE ABOVE SAILING SCHEDULE IS SUBJECT TO CHANGE WITH/WITHOUT PRIOR NOTICE | H72: Person to contact :
A73: VIET HOA TRANSPORT SERVICE & TRADING CO., LTD. ( HEAD OFFICE 1) | I73: Office 1 : | K73: Ms. Simmi (84-8) 39402520 ( Ext : 122 )
A74: 284 Nguyen Tat Thanh Street, Dist. 4, Ho Chi Minh City, VietNam | I74: Office 2 : | K74: Ms. Jasmine (84-8) 38268533 ( Ext : 101 )
A75: Tel : (84-8) 39402520 (12 lines) Fax : (84-8) 39402601 / 39408933 / 39411087 | I75: Office 3 : | K75: Ms. Oanh (84-8) 62810240 ( Ext: 117 )
A76: Email : general@viethoagroup.com Website : www.viethoagroup.com

Sheet EM-AMC1
F3: HOCHIMINHCITY TO EAST MEDITERRANEAN
F4: AMC1 SERVICE
P6: Update: | Q6: ='NE-AEC7 (DIRECTLY)'!$J$6 -> 41046
A7: FEEDER | B7: VOY | C7: ETD HCM | D7: ETA SIN | E7: ETA PKG | F7: MOTHER VESSEL | G7: ETA PKG | H7: ETA Port Said | I7: Istanbul-Ambarli | J7: Izmit | K7: Izmir | L7: Gemlik | M7: Istanbul-Haydarpasa | N7: Mersin | O7: Beirut | P7: Latakia | Q7: TRIPOLI,lybia | R7: MISURATA | S7: ALEXANDRIA | T7: EL DEKHEILA
A8: ='WM-AMC1'!A8 -> SARA | B8: ='WM-AMC1'!B8 -> 80 | C8: ='WM-AMC1'!C8 -> 40948 | D8: ='WM-AMC1'!#REF! -> #REF! | E8: ='WM-AMC1'!D8 -> 40951 | F8: ='WM-AMC1'!E8 -> XIN DA LIAN 1206W | G8: ='WM-AMC1'!F8 -> 40958 | H8: =G8+13 -> 40971 | I8: =H8+10 -> 40981 | J8: =H8+9 -> 40980 | K8: =J8+3 -> 40983 | L8: =H8+7 -> 40978 | M8: =H8+12 -> 40983 | N8: =H8+14 -> 40985 | O8: =H8+8 -> 40979 | P8: =H8+3 -> 40974 | Q8: =I8+3 -> 40984 | R8: =J8+3 -> 40983 | S8: =K8+3 -> 40986 | T8: =L8+3 -> 40981
A9: ='WM-AMC1'!A9 -> SARA | B9: ='WM-AMC1'!B9 -> 81 | C9: ='WM-AMC1'!C9 -> 40955 | D9: ='WM-AMC1'!#REF! -> #REF! | E9: ='WM-AMC1'!D9 -> 40958 | F9: ='WM-AMC1'!E9 -> XIN CHI WAN 1207W | G9: ='WM-AMC1'!F9 -> 40966 | H9: =G9+13 -> 40979 | I9: =H9+10 -> 40989 | J9: =H9+9 -> 40988 | K9: =J9+3 -> 40991 | L9: =H9+7 -> 40986 | M9: =H9+12 -> 40991 | N9: =H9+14 -> 40993 | O9: =H9+8 -> 40987 | P9: =H9+3 -> 40982 | Q9: =I9+3 -> 40992 | R9: =J9+3 -> 40991 | S9: =K9+3 -> 40994 | T9: =L9+3 -> 40989
A10: ='WM-AMC1'!A10 -> SARA | B10: ='WM-AMC1'!B10 -> 82 | C10: ='WM-AMC1'!C10 -> 40962 | D10: ='WM-AMC1'!#REF! -> #REF! | E10: ='WM-AMC1'!D10 -> 40965 | F10: ='WM-AMC1'!E10 -> AL RAWDAH 1208W | G10: ='WM-AMC1'!F10 -> 40977 | H10: =G10+12 -> 40989 | I10: =H10+10 -> 40999 | J10: =H10+9 -> 40998 | K10: =J10+3 -> 41001 | L10: =H10+7 -> 40996 | M10: =H10+12 -> 41001 | N10: =H10+14 -> 41003 | O10: =H10+8 -> 40997 | P10: =H10+3 -> 40992 | Q10: =I10+3 -> 41002 | R10: =J10+3 -> 41001 | S10: =K10+3 -> 41004 | T10: =L10+3 -> 40999
A11: ='WM-AMC1'!A11 -> SARA | B11: ='WM-AMC1'!B11 -> 83 | C11: ='WM-AMC1'!C11 -> 40969 | D11: ='WM-AMC1'!#REF! -> #REF! | E11: ='WM-AMC1'!D11 -> 40972
A12: ='WM-AMC1'!A12 -> SARA | B12: ='WM-AMC1'!B12 -> 84 | C12: ='WM-AMC1'!C12 -> 40976 | D12: ='WM-AMC1'!#REF! -> #REF! | E12: ='WM-AMC1'!D12 -> 40979 | F12: ='WM-AMC1'!E12 -> AL SAFAT 1209W | G12: ='WM-AMC1'!F12 -> 40985 | H12: =G12+12 -> 40997 | I12: =H12+15 -> 41012 | J12: =H12+9 -> 41006 | K12: =J12+3 -> 41009 | L12: =H12+7 -> 41004 | M12: =H12+12 -> 41009 | N12: =H12+14 -> 41011 | O12: =H12+8 -> 41005 | P12: =H12+3 -> 41000 | Q12: =I12+3 -> 41015 | R12: =J12+3 -> 41009 | S12: =K12+3 -> 41012 | T12: =L12+3 -> 41007
A13: ='WM-AMC1'!A13 -> SARA | B13: ='WM-AMC1'!B13 -> 85 | C13: ='WM-AMC1'!C13 -> 40983 | D13: ='WM-AMC1'!#REF! -> #REF! | E13: ='WM-AMC1'!D13 -> 40986 | F13: ='WM-AMC1'!E13 -> CSCL AMERICA 1210W | G13: ='WM-AMC1'!F13 -> 40988 | H13: =G13+13 -> 41001 | I13: =H13+9 -> 41010 | J13: =H13+9 -> 41010 | K13: =J13+3 -> 41013 | L13: =H13+7 -> 41008 | M13: =H13+12 -> 41013 | N13: =H13+14 -> 41015 | O13: =H13+8 -> 41009 | P13: =H13+3 -> 41004 | Q13: =I13+3 -> 41013 | R13: =J13+3 -> 41013 | S13: =K13+3 -> 41016 | T13: =L13+3 -> 41011
A14: ='WM-AMC1'!A14 -> SARA | B14: ='WM-AMC1'!B14 -> 86 | C14: ='WM-AMC1'!C14 -> 40990 | D14: ='WM-AMC1'!#REF! -> #REF! | E14: ='WM-AMC1'!D14 -> 40993 | F14: ='WM-AMC1'!E14 -> HATTA 1211W | G14: ='WM-AMC1'!F14 -> 40996 | H14: =G14+12 -> 41008 | I14: =H14+10 -> 41018 | J14: =H14+9 -> 41017 | K14: =J14+3 -> 41020 | L14: =H14+7 -> 41015 | M14: =H14+12 -> 41020 | N14: =H14+14 -> 41022 | O14: =H14+8 -> 41016 | P14: =H14+3 -> 41011 | Q14: =I14+3 -> 41021 | R14: =J14+3 -> 41020
A15: ='WM-AMC1'!A15 -> SARA | B15: ='WM-AMC1'!B15 -> 87 | C15: ='WM-AMC1'!C15 -> 40997 | D15: ='WM-AMC1'!#REF! -> #REF! | E15: ='WM-AMC1'!D15 -> 41000 | F15: ='WM-AMC1'!E15 -> AL HILAL 1212W | G15: ='WM-AMC1'!F15 -> 41004 | H15: =G15+12 -> 41016 | I15: =H15+10 -> 41026 | J15: =H15+9 -> 41025 | K15: =J15+3 -> 41028 | L15: =H15+7 -> 41023 | M15: =H15+12 -> 41028 | N15: =H15+14 -> 41030 | O15: =H15+8 -> 41024 | P15: =H15+3 -> 41019 | Q15: =I15+3 -> 41029 | R15: =J15+3 -> 41028
A16: ='WM-AMC1'!A16 -> CAPE FRIO | B16: ='WM-AMC1'!B16 -> 52 | C16: ='WM-AMC1'!C16 -> 41005 | D16: ='WM-AMC1'!#REF! -> #REF! | E16: ='WM-AMC1'!D16 -> 41008 | F16: ='WM-AMC1'!E16 -> XIN OU ZHOU 1213W | G16: ='WM-AMC1'!F16 -> 41011 | H16: =G16+12 -> 41023 | I16: =H16+16 -> 41039 | J16: =H16+15 -> 41038 | K16: =H16+19 -> 41042 | L16: =H16+7 -> 41030 | M16: =H16+23 -> 41046 | N16: =H16+11 -> 41034 | O16: =H16+4 -> 41027 | P16: =H16+7 -> 41030 | Q16: =H16+13 -> 41036 | R16: =H16+11 -> 41034 | S16: =H16+4 -> 41027 | T16: =S16+2 -> 41029
F17: ='WM-AMC1'!E19 -> MAYSSAN 1214W | G17: ='WM-AMC1'!$F$19 -> 41017 | H17: =G17+12 -> 41029 | I17: =H17+11 -> 41040 | J17: =H17+10 -> 41039 | K17: =H17+14 -> 41043 | L17: =I17+3 -> 41043 | M17: =H17+16 -> 41045 | N17: =H17+11 -> 41040 | O17: =H17+7 -> 41036 | P17: =H17+9 -> 41038 | Q17: =H17+20 -> 41049 | R17: =H17+18 -> 41047 | S17: =H17+4 -> 41033 | T17: =S17+2 -> 41035
A18: ='WM-AMC1'!A20 -> SIMA SAPPHIRE | B18: ='WM-AMC1'!B20 -> 411 | C18: ='WM-AMC1'!C20 -> 41007 | D18: ='WM-AMC1'!D20 -> 41010 | E18: ='WM-AMC1'!D20 -> 41010
A19: ='WM-AMC1'!A21 -> PAC ANTLIA | B19: ='WM-AMC1'!B21 -> 60 | C19: ='WM-AMC1'!C21 -> 41012 | D19: ='WM-AMC1'!D21 -> 41015 | E19: ='WM-AMC1'!D21 -> 41015
F21: ='WM-AMC1'!E23 -> JAZAN 1215W | G21: ='WM-AMC1'!F23 -> 41023 | H21: =G21+12 -> 41035 | I21: =H21+9 -> 41044 | J21: =H21+8 -> 41043 | K21: =H21+11 -> 41046 | L21: =I21+4 -> 41048 | M21: =H21+10 -> 41045 | N21: =H21+13 -> 41048 | O21: =H21+10 -> 41045 | P21: =H21+12 -> 41047 | Q21: =H21+13 -> 41048 | R21: =H21+11 -> 41046 | S21: =H21+7 -> 41042 | T21: =S21+2 -> 41044
A22: ='WM-AMC1'!A24 -> SIMA SAPPHIRE | B22: ='WM-AMC1'!B24 -> 412 | C22: ='WM-AMC1'!C24 -> 41014 | D22: ='WM-AMC1'!D24 -> 41017 | E22: ='WM-AMC1'!D24 -> 41017
A23: ='WM-AMC1'!A25 -> CAPE FRIO | B23: ='WM-AMC1'!B25 -> 53 | C23: ='WM-AMC1'!C25 -> 41019 | D23: ='WM-AMC1'!D25 -> 41022 | E23: ='WM-AMC1'!D25 -> 41022
F25: ='WM-AMC1'!E27 -> XIN YA ZHOU 1216W | G25: ='WM-AMC1'!F27 -> 41029 | H25: =G25+12 -> 41041 | I25: =H25+11 -> 41052 | J25: =H25+10 -> 41051 | K25: =H25+14 -> 41055 | L25: =H25+7 -> 41048 | M25: =H25+17 -> 41058 | N25: =H25+12 -> 41053 | O25: =H25+13 -> 41054 | P25: =H25+11 -> 41052 | Q25: =H25+20 -> 41061 | R25: =H25+18 -> 41059 | S25: =H25+5 -> 41046 | T25: =S25+2 -> 41048
A26: ='WM-AMC1'!A28 -> SIMA SAPPHIRE | B26: ='WM-AMC1'!B28 -> 413 | C26: ='WM-AMC1'!C28 -> 41021 | D26: ='WM-AMC1'!D28 -> 41024 | E26: ='WM-AMC1'!D28 -> 41024
A27: ='WM-AMC1'!A29 -> PAC ANTLIA | B27: ='WM-AMC1'!B29 -> 61 | C27: ='WM-AMC1'!C29 -> 41026 | D27: ='WM-AMC1'!D29 -> 41029 | E27: ='WM-AMC1'!D29 -> 41029
F29: ='WM-AMC1'!E31 -> AL MANAMAH 1217W | G29: ='WM-AMC1'!F31 -> 41040 | H29: =G29+13 -> 41053 | I29: =H29+11 -> 41064 | J29: =H29+9 -> 41062 | K29: =H29+12 -> 41065 | L29: =H29+9 -> 41062 | M29: =H29+17 -> 41070 | N29: =H29+15 -> 41068 | O29: =H29+6 -> 41059 | P29: =H29+8 -> 41061 | Q29: =H29+13 -> 41066 | R29: =H29+11 -> 41064 | S29: =H29+4 -> 41057 | T29: =S29+2 -> 41059
A30: ='WM-AMC1'!A32 -> SIMA SAPPHIRE | B30: ='WM-AMC1'!B32 -> 414 | C30: ='WM-AMC1'!C32 -> 41028 | D30: ='WM-AMC1'!D32 -> 41031 | E30: ='WM-AMC1'!D32 -> 41031
A31: ='WM-AMC1'!A33 -> CAPE FRIO | B31: ='WM-AMC1'!B33 -> 54 | C31: ='WM-AMC1'!C33 -> 41033 | D31: ='WM-AMC1'!D33 -> 41036 | E31: ='WM-AMC1'!D33 -> 41036
F33: ='WM-AMC1'!E35 -> AL RAWDAH 1218W | G33: ='WM-AMC1'!F35 -> 41047 | H33: =G33+13 -> 41060 | I33: =H33+11 -> 41071 | J33: =H33+10 -> 41070 | K33: =H33+14 -> 41074 | L33: =H33+7 -> 41067 | M33: =H33+17 -> 41077 | N33: =H33+12 -> 41072 | O33: =H33+13 -> 41073 | P33: =H33+11 -> 41071 | Q33: =H33+20 -> 41080 | R33: =H33+18 -> 41078 | S33: =H33+5 -> 41065 | T33: =S33+2 -> 41067
A34: ='WM-AMC1'!A36 -> SIMA SAPPHIRE | B34: ='WM-AMC1'!B36 -> 415 | C34: ='WM-AMC1'!C36 -> 41035 | D34: ='WM-AMC1'!D36 -> 41038 | E34: ='WM-AMC1'!D36 -> 41038
A35: ='WM-AMC1'!A37 -> PAC ANTLIA | B35: ='WM-AMC1'!B37 -> 62 | C35: ='WM-AMC1'!C37 -> 41040 | D35: ='WM-AMC1'!D37 -> 41043 | E35: ='WM-AMC1'!D37 -> 41043
F37: ='WM-AMC1'!E39 -> AL SAFAT 1219W | G37: ='WM-AMC1'!F39 -> 41053 | H37: =G37+13 -> 41066 | I37: =H37+11 -> 41077 | J37: =H37+9 -> 41075 | K37: =H37+12 -> 41078 | L37: =H37+9 -> 41075 | M37: =H37+17 -> 41083 | N37: =H37+15 -> 41081 | O37: =H37+6 -> 41072 | P37: =H37+8 -> 41074 | Q37: =H37+13 -> 41079 | R37: =H37+11 -> 41077 | S37: =H37+4 -> 41070 | T37: =S37+2 -> 41072
A38: ='WM-AMC1'!A40 -> SIMA SAPPHIRE | B38: ='WM-AMC1'!B40 -> 416 | C38: ='WM-AMC1'!C40 -> 41042 | D38: ='WM-AMC1'!D40 -> 41045 | E38: ='WM-AMC1'!D40 -> 41045
A39: ='WM-AMC1'!A41 -> CAPE FRIO | B39: ='WM-AMC1'!B41 -> 55 | C39: ='WM-AMC1'!C41 -> 41047 | D39: ='WM-AMC1'!D41 -> 41050 | E39: ='WM-AMC1'!D41 -> 41050
F41: ='WM-AMC1'!E43 -> CSCL AMERICA 1220W | G41: ='WM-AMC1'!F43 -> 41058 | H41: =G41+12 -> 41070 | I41: =H41+11 -> 41081 | J41: =H41+10 -> 41080 | K41: =H41+14 -> 41084 | L41: =H41+7 -> 41077 | M41: =H41+17 -> 41087 | N41: =H41+12 -> 41082 | O41: =H41+13 -> 41083 | P41: =H41+11 -> 41081 | Q41: =H41+20 -> 41090 | R41: =H41+18 -> 41088 | S41: =H41+5 -> 41075 | T41: =S41+2 -> 41077
A42: ='WM-AMC1'!A44 -> SIMA SAPPHIRE | B42: ='WM-AMC1'!B44 -> 417 | C42: ='WM-AMC1'!C44 -> 41049 | D42: ='WM-AMC1'!D44 -> 41052 | E42: ='WM-AMC1'!D44 -> 41052
A43: ='WM-AMC1'!A45 -> GALLANT WAVE | B43: ='WM-AMC1'!B45 -> 64 | C43: ='WM-AMC1'!C45 -> 41053 | D43: ='WM-AMC1'!D45 -> 41056 | E43: ='WM-AMC1'!D45 -> 41056
F45: ='WM-AMC1'!E47 -> HATTA 1221W | G45: ='WM-AMC1'!F47 -> 41067 | H45: =G45+13 -> 41080 | I45: =H45+11 -> 41091 | J45: =H45+9 -> 41089 | K45: =H45+12 -> 41092 | L45: =H45+9 -> 41089 | M45: =H45+17 -> 41097 | N45: =H45+15 -> 41095 | O45: =H45+6 -> 41086 | P45: =H45+8 -> 41088 | Q45: =H45+13 -> 41093 | R45: =H45+11 -> 41091 | S45: =H45+4 -> 41084 | T45: =S45+2 -> 41086
A46: ='WM-AMC1'!A48 -> SIMA SAPPHIRE | B46: ='WM-AMC1'!B48 -> 418 | C46: ='WM-AMC1'!C48 -> 41056 | D46: ='WM-AMC1'!D48 -> 41059 | E46: ='WM-AMC1'!D48 -> 41059
A47: ='WM-AMC1'!A49 -> CAPE FRIO | B47: ='WM-AMC1'!B49 -> 56 | C47: ='WM-AMC1'!C49 -> 41061 | D47: ='WM-AMC1'!D49 -> 41064 | E47: ='WM-AMC1'!D49 -> 41064
F49: ='WM-AMC1'!E51 -> AL HILAL 1222W | G49: ='WM-AMC1'!F51 -> 41074 | H49: =G49+12 -> 41086 | I49: =H49+11 -> 41097 | J49: =H49+10 -> 41096 | K49: =H49+14 -> 41100 | L49: =H49+7 -> 41093 | M49: =H49+17 -> 41103 | N49: =H49+12 -> 41098 | O49: =H49+13 -> 41099 | P49: =H49+11 -> 41097 | Q49: =H49+20 -> 41106 | R49: =H49+18 -> 41104 | S49: =H49+5 -> 41091 | T49: =S49+2 -> 41093
A50: ='WM-AMC1'!A52 -> SIMA SAPPHIRE | B50: ='WM-AMC1'!B52 -> 419 | C50: ='WM-AMC1'!C52 -> 41063 | D50: ='WM-AMC1'!D52 -> 41066 | E50: ='WM-AMC1'!D52 -> 41066
A51: ='WM-AMC1'!A53 -> PAC ANTLIA | B51: ='WM-AMC1'!B53 -> 65 | C51: ='WM-AMC1'!C53 -> 41068 | D51: ='WM-AMC1'!D53 -> 41071 | E51: ='WM-AMC1'!D53 -> 41071
F53: ='WM-AMC1'!E55 -> XIN OU ZHOU 1223W | G53: ='WM-AMC1'!F55 -> 41079 | H53: =G53+12 -> 41091 | I53: =H53+11 -> 41102 | J53: =H53+9 -> 41100 | K53: =H53+12 -> 41103 | L53: =H53+9 -> 41100 | M53: =H53+17 -> 41108 | N53: =H53+15 -> 41106 | O53: =H53+6 -> 41097 | P53: =H53+8 -> 41099 | Q53: =H53+13 -> 41104 | R53: =H53+11 -> 41102 | S53: =H53+4 -> 41095 | T53: =S53+2 -> 41097
A54: ='WM-AMC1'!A56 -> SIMA SAPPHIRE | B54: ='WM-AMC1'!B56 -> 420 | C54: ='WM-AMC1'!C56 -> 41070 | D54: ='WM-AMC1'!D56 -> 41073 | E54: ='WM-AMC1'!D56 -> 41073
A55: ='WM-AMC1'!A57 -> CAPE FRIO | B55: ='WM-AMC1'!B57 -> 57 | C55: ='WM-AMC1'!C57 -> 41075 | D55: ='WM-AMC1'!D57 -> 41078 | E55: ='WM-AMC1'!D57 -> 41078
F57: ='WM-AMC1'!E59 -> MAYSSAN 1224W | G57: ='WM-AMC1'!F59 -> 41086 | H57: =G57+12 -> 41098 | I57: =H57+11 -> 41109 | J57: =H57+10 -> 41108 | K57: =H57+14 -> 41112 | L57: =H57+7 -> 41105 | M57: =H57+17 -> 41115 | N57: =H57+12 -> 41110 | O57: =H57+13 -> 41111 | P57: =H57+11 -> 41109 | Q57: =H57+20 -> 41118 | R57: =H57+18 -> 41116 | S57: =H57+5 -> 41103 | T57: =S57+2 -> 41105
A58: ='WM-AMC1'!A60 -> SIMA SAPPHIRE | B58: ='WM-AMC1'!B60 -> 421 | C58: ='WM-AMC1'!C60 -> 41077 | D58: ='WM-AMC1'!D60 -> 41080 | E58: ='WM-AMC1'!D60 -> 41080
A59: ='WM-AMC1'!A61 -> PAC ANTLIA | B59: ='WM-AMC1'!B61 -> 66 | C59: ='WM-AMC1'!C61 -> 41082 | D59: ='WM-AMC1'!D61 -> 41085 | E59: ='WM-AMC1'!D61 -> 41085
F61: ='WM-AMC1'!E63 -> JAZAN 1225W | G61: ='WM-AMC1'!F63 -> 41091 | H61: =G61+14 -> 41105 | I61: =H61+11 -> 41116 | J61: =H61+9 -> 41114 | K61: =H61+12 -> 41117 | L61: =H61+9 -> 41114 | M61: =H61+17 -> 41122 | N61: =H61+15 -> 41120 | O61: =H61+6 -> 41111 | P61: =H61+8 -> 41113 | Q61: =H61+13 -> 41118 | R61: =H61+11 -> 41116 | S61: =H61+4 -> 41109 | T61: =S61+2 -> 41111
A62: ='WM-AMC1'!A64 -> SIMA SAPPHIRE | B62: ='WM-AMC1'!B64 -> 422 | C62: ='WM-AMC1'!C64 -> 41084 | D62: ='WM-AMC1'!D64 -> 41087 | E62: ='WM-AMC1'!D64 -> 41087
A63: ='WM-AMC1'!A65 -> CAPE FRIO | B63: ='WM-AMC1'!B65 -> 58 | C63: ='WM-AMC1'!C65 -> 41089 | D63: ='WM-AMC1'!D65 -> 41092 | E63: ='WM-AMC1'!D65 -> 41092
F65: ='WM-AMC1'!E67 -> XIN YA ZHOU 1226W | G65: ='WM-AMC1'!F67 -> 41098 | H65: =G65+14 -> 41112 | I65: =H65+11 -> 41123 | J65: =H65+10 -> 41122 | K65: =H65+14 -> 41126 | L65: =H65+7 -> 41119 | M65: =H65+17 -> 41129 | N65: =H65+12 -> 41124 | O65: =H65+13 -> 41125 | P65: =H65+11 -> 41123 | Q65: =H65+20 -> 41132 | R65: =H65+18 -> 41130 | S65: =H65+5 -> 41117 | T65: =S65+2 -> 41119
A66: ='WM-AMC1'!A68 -> SIMA SAPPHIRE | B66: ='WM-AMC1'!B68 -> 423 | C66: ='WM-AMC1'!C68 -> 41091 | D66: ='WM-AMC1'!D68 -> 41094 | E66: ='WM-AMC1'!D68 -> 41094
A67: ='WM-AMC1'!A69 -> PAC ANTLIA | B67: ='WM-AMC1'!B69 -> 67 | C67: ='WM-AMC1'!C69 -> 41096 | D67: ='WM-AMC1'!D69 -> 41099 | E67: ='WM-AMC1'!D69 -> 41099
A70: THE ABOVE SAILING SCHEDULE IS SUBJECT TO CHANGE WITH/WITHOUT PRIOR NOTICE | H70: Person to contact :
A71: VIET HOA TRANSPORT SERVICE & TRADING CO., LTD. ( HEAD OFFICE 1) | I71: Office 1 : | K71: Ms. Simmi (84-8) 39402520 ( Ext : 122 )
A72: 284 Nguyen Tat Thanh Street, Dist. 4, Ho Chi Minh City, VietNam | I72: Office 2 : | K72: Ms. Jasmine (84-8) 38268533 ( Ext : 101 )
A73: Tel : (84-8) 39402520 (12 lines) Fax : (84-8) 39402601 / 39408933 / 39411087 | I73: Office 3 : | K73: Ms. Oanh (84-8) 62810240 ( Ext: 117 )
A74: Email : general@viethoagroup.com Website : www.viethoagroup.com
A78: ='NE-AEC7 (DIRECTLY)'!A34 -> 0
A79: ='NE-AEC7 (DIRECTLY)'!A35 -> 0

Sheet AUSTRALIA-AAC1
D3: HOCHIMINHCITY TO AUSTRALIA
D4: AAC1 SERVICE
L6: Update: | M6: ='NE-AEC7 (DIRECTLY)'!$J$6 -> 41046
A7: FEEDER | B7: VOY | C7: ETD HCM | D7: ETA SIN | E7: ETA SIN | F7: ETA PKG | G7: MOTHER VESSEL | H7: ETA PKG | I7: ETA SIN | J7: Fremantle | K7: Sydney | L7: Melbourne | M7: Adelaide
A8: =#REF! -> #REF! | B8: =#REF! -> #REF! | C8: =#REF! -> #REF! | D8: - | F8: =C8+3 -> #REF! | G8: CSCL SANTIAGO 0040S | H8: 40617 | I8: =H8+2 -> 40619 | J8: =H8+8 -> 40625 | K8: =J8+7 -> 40632 | L8: =K8+2 -> 40634 | M8: =L8+2 -> 40636
A9: =#REF! -> #REF! | B9: =#REF! -> #REF! | C9: =#REF! -> #REF! | D9: - | F9: =C9+3 -> #REF! | G9: IBN KHALLIKAN 1112S | H9: =H8+8 -> 40625 | I9: =H9+1 -> 40626 | J9: =H9+7 -> 40632 | K9: =J9+7 -> 40639 | L9: =K9+3 -> 40642 | M9: =L9+2 -> 40644
A10: =#REF! -> #REF! | B10: =#REF! -> #REF! | C10: =#REF! -> #REF! | D10: - | F10: =C10+3 -> #REF! | G10: ELBWOLF 1113S | H10: =H9+7 -> 40632 | I10: =H10+1 -> 40633 | J10: =H10+7 -> 40639 | K10: =J10+7 -> 40646 | L10: =K10+2 -> 40648 | M10: =L10+2 -> 40650
A11: =#REF! -> #REF! | B11: =#REF! -> #REF! | C11: =#REF! -> #REF! | D11: - | F11: =C11+3 -> #REF! | G11: IRENES REMEDY 012S | H11: =H10+7 -> 40639 | I11: =H11+1 -> 40640 | J11: =H11+21 -> 40660 | K11: =I11+13 -> 40653 | L11: =K11+2 -> 40655 | M11: =L11+2 -> 40657
A12: =#REF! -> #REF! | B12: =#REF! -> #REF! | C12: =#REF! -> #REF! | D12: - | F12: =C12+3 -> #REF! | G12: CSCL SANTIAGO 0042S | H12: =H11+7 -> 40646 | I12: =H12+1 -> 40647 | J12: =H12+7 -> 40653 | K12: =J12+7 -> 40660 | L12: =K12+3 -> 40663 | M12: =L12+1 -> 40664
A13: =#REF! -> #REF! | B13: =#REF! -> #REF! | C13: =#REF! -> #REF! | D13: - | F13: =C13+3 -> #REF! | G13: IBN KHALLIKAN 1116S | H13: =H12+6 -> 40652 | I13: =H13+2 -> 40654 | J13: =H13+8 -> 40660 | K13: =J13+7 -> 40667 | L13: =K13+3 -> 40670 | M13: =L13+1 -> 40671
A14: =#REF! -> #REF! | B14: =#REF! -> #REF! | C14: =#REF! -> #REF! | D14: - | F14: =C14+3 -> #REF! | G14: ELBWOLF 1117S | H14: =H13+7 -> 40659 | I14: =H14+2 -> 40661 | J14: =H14+8 -> 40667 | K14: =J14+7 -> 40674 | L14: =K14+2 -> 40676 | M14: =L14+2 -> 40678
A15: =#REF! -> #REF! | B15: =#REF! -> #REF! | C15: =#REF! -> #REF! | D15: - | F15: =C15+3 -> #REF! | G15: IRENES REMEDY 013S | H15: =H14+8 -> 40667 | I15: =H15+1 -> 40668 | J15: =H15+7 -> 40674 | K15: =J15+7 -> 40681 | L15: =K15+3 -> 40684 | M15: =L15+2 -> 40686
A16: =#REF! -> #REF! | B16: =#REF! -> #REF! | C16: =#REF! -> #REF! | D16: - | F16: =C16+3 -> #REF! | G16: CSCL SANTIAGO 0044S | H16: =H15+10 -> 40677 | I16: =H16+2 -> 40679 | J16: =H16+19 -> 40696 | K16: =I16+9 -> 40688 | L16: =K16+2 -> 40690 | M16: =L16+2 -> 40692
A17: =#REF! -> #REF! | B17: =#REF! -> #REF! | C17: =#REF! -> #REF! | D17: - | F17: =C17+3 -> #REF! | G17: IBN KHALLIKAN 1120S | H17: =H16+4 -> 40681 | I17: =H17+1 -> 40682 | J17: =H17+8 -> 40689 | K17: =J17+7 -> 40696 | L17: =K17+2 -> 40698 | M17: =L17+2 -> 40700
A18: =#REF! -> #REF! | B18: =#REF! -> #REF! | C18: =#REF! -> #REF! | D18: - | F18: =C18+3 -> #REF! | G18: ELBWOLF 1121S | H18: =H17+6 -> 40687 | I18: =H18+2 -> 40689 | J18: =H18+8 -> 40695 | K18: =J18+7 -> 40702 | L18: =K18+2 -> 40704 | M18: =L18+2 -> 40706
A19: =#REF! -> #REF! | B19: =#REF! -> #REF! | C19: =#REF! -> #REF! | D19: - | F19: =C19+3 -> #REF! | G19: SANTA MONICA 002S | H19: =H18+10 -> 40697 | I19: =H19+1 -> 40698 | J19: =H19+7 -> 40704 | K19: =J19+6 -> 40710 | L19: =K19+2 -> 40712 | M19: =L19+3 -> 40715
A20: =#REF! -> #REF! | B20: =#REF! -> #REF! | C20: =#REF! -> #REF! | D20: - | F20: =C20+3 -> #REF! | G20: CSCL SANTIAGO 0046S | H20: =H19+9 -> 40706 | I20: =H20+1 -> 40707 | J20: =H20+8 -> 40714 | K20: =J20+3 -> 40717 | L20: =K20+2 -> 40719 | M20: =L20+2 -> 40721
A21: =#REF! -> #REF! | B21: =#REF! -> #REF! | C21: =#REF! -> #REF! | D21: - | F21: =C21+3 -> #REF! | G21: IBN KHALLIKAN 1124S | H21: =H20+5 -> 40711 | I21: =H21+1 -> 40712 | J21: =H21+9 -> 40720 | K21: =J21+7 -> 40727 | L21: =K21+3 -> 40730 | M21: =L21+2 -> 40732
A22: =#REF! -> #REF! | B22: =#REF! -> #REF! | C22: =#REF! -> #REF! | D22: - | F22: =C22+3 -> #REF! | G22: OMIT | H22: =H21+11 -> 40722 | I22: =H22+2 -> 40724 | J22: =H22+8 -> 40730 | K22: =J22+7 -> 40737 | L22: =K22+2 -> 40739 | M22: =L22+2 -> 40741
A23: =#REF! -> #REF! | B23: =#REF! -> #REF! | C23: =#REF! -> #REF! | D23: - | F23: =C23+3 -> #REF! | G23: ELBWOLF 1126S | H23: =H21+11 -> 40722 | I23: =H23+2 -> 40724 | J23: =H23+8 -> 40730 | K23: =J23+7 -> 40737 | L23: =K23+3 -> 40740 | M23: =L23+1 -> 40741
A24: =#REF! -> #REF! | B24: =#REF! -> #REF! | C24: =#REF! -> #REF! | D24: - | F24: =C24+3 -> #REF! | G24: SANTA MONICA 003S | H24: =H23+7 -> 40729 | I24: =H24+2 -> 40731 | J24: =H24+8 -> 40737 | K24: =J24+7 -> 40744 | L24: =K24+2 -> 40746 | M24: =L24+2 -> 40748
A25: =#REF! -> #REF! | B25: =#REF! -> #REF! | C25: =#REF! -> #REF! | D25: - | F25: =C25+3 -> #REF! | G25: CSCL SANTIAGO 0048S | H25: =H24+7 -> 40736 | I25: =H25+1 -> 40737 | J25: =H25+8 -> 40744 | K25: =J25+7 -> 40751 | L25: =K25+2 -> 40753 | M25: =L25+2 -> 40755
A26: =#REF! -> #REF! | B26: =#REF! -> #REF! | C26: =#REF! -> #REF! | D26: - | F26: =C26+3 -> #REF! | G26: IBN KHALLIKAN 1129S | H26: =H25+7 -> 40743 | I26: =H26+2 -> 40745 | J26: =H26+8 -> 40751 | K26: =J26+7 -> 40758 | L26: =K26+2 -> 40760 | M26: =L26+2 -> 40762
A27: =#REF! -> #REF! | B27: =#REF! -> #REF! | C27: =#REF! -> #REF! | D27: - | F27: =C27+3 -> #REF! | G27: ELBWOLF 1130S | H27: =H26+7 -> 40750 | I27: =H27+2 -> 40752 | J27: =H27+8 -> 40758 | K27: =J27+7 -> 40765 | L27: =K27+2 -> 40767 | M27: =L27+2 -> 40769
A28: =#REF! -> #REF! | B28: =#REF! -> #REF! | C28: =#REF! -> #REF! | D28: - | F28: =C28+3 -> #REF! | G28: SANTA MONICA 004S | H28: =H27+12 -> 40762 | I28: =H28+1 -> 40763 | J28: OMIT | K28: =I28+11 -> 40774 | L28: =K28+3 -> 40777 | M28: =L28+2 -> 40779
A29: SARA | B29: 53 | C29: =#REF! -> #REF! | D29: - | F29: =C29+3 -> #REF! | G29: CSCL SANTIAGO 0050S | H29: =H28+8 -> 40770 | I29: =H29+1 -> 40771 | J29: =H29+7 -> 40777 | K29: =J29+7 -> 40784 | L29: =K29+4 -> 40788 | M29: =L29+2 -> 40790
A30: =A29 -> SARA | B30: =B29+1 -> 54 | C30: =#REF! -> #REF! | D30: - | F30: =C30+3 -> #REF! | G30: HS WAGNER 1133S | H30: =H29+2 -> 40772 | I30: =H30+3 -> 40775 | J30: OMIT | K30: =I30+15 -> 40790 | L30: =K30+3 -> 40793 | M30: =L30+2 -> 40795
A31: =A30 -> SARA | B31: =B30+1 -> 55 | C31: =#REF! -> #REF! | D31: - | F31: =C31+3 -> #REF! | G31: CAPE MONDEGO 1134S | H31: =H30+8 -> 40780 | I31: =H31-1 -> 40779 | J31: OMIT | K31: =I31+14 -> 40793 | L31: =K31+2 -> 40795 | M31: =L31+2 -> 40797
A32: =A31 -> SARA | B32: =B31+1 -> 56 | C32: =#REF! -> #REF! | D32: - | F32: =C32+3 -> #REF! | G32: SANTA MONICA 005S | H32: =H31+9 -> 40789 | I32: =H32+2 -> 40791 | J32: =I32+6 -> 40797 | K32: =I32+12 -> 40803 | L32: =K32+3 -> 40806 | M32: =L32+2 -> 40808
A33: =A32 -> SARA | B33: =B32+1 -> 57 | C33: =#REF! -> #REF! | D33: - | F33: =C33+3 -> #REF! | G33: CSCL SANTIAGO 0052S | H33: =H32+12 -> 40801 | I33: =H33+1 -> 40802 | J33: OMIT | K33: OMIT | L33: =I33+9 -> 40811 | M33: =L33+3 -> 40814
A34: =A33 -> SARA | B34: =B33+1 -> 58 | C34: =#REF! -> #REF! | D34: - | F34: =C34+3 -> #REF! | G34: IBN KHALLIKAN 1137S | H34: =H33-1 -> 40800 | I34: =H34+1 -> 40801 | J34: =I34+20 -> 40821 | K34: =I34+13 -> 40814 | L34: OMIT | M34: OMIT
A35: =A34 -> SARA | B35: =B34+1 -> 59 | C35: =#REF! -> #REF! | D35: - | F35: =C35+3 -> #REF! | G35: CAPE MONDEGO 1138S | H35: =H34+8 -> 40808 | I35: =H35+1 -> 40809 | J35: OMIT | K35: =I35+12 -> 40821 | L35: =K35+2 -> 40823 | M35: =L35+2 -> 40825
A36: =A35 -> SARA | B36: =B35+1 -> 60 | C36: =#REF! -> #REF! | D36: - | F36: =C36+3 -> #REF! | G36: SANTA MONICA 006S | H36: =H35+17 -> 40825 | I36: =H36+1 -> 40826 | J36: OMIT | K36: OMIT | L36: =I36+10 -> 40836 | M36: =L36+2 -> 40838
A37: =A36 -> SARA | B37: =B36+1 -> 61 | C37: =#REF! -> #REF! | D37: - | F37: =C37+3 -> #REF! | G37: CSCL SANTIAGO 0054S | H37: =H36 +2 -> 40827 | I37: =H37+3 -> 40830 | J37: OMIT | K37: =I37+12 -> 40842 | L37: =K37+2 -> 40844 | M37: =L37+2 -> 40846
A38: =A37 -> SARA | B38: =B37+1 -> 62 | C38: =#REF! -> #REF! | D38: - | F38: =C38+3 -> #REF! | G38: IBN KHALLIKAN 1142S | H38: =H37+7 -> 40834 | I38: =H38+2 -> 40836 | J38: OMIT | K38: =I38+13 -> 40849 | L38: =K38+2 -> 40851 | M38: =L38+2 -> 40853
A39: =A38 -> SARA | B39: =B38+1 -> 63 | C39: =#REF! -> #REF! | D39: - | F39: =C39+3 -> #REF! | J39: OMIT
A40: =A39 -> SARA | B40: =B39+1 -> 64 | C40: =#REF! -> #REF! | D40: - | F40: =C40+3 -> #REF! | G40: CAPE MONDEGO 1143S | H40: =H38+8 -> 40842 | I40: =H40+2 -> 40844 | J40: OMIT | K40: =I40+12 -> 40856 | L40: =K40+2 -> 40858 | M40: =L40+2 -> 40860
A41: =A40 -> SARA | B41: =B40+1 -> 65 | C41: =#REF! -> #REF! | D41: - | F41: =C41+3 -> #REF! | G41: SANTA MONICA 007S | H41: =H40+9 -> 40851 | I41: =H41+1 -> 40852 | J41: OMIT | K41: =I41+11 -> 40863 | L41: =K41+2 -> 40865 | M41: =L41+2 -> 40867
A42: =A41 -> SARA | B42: =B41+1 -> 66 | C42: =#REF! -> #REF! | D42: - | F42: =C42+3 -> #REF! | G42: CSCL SANTIAGO 0056S | H42: =H41+5 -> 40856 | I42: =H42+2 -> 40858 | J42: OMIT | K42: =I42+11 -> 40869 | L42: =K42+3 -> 40872 | M42: =L42+2 -> 40874
A43: =A42 -> SARA | B43: =B42+1 -> 67 | C43: =#REF! -> #REF! | D43: - | F43: =C43+3 -> #REF! | G43: IBN KHALLIKAN 1146S | H43: =H42+8 -> 40864 | I43: =H43+2 -> 40866 | J43: OMIT | K43: =I43+11 -> 40877 | L43: =K43+2 -> 40879 | M43: =L43+2 -> 40881
A44: =A43 -> SARA | B44: =B43+1 -> 68 | C44: =#REF! -> #REF! | D44: - | F44: =C44+3 -> #REF! | G44: CAPE MONDEGO 1147S | H44: =H43+9 -> 40873 | I44: =H44+2 -> 40875 | J44: OMIT | K44: =I44+12 -> 40887 | L44: =K44+2 -> 40889 | M44: =L44+2 -> 40891
A45: =A44 -> SARA | B45: =B44+1 -> 69 | C45: =#REF! -> #REF! | D45: - | F45: =C45+3 -> #REF! | G45: SANTA MONICA 008S | H45: =H44+5 -> 40878 | I45: =H45+1 -> 40879 | J45: OMIT | K45: =I45+12 -> 40891 | L45: =K45+2 -> 40893 | M45: =L45+2 -> 40895
A46: =A45 -> SARA | B46: =B45+1 -> 70 | C46: =#REF! -> #REF! | D46: - | F46: =C46+3 -> #REF! | G46: CSCL SANTIAGO 0058S | H46: =H45+9 -> 40887 | I46: =H46+2 -> 40889 | J46: OMIT | K46: =I46+12 -> 40901 | L46: =K46+2 -> 40903 | M46: =L46+2 -> 40905
A47: =A46 -> SARA | B47: =B46+1 -> 71 | C47: =#REF! -> #REF! | D47: - | F47: =C47+3 -> #REF! | G47: OMIT | H47: =H46+7 -> 40894 | I47: =H47+2 -> 40896 | J47: OMIT | K47: =I47+12 -> 40908 | L47: =K47+2 -> 40910 | M47: =L47+2 -> 40912
A48: =A47 -> SARA | B48: =B47+1 -> 72 | C48: =#REF! -> #REF! | D48: - | F48: =C48+3 -> #REF! | G48: IBN KHALLIKAN 1151S | H48: =H47+3 -> 40897 | I48: =H48+2 -> 40899 | J48: OMIT | K48: =I48+13 -> 40912 | L48: =K48+2 -> 40914 | M48: =L48+2 -> 40916
A49: =A48 -> SARA | B49: =B48+1 -> 73 | C49: =#REF! -> #REF! | D49: - | F49: =C49+3 -> #REF! | G49: CAPE MONDEGO 1152S | H49: =H48+8 -> 40905 | I49: =H49+2 -> 40907 | J49: OMIT | K49: =I49+12 -> 40919 | L49: =K49+2 -> 40921 | M49: =L49+2 -> 40923
A50: =A49 -> SARA | B50: =B49+1 -> 74 | C50: =#REF! -> #REF! | D50: - | F50: =C50+3 -> #REF! | G50: SANTA MONICA 009S | H50: =H49+8 -> 40913 | I50: =H50+2 -> 40915 | J50: OMIT | K50: =I50+11 -> 40926 | L50: =K50+2 -> 40928 | M50: =L50+2 -> 40930
A51: =A50 -> SARA | B51: =B50+1 -> 75 | C51: =#REF! -> #REF! | D51: - | F51: =C51+3 -> #REF! | G51: CSCL SANTIAGO 0060S | H51: =H50+7 -> 40920 | I51: =H51+1 -> 40921 | J51: OMIT | K51: =I51+12 -> 40933 | L51: =K51+2 -> 40935 | M51: =L51+3 -> 40938
A52: =A51 -> SARA | B52: =B51+1 -> 76 | C52: =#REF! -> #REF! | D52: - | F52: =C52+3 -> #REF! | G52: IBN KHALLIKAN 1203S | H52: =H51+8 -> 40928 | I52: =H52+1 -> 40929 | J52: OMIT | K52: =I52+12 -> 40941 | L52: =K52+2 -> 40943 | M52: =L52+2 -> 40945
A53: =A52 -> SARA | B53: =B52+1 -> 77 | C53: =#REF! -> #REF! | D53: - | F53: =C53+3 -> #REF! | G53: CAPE MONDEGO 1204S | H53: =H52+6 -> 40934 | I53: =H53+1 -> 40935 | J53: OMIT | K53: =I53+12 -> 40947 | L53: =K53+2 -> 40949 | M53: =L53+2 -> 40951
A54: =A53 -> SARA | B54: =B53+1 -> 78 | C54: =#REF! -> #REF! | D54: - | F54: =C54+3 -> #REF! | G54: SANTA MONICA 010S | H54: =H53+8 -> 40942 | I54: =H54+2 -> 40944 | J54: OMIT | K54: =I54+11 -> 40955 | L54: =K54+3 -> 40958 | M54: =L54+2 -> 40960
A55: =A54 -> SARA | B55: =B54+1 -> 79 | C55: =#REF! -> #REF! | D55: - | F55: =C55+3 -> #REF! | G55: CSCL SANTIAGO 0062S | H55: =H54+6 -> 40948 | I55: =H55+1 -> 40949 | J55: OMIT | K55: =I55+12 -> 40961 | L55: =K55+2 -> 40963 | M55: =L55+2 -> 40965
A56: =A55 -> SARA | B56: =B55+1 -> 80 | C56: 40948 | D56: - | F56: =C56+3 -> 40951 | G56: UASC JUBAIL 1207S | H56: =H55+8 -> 40956 | I56: =H56+1 -> 40957 | J56: OMIT | K56: =I56+12 -> 40969 | L56: =K56+2 -> 40971 | M56: =L56+2 -> 40973
A57: =A56 -> SARA | B57: =B56+1 -> 81 | C57: =C56+7 -> 40955 | D57: - | F57: =C57+3 -> 40958 | G57: CAPE MONDEGO 1208S | H57: =H56+5 -> 40961 | I57: =H57+2 -> 40963 | J57: OMIT | K57: =I57+12 -> 40975 | L57: =K57+2 -> 40977 | M57: =L57+2 -> 40979
A58: =A57 -> SARA | B58: =B57+1 -> 82 | C58: =C57+7 -> 40962 | D58: - | F58: =C58+3 -> 40965 | G58: SANTA MONICA 011S | H58: =H57+7 -> 40968 | I58: =H58+2 -> 40970 | J58: OMIT | K58: =I58+12 -> 40982 | L58: =K58+2 -> 40984 | M58: =L58+2 -> 40986
A59: =A58 -> SARA | B59: =B58+1 -> 83 | C59: =C58+7 -> 40969 | D59: - | F59: =C59+3 -> 40972 | G59: CSCL SANTIAGO 0064S | H59: =H58+8 -> 40976 | I59: =H59+1 -> 40977 | J59: OMIT | K59: =I59+11 -> 40988 | L59: =K59+3 -> 40991 | M59: =L59+3 -> 40994
A60: =A59 -> SARA | B60: =B59+1 -> 84 | C60: =C59+7 -> 40976 | D60: - | F60: =C60+3 -> 40979 | G60: UASC JUBAIL 1211S | H60: =H59+9 -> 40985 | I60: =H60+2 -> 40987 | J60: OMIT | K60: =I60+11 -> 40998 | L60: =K60+2 -> 41000 | M60: =L60+2 -> 41002
A61: =A60 -> SARA | B61: =B60+1 -> 85 | C61: =C60+7 -> 40983 | D61: - | F61: =C61+3 -> 40986 | G61: CAPE MONDEGO 1212S | H61: =H60+5 -> 40990 | I61: =H61+2 -> 40992 | J61: OMIT | K61: =I61+11 -> 41003 | L61: =K61+2 -> 41005 | M61: =L61+2 -> 41007
A62: =A61 -> SARA | B62: =B61+1 -> 86 | C62: =C61+7 -> 40990 | D62: - | F62: =C62+3 -> 40993 | G62: SANTA MONICA 012S | H62: =H61+7 -> 40997 | I62: =H62+1 -> 40998 | J62: OMIT | K62: =I62+11 -> 41009 | L62: =K62+3 -> 41012 | M62: =L62+2 -> 41014
A63: =A62 -> SARA | B63: =B62+1 -> 87 | C63: =C62+7 -> 40997 | D63: - | F63: =C63+3 -> 41000 | G63: CSCL SANTIAGO 0066S | H63: =H62+7 -> 41004 | I63: =H63+2 -> 41006 | J63: OMIT | K63: =I63+11 -> 41017 | L63: =K63+3 -> 41020 | M63: =L63+2 -> 41022
A64: ='WA-WAF1'!#REF! -> #REF! | B64: ='WA-WAF1'!#REF! -> #REF! | C64: ='WA-WAF1'!#REF! -> #REF! | D64: ='WA-WAF1'!#REF! -> #REF! | E64: =C64+1 -> #REF! | F64: =C64+3 -> #REF! | G64: UASC JUBAIL 1215S | H64: =H63+8 -> 41012 | I64: =H64+2 -> 41014 | J64: OMIT | K64: =I64+11 -> 41025 | L64: =K64+2 -> 41027 | M64: =L64+3 -> 41030
G65: CAPE MONDEGO 1216S | H65: =H64+6 -> 41018 | I65: =H65+1 -> 41019 | K65: =H65+13 -> 41031 | L65: =H65+15 -> 41033 | M65: =H65+17 -> 41035
A66: ='WM-AMC1'!A20 -> SIMA SAPPHIRE | B66: ='WM-AMC1'!B20 -> 411 | C66: ='WM-AMC1'!C20 -> 41007 | F66: =C66+3 -> 41010
A67: ='WM-AMC1'!A21 -> PAC ANTLIA | B67: ='WM-AMC1'!B21 -> 60 | C67: ='WM-AMC1'!C21 -> 41012 | E67: =C67+1 -> 41013 | F67: =C67+3 -> 41015
G69: SANTA MONICA 013S | H69: =H65+7 -> 41025 | I69: =H69+2 -> 41027 | K69: =H69+13 -> 41038 | L69: =H69+15 -> 41040 | M69: =H69+18 -> 41043
A70: ='WM-AMC1'!A24 -> SIMA SAPPHIRE | B70: ='WM-AMC1'!B24 -> 412 | C70: ='WM-AMC1'!C24 -> 41014 | F70: =C70+3 -> 41017
A71: ='WM-AMC1'!A25 -> CAPE FRIO | B71: ='WM-AMC1'!B25 -> 53 | C71: ='WM-AMC1'!C25 -> 41019 | E71: =C71+1 -> 41020 | F71: =C71+3 -> 41022
G73: CSCL SANTIAGO 0068S | H73: =H69+7 -> 41032 | I73: =H73+2 -> 41034 | K73: =H73+13 -> 41045 | L73: =H73+15 -> 41047 | M73: =H73+17 -> 41049
A74: ='WM-AMC1'!A28 -> SIMA SAPPHIRE | B74: ='WM-AMC1'!B28 -> 413 | C74: ='WM-AMC1'!C28 -> 41021 | F74: =C74+3 -> 41024
A75: ='WM-AMC1'!A29 -> PAC ANTLIA | B75: ='WM-AMC1'!B29 -> 61 | C75: ='WM-AMC1'!C29 -> 41026 | E75: =C75+1 -> 41027 | F75: =C75+3 -> 41029
G77: UASC JUBAIL 1219S | H77: =H73+6 -> 41038 | I77: =H77+2 -> 41040 | K77: =H77+14 -> 41052 | L77: =H77+16 -> 41054 | M77: =H77+18 -> 41056
A78: ='WM-AMC1'!A32 -> SIMA SAPPHIRE | B78: ='WM-AMC1'!B32 -> 414 | C78: ='WM-AMC1'!C32 -> 41028 | F78: =C78+3 -> 41031
A79: ='WM-AMC1'!A33 -> CAPE FRIO | B79: ='WM-AMC1'!B33 -> 54 | C79: ='WM-AMC1'!C33 -> 41033 | E79: =C79+1 -> 41034 | F79: =C79+3 -> 41036
G81: CAPE MONDEGO 1220S | H81: =H77+8 -> 41046 | I81: =H81+1 -> 41047 | K81: =H81+13 -> 41059 | L81: =H81+15 -> 41061 | M81: =H81+17 -> 41063
A82: ='WM-AMC1'!A36 -> SIMA SAPPHIRE | B82: ='WM-AMC1'!B36 -> 415 | C82: ='WM-AMC1'!C36 -> 41035 | F82: =C82+3 -> 41038
A83: ='WM-AMC1'!A37 -> PAC ANTLIA | B83: ='WM-AMC1'!B37 -> 62 | C83: ='WM-AMC1'!C37 -> 41040 | E83: =C83+1 -> 41041 | F83: =C83+3 -> 41043
G85: SANTA MONICA 014S | H85: =H81+6 -> 41052 | I85: =H85+2 -> 41054 | K85: =H85+14 -> 41066 | L85: =H85+16 -> 41068 | M85: =H85+18 -> 41070
A86: ='WM-AMC1'!A40 -> SIMA SAPPHIRE | B86: ='WM-AMC1'!B40 -> 416 | C86: ='WM-AMC1'!C40 -> 41042 | F86: =C86+3 -> 41045
A87: ='WM-AMC1'!A41 -> CAPE FRIO | B87: ='WM-AMC1'!B41 -> 55 | C87: ='WM-AMC1'!C41 -> 41047 | E87: =C87+1 -> 41048 | F87: =C87+3 -> 41050
G89: CSCL SANTIAGO 0070S | H89: =H85+8 -> 41060 | I89: =H89+1 -> 41061 | K89: =H89+13 -> 41073 | L89: =H89+15 -> 41075 | M89: =H89+17 -> 41077
A90: ='WM-AMC1'!A44 -> SIMA SAPPHIRE | B90: ='WM-AMC1'!B44 -> 417 | C90: ='WM-AMC1'!C44 -> 41049 | F90: =C90+3 -> 41052
A91: ='WM-AMC1'!A45 -> GALLANT WAVE | B91: ='WM-AMC1'!B45 -> 64 | C91: ='WM-AMC1'!C45 -> 41053 | E91: =C91+1 -> 41054 | F91: =C91+3 -> 41056
G93: UASC JUBAIL 1223S | H93: =H89+6 -> 41066 | I93: =H93+2 -> 41068 | K93: =H93+14 -> 41080 | L93: =H93+16 -> 41082 | M93: =H93+18 -> 41084
A94: ='WM-AMC1'!A48 -> SIMA SAPPHIRE | B94: ='WM-AMC1'!B48 -> 418 | C94: ='WM-AMC1'!C48 -> 41056 | F94: =C94+3 -> 41059
A95: ='WM-AMC1'!A49 -> CAPE FRIO | B95: ='WM-AMC1'!B49 -> 56 | C95: ='WM-AMC1'!C49 -> 41061 | E95: =C95+1 -> 41062 | F95: =C95+3 -> 41064
G97: CAPE MONDEGO 1224S | H97: =H93+7 -> 41073 | I97: =H97+2 -> 41075 | K97: =H97+14 -> 41087 | L97: =H97+16 -> 41089 | M97: =H97+18 -> 41091
A98: ='WM-AMC1'!A52 -> SIMA SAPPHIRE | B98: ='WM-AMC1'!B52 -> 419 | C98: ='WM-AMC1'!C52 -> 41063 | F98: =C98+3 -> 41066
A99: ='WM-AMC1'!A53 -> PAC ANTLIA | B99: ='WM-AMC1'!B53 -> 65 | C99: ='WM-AMC1'!C53 -> 41068 | E99: =C99+1 -> 41069 | F99: =C99+3 -> 41071
G101: SANTA MONICA 015S | H101: =H97+7 -> 41080 | I101: =H101+2 -> 41082 | K101: =H101+14 -> 41094 | L101: =H101+16 -> 41096 | M101: =H101+18 -> 41098
A102: ='WM-AMC1'!A56 -> SIMA SAPPHIRE | B102: ='WM-AMC1'!B56 -> 420 | C102: ='WM-AMC1'!C56 -> 41070 | F102: =C102+3 -> 41073
A103: ='WM-AMC1'!A57 -> CAPE FRIO | B103: ='WM-AMC1'!B57 -> 57 | C103: ='WM-AMC1'!C57 -> 41075 | E103: =C103+1 -> 41076 | F103: =C103+3 -> 41078
G105: CSCL SANTIAGO 0072S | H105: =H101+7 -> 41087 | I105: =H105+2 -> 41089 | K105: =H105+14 -> 41101 | L105: =H105+16 -> 41103 | M105: =H105+18 -> 41105
A106: ='WM-AMC1'!A60 -> SIMA SAPPHIRE | B106: ='WM-AMC1'!B60 -> 421 | C106: ='WM-AMC1'!C60 -> 41077 | F106: =C106+3 -> 41080
A107: ='WM-AMC1'!A61 -> PAC ANTLIA | B107: ='WM-AMC1'!B61 -> 66 | C107: ='WM-AMC1'!C61 -> 41082 | E107: =C107+1 -> 41083 | F107: =C107+3 -> 41085
G109: UASC JUBAIL 1227S | H109: =H105+7 -> 41094 | I109: =H109+2 -> 41096 | K109: =H109+14 -> 41108 | L109: =H109+16 -> 41110 | M109: =H109+18 -> 41112
A110: ='WM-AMC1'!A64 -> SIMA SAPPHIRE | B110: ='WM-AMC1'!B64 -> 422 | C110: ='WM-AMC1'!C64 -> 41084 | F110: =C110+3 -> 41087
A111: ='WM-AMC1'!A65 -> CAPE FRIO | B111: ='WM-AMC1'!B65 -> 58 | C111: ='WM-AMC1'!C65 -> 41089 | E111: =C111+1 -> 41090 | F111: =C111+3 -> 41092
G113: CAPE MONDEGO 1228S | H113: =H109+7 -> 41101 | I113: =H113+2 -> 41103 | K113: =H113+14 -> 41115 | L113: =H113+16 -> 41117 | M113: =H113+18 -> 41119
A114: ='WM-AMC1'!A68 -> SIMA SAPPHIRE | B114: ='WM-AMC1'!B68 -> 423 | C114: ='WM-AMC1'!C68 -> 41091 | F114: =C114+3 -> 41094
A115: ='WM-AMC1'!A69 -> PAC ANTLIA | B115: ='WM-AMC1'!B69 -> 67 | C115: ='WM-AMC1'!C69 -> 41096 | E115: =C115+1 -> 41097 | F115: =C115+3 -> 41099
...

Sheet AG-AGX1
D2: FROM HO CHI MINH TO ARABIAN GULF PORTS
D3: AGX1 SERVICE
Z5: Update: | AA5: ='NE-AEC7 (DIRECTLY)'!$J$6 -> 41046
A6: FEEDER | B6: VOY | C6: ETD HCM | D6: ETA PKG | E6: MOTHER VESSEL | F6: ETA PKG | G6: Khorfakkan | H6: Jebel Ali | I6: Ajman (via AEJEAi) | J6: UMM QASR | K6: KHORRAMSHAHR | L6: Shuaiba (Kuwait) | M6: Shuwaikh (Kuwait) | N6: Abu Dhabi | O6: FUJAIRAH | P6: RAS AL KHAIMAH | Q6: Sharjah | R6: Bahrain | S6: ASALUYEH (via AEJEA) | T6: BANDAR KHOMEINI (via AEJEA) | U6: IR.SHAHID RAJAEE | V6: Port Sultan Qaboo | W6: SOHAR | X6: Doha | Y6: Damman | Z6: JUBAIL | AA6: RIYADH ( via SADMM )
A7: =#REF! -> #REF! | B7: =#REF! -> #REF! | C7: =#REF! -> #REF! | D7: =#REF! -> #REF! | E7: UASC SHARJAH 1109W | F7: 40616 | G7: =F7+7 -> 40623 | H7: =G7+2 -> 40625 | I7: =H7+4 -> 40629 | L7: =G7+8 -> 40631 | M7: =G7+8 -> 40631 | N7: =G7+3 -> 40626 | Q7: =G7+2 -> 40625 | R7: =G7+7 -> 40630 | T7: =H7+7 -> 40632 | U7: =G7+6 -> 40629 | V7: =G7+3 -> 40626 | X7: =G7+2 -> 40625 | Y7: =G7+4 -> 40627 | Z7: =G7+2 -> 40625 | AA7: =Y7+1 -> 40628
A8: =A7 -> #REF! | B8: =B7+1 -> #REF! | C8: =C7+7 -> #REF! | D8: =C8+3 -> #REF! | E8: PESCARA 1110W | F8: =F7+7 -> 40623 | G8: =F8+7 -> 40630 | H8: =G8+2 -> 40632 | I8: =H8+4 -> 40636 | L8: =G8+8 -> 40638 | M8: =G8+8 -> 40638 | N8: =G8+3 -> 40633 | Q8: =G8+2 -> 40632 | R8: =G8+7 -> 40637 | T8: =H8+7 -> 40639 | U8: =G8+6 -> 40636 | V8: =G8+3 -> 40633 | X8: =G8+2 -> 40632 | Y8: =G8+4 -> 40634 | Z8: =G8+2 -> 40632 | AA8: =Y8+1 -> 40635
A9: =A8 -> #REF! | B9: =B8+1 -> #REF! | C9: =C8+7 -> #REF! | D9: =C9+3 -> #REF! | E9: HS WAGNER 1111W | F9: =F8+7 -> 40630 | G9: =F9+8 -> 40638 | H9: =G9+2 -> 40640 | I9: =H9+4 -> 40644 | L9: =G9+8 -> 40646 | M9: =G9+8 -> 40646 | N9: =G9+3 -> 40641 | Q9: =G9+2 -> 40640 | R9: =G9+7 -> 40645 | T9: =H9+7 -> 40647 | U9: =G9+6 -> 40644 | V9: =G9+3 -> 40641 | X9: =G9+2 -> 40640 | Y9: =G9+4 -> 40642 | Z9: =G9+2 -> 40640 | AA9: =Y9+1 -> 40643
A10: =A9 -> #REF! | B10: =B9+1 -> #REF! | C10: =C9+7 -> #REF! | D10: =C10+3 -> #REF! | E10: UASC SHUAIBA 1112W | F10: =F9+7 -> 40637 | G10: =F10+8 -> 40645 | H10: =G10+2 -> 40647 | I10: =H10+4 -> 40651 | L10: =G10+8 -> 40653 | M10: =G10+8 -> 40653 | N10: =G10+3 -> 40648 | Q10: =G10+2 -> 40647 | R10: =G10+7 -> 40652 | T10: =H10+7 -> 40654 | U10: =G10+6 -> 40651 | V10: =G10+3 -> 40648 | X10: =G10+2 -> 40647 | Y10: =G10+4 -> 40649 | Z10: =G10+2 -> 40647 | AA10: =Y10+1 -> 40650
A11: =A10 -> #REF! | B11: =B10+1 -> #REF! | C11: =C10+7 -> #REF! | D11: =C11+3 -> #REF! | E11: UASC ZAMZAM 1113W | F11: =F10+7 -> 40644 | G11: =F11+8 -> 40652 | H11: =G11+2 -> 40654 | I11: =H11+4 -> 40658 | L11: =G11+8 -> 40660 | M11: =G11+8 -> 40660 | N11: =G11+3 -> 40655 | Q11: =G11+2 -> 40654 | R11: =G11+7 -> 40659 | T11: =H11+7 -> 40661 | U11: =G11+6 -> 40658 | V11: =G11+3 -> 40655 | X11: =G11+2 -> 40654 | Y11: =G11+4 -> 40656 | Z11: =G11+2 -> 40654 | AA11: =Y11+1 -> 40657
A12: =A11 -> #REF! | B12: =B11+1 -> #REF! | C12: =C11+7 -> #REF! | D12: =C12+3 -> #REF! | E12: UASC SHARJAH 1114W | F12: =F11+7 -> 40651 | G12: =F12+8 -> 40659 | H12: =G12+2 -> 40661 | I12: =H12+4 -> 40665 | L12: =G12+8 -> 40667 | M12: =G12+8 -> 40667 | N12: =G12+3 -> 40662 | Q12: =G12+2 -> 40661 | R12: =G12+7 -> 40666 | T12: =H12+7 -> 40668 | U12: =G12+6 -> 40665 | V12: =G12+3 -> 40662 | X12: =G12+2 -> 40661 | Y12: =G12+4 -> 40663 | Z12: =G12+2 -> 40661 | AA12: =Y12+1 -> 40664
A13: =A12 -> #REF! | B13: =B12+1 -> #REF! | C13: =C12+7 -> #REF! | D13: =C13+3 -> #REF! | E13: UASC DOHA 1115W | F13: =F12+7 -> 40658 | G13: =F13+9 -> 40667 | H13: =G13+1 -> 40668 | I13: =H13+4 -> 40672 | L13: =G13+8 -> 40675 | M13: =G13+8 -> 40675 | N13: =G13+3 -> 40670 | Q13: =G13+2 -> 40669 | R13: =G13+7 -> 40674 | T13: =H13+7 -> 40675 | U13: =G13+6 -> 40673 | V13: =G13+3 -> 40670 | X13: =G13+2 -> 40669 | Y13: =G13+4 -> 40671 | Z13: =G13+2 -> 40669 | AA13: =Y13+1 -> 40672
A14: =A13 -> #REF! | B14: =B13+1 -> #REF! | C14: =C13+7 -> #REF! | D14: =C14+3 -> #REF! | E14: HS WAGNER 1116W | F14: =F13+7 -> 40665 | G14: =F14+8 -> 40673 | H14: =G14+2 -> 40675 | I14: =H14+4 -> 40679 | L14: =G14+8 -> 40681 | M14: =G14+8 -> 40681 | N14: =G14+3 -> 40676 | Q14: =G14+2 -> 40675 | R14: =G14+7 -> 40680 | T14: =H14+7 -> 40682 | U14: =G14+6 -> 40679 | V14: =G14+3 -> 40676 | X14: =G14+2 -> 40675 | Y14: =G14+4 -> 40677 | Z14: =G14+2 -> 40675 | AA14: =Y14+1 -> 40678
A15: BERNHARD SIBUM | B15: 40 | C15: =C14+7 -> #REF! | D15: =C15+3 -> #REF! | E15: HS BRUCKNER 1117W | F15: =F14+7 -> 40672 | G15: =F15+8 -> 40680 | H15: =G15+2 -> 40682 | I15: =H15+4 -> 40686 | L15: =G15+8 -> 40688 | M15: =G15+8 -> 40688 | N15: =G15+3 -> 40683 | Q15: =G15+2 -> 40682 | R15: =G15+7 -> 40687 | T15: =H15+7 -> 40689 | U15: =G15+6 -> 40686 | V15: =G15+3 -> 40683 | X15: =G15+2 -> 40682 | Y15: =G15+4 -> 40684 | Z15: =G15+2 -> 40682 | AA15: =Y15+1 -> 40685
A16: =A15 -> BERNHARD SIBUM | B16: =B15+1 -> 41 | C16: =C15+7 -> #REF! | D16: =C16+3 -> #REF! | E16: OMIT | F16: =F15+6 -> 40678 | G16: =F16+7 -> 40685 | H16: =G16+3 -> 40688 | I16: =H16+4 -> 40692 | L16: =G16+8 -> 40693 | M16: =G16+8 -> 40693 | N16: =G16+3 -> 40688 | Q16: =G16+2 -> 40687 | R16: =G16+7 -> 40692 | T16: =H16+7 -> 40695 | U16: =G16+6 -> 40691 | V16: =G16+3 -> 40688 | X16: =G16+2 -> 40687 | Y16: =G16+4 -> 40689 | Z16: =G16+2 -> 40687 | AA16: =Y16+1 -> 40690
A17: SARA | B17: =B16+1 -> 42 | C17: =C16+7 -> #REF! | D17: =C17+3 -> #REF! | E17: UASC SHARJAH 1119W | F17: =F16+8 -> 40686 | G17: =F17+8 -> 40694 | H17: =G17+2 -> 40696 | I17: =H17+4 -> 40700 | L17: =G17+8 -> 40702 | M17: =G17+8 -> 40702 | N17: =G17+3 -> 40697 | Q17: =G17+2 -> 40696 | R17: =G17+7 -> 40701 | T17: =H17+7 -> 40703 | U17: =G17+6 -> 40700 | V17: =G17+3 -> 40697 | X17: =G17+2 -> 40696 | Y17: =G17+4 -> 40698 | Z17: =G17+2 -> 40696 | AA17: =Y17+1 -> 40699
A18: =A17 -> SARA | B18: =B17+1 -> 43 | C18: =C17+7 -> #REF! | D18: =C18+3 -> #REF! | E18: WINTER D 1120W | F18: =F17+7 -> 40693 | G18: =F18+8 -> 40701 | H18: =G18+2 -> 40703 | I18: =H18+4 -> 40707 | L18: =G18+8 -> 40709 | M18: =G18+8 -> 40709 | N18: =G18+3 -> 40704 | Q18: =G18+2 -> 40703 | R18: =G18+7 -> 40708 | T18: =H18+7 -> 40710 | U18: =G18+6 -> 40707 | V18: =G18+3 -> 40704 | X18: =G18+2 -> 40703 | Y18: =G18+4 -> 40705 | Z18: =G18+2 -> 40703 | AA18: =Y18+1 -> 40706
A19: =A18 -> SARA | B19: =B18+1 -> 44 | C19: =C18+7 -> #REF! | D19: =C19+3 -> #REF! | E19: HS WAGNER 1121W | F19: =F18+7 -> 40700 | G19: =F19+8 -> 40708 | H19: =G19+2 -> 40710 | I19: =H19+4 -> 40714 | L19: =G19+8 -> 40716 | M19: =G19+8 -> 40716 | N19: =G19+3 -> 40711 | Q19: =G19+2 -> 40710 | R19: =G19+7 -> 40715 | T19: =H19+7 -> 40717 | U19: =G19+6 -> 40714 | V19: =G19+3 -> 40711 | X19: =G19+2 -> 40710 | Y19: =G19+4 -> 40712 | Z19: =G19+2 -> 40710 | AA19: =Y19+1 -> 40713
A20: =A19 -> SARA | B20: =B19+1 -> 45 | C20: =C19+7 -> #REF! | D20: =C20+3 -> #REF! | E20: HS BRUCKNER 1122W | F20: =F19+9 -> 40709 | G20: =F20+8 -> 40717 | H20: =G20+2 -> 40719 | I20: =H20+4 -> 40723 | L20: =G20+8 -> 40725 | M20: =G20+8 -> 40725 | N20: =G20+3 -> 40720 | Q20: =G20+2 -> 40719 | R20: =G20+7 -> 40724 | T20: =H20+7 -> 40726 | U20: =G20+6 -> 40723 | V20: =G20+3 -> 40720 | X20: =G20+2 -> 40719 | Y20: =G20+4 -> 40721 | Z20: =G20+2 -> 40719 | AA20: =Y20+1 -> 40722
A21: =A20 -> SARA | B21: =B20+1 -> 46 | C21: =C20+7 -> #REF! | D21: =C21+3 -> #REF! | E21: PESCARA 1123W | F21: =F20+6 -> 40715 | G21: =F21+8 -> 40723 | H21: =G21+1 -> 40724 | I21: =H21+4 -> 40728 | L21: =G21+8 -> 40731 | M21: =G21+8 -> 40731 | N21: =G21+3 -> 40726 | Q21: =G21+2 -> 40725 | R21: =G21+7 -> 40730 | T21: =H21+7 -> 40731 | U21: =G21+6 -> 40729 | V21: =G21+3 -> 40726 | X21: =G21+2 -> 40725 | Y21: =G21+4 -> 40727 | Z21: =G21+2 -> 40725 | AA21: =Y21+1 -> 40728
A22: =A21 -> SARA | B22: =B21+1 -> 47 | C22: =C21+7 -> #REF! | D22: =C22+3 -> #REF! | E22: UASC SHARJAH 1124W | F22: =F21+7 -> 40722 | G22: =F22+8 -> 40730 | H22: =G22+2 -> 40732 | I22: =H22+4 -> 40736 | L22: =G22+8 -> 40738 | M22: =G22+8 -> 40738 | N22: =G22+3 -> 40733 | Q22: =G22+2 -> 40732 | R22: =G22+7 -> 40737 | T22: =H22+7 -> 40739 | U22: =G22+6 -> 40736 | V22: =G22+3 -> 40733 | X22: =G22+2 -> 40732 | Y22: =G22+4 -> 40734 | Z22: =G22+2 -> 40732 | AA22: =Y22+1 -> 40735
A23: =A22 -> SARA | B23: =B22+1 -> 48 | C23: =C22+7 -> #REF! | D23: =C23+3 -> #REF! | E23: WINTER D 1125W | F23: =F22+8 -> 40730 | G23: =F23+7 -> 40737 | H23: =G23+2 -> 40739 | I23: =H23+4 -> 40743 | L23: =G23+8 -> 40745 | M23: =G23+8 -> 40745 | N23: =G23+3 -> 40740 | Q23: =G23+2 -> 40739 | R23: =G23+7 -> 40744 | T23: =H23+7 -> 40746 | U23: =G23+6 -> 40743 | V23: =G23+3 -> 40740 | X23: =G23+2 -> 40739 | Y23: =G23+4 -> 40741 | Z23: =G23+2 -> 40739 | AA23: =Y23+1 -> 40742
A24: =A23 -> SARA | B24: =B23+1 -> 49 | C24: =C23+7 -> #REF! | D24: =C24+3 -> #REF! | E24: HS WAGNER 1126W | F24: =F23+6 -> 40736 | G24: =F24+8 -> 40744 | H24: =G24+1 -> 40745 | I24: =H24+4 -> 40749 | L24: =G24+8 -> 40752 | M24: =G24+8 -> 40752 | N24: =G24+3 -> 40747 | Q24: =G24+2 -> 40746 | R24: =G24+7 -> 40751 | T24: =H24+7 -> 40752 | U24: =G24+6 -> 40750 | V24: =G24+3 -> 40747 | X24: =G24+2 -> 40746 | Y24: =G24+4 -> 40748 | Z24: =G24+2 -> 40746 | AA24: =Y24+1 -> 40749
A25: =A24 -> SARA | B25: =B24+1 -> 50 | C25: =C24+7 -> #REF! | D25: =C25+3 -> #REF! | E25: HS BRUCKNER 1127W | F25: =F24+6 -> 40742 | G25: =F25+8 -> 40750 | H25: =G25+1 -> 40751 | I25: =H25+4 -> 40755 | L25: =G25+8 -> 40758 | M25: =G25+8 -> 40758 | N25: =G25+3 -> 40753 | Q25: =G25+2 -> 40752 | R25: =G25+7 -> 40757 | T25: =H25+7 -> 40758 | U25: =G25+6 -> 40756 | V25: =G25+3 -> 40753 | X25: =G25+2 -> 40752 | Y25: =G25+4 -> 40754 | Z25: =G25+2 -> 40752 | AA25: =Y25+1 -> 40755
A26: =A25 -> SARA | B26: =B25+1 -> 51 | C26: =C25+7 -> #REF! | D26: =C26+3 -> #REF! | E26: PESCARA 1128W | F26: =F25+8 -> 40750 | G26: =F26+8 -> 40758 | H26: =G26+1 -> 40759 | I26: =H26+4 -> 40763 | L26: =G26+8 -> 40766 | M26: =G26+8 -> 40766 | N26: =G26+3 -> 40761 | Q26: =G26+2 -> 40760 | R26: =G26+7 -> 40765 | T26: =H26+7 -> 40766 | U26: =G26+6 -> 40764 | V26: =G26+3 -> 40761 | X26: =G26+2 -> 40760 | Y26: =G26+4 -> 40762 | Z26: =G26+2 -> 40760 | AA26: =Y26+1 -> 40763
A27: =A26 -> SARA | B27: =B26+1 -> 52 | C27: =C26+7 -> #REF! | D27: =C27+3 -> #REF! | E27: UASC SHARJAH 1129W | F27: =F26+7 -> 40757 | G27: =F27+8 -> 40765 | H27: =F27+8 -> 40765 | I27: =H27+4 -> 40769 | L27: =G27+8 -> 40773 | M27: =G27+8 -> 40773 | N27: =G27+3 -> 40768 | Q27: =G27+2 -> 40767 | R27: =G27+7 -> 40772 | T27: =H27+7 -> 40772 | U27: =G27+6 -> 40771 | V27: =G27+3 -> 40768 | X27: =G27+2 -> 40767 | Y27: =G27+4 -> 40769 | Z27: =G27+2 -> 40767 | AA27: =Y27+1 -> 40770
A28: =A27 -> SARA | B28: =B27+1 -> 53 | C28: =C27+7 -> #REF! | D28: =C28+3 -> #REF! | E28: WINTER D 1130W | F28: =F27+6 -> 40763 | G28: =F28+8 -> 40771 | H28: =F28+9 -> 40772 | I28: =H28+4 -> 40776 | L28: =G28+8 -> 40779 | M28: =G28+8 -> 40779 | N28: =G28+3 -> 40774 | Q28: =G28+2 -> 40773 | R28: =G28+7 -> 40778 | T28: =H28+7 -> 40779 | U28: =G28+6 -> 40777 | V28: =G28+3 -> 40774 | X28: =G28+2 -> 40773 | Y28: =G28+4 -> 40775 | Z28: =G28+2 -> 40773 | AA28: =Y28+1 -> 40776
A29: =A28 -> SARA | B29: =B28+1 -> 54 | C29: =C28+7 -> #REF! | D29: =C29+3 -> #REF! | E29: PESCARA 1131W | F29: =F28+9 -> 40772 | G29: =F29+8 -> 40780 | H29: =F29+9 -> 40781 | I29: =H29+4 -> 40785 | L29: =G29+8 -> 40788 | M29: =G29+8 -> 40788 | N29: =G29+3 -> 40783 | Q29: =G29+2 -> 40782 | R29: =G29+7 -> 40787 | T29: =H29+7 -> 40788 | U29: =G29+6 -> 40786 | V29: =G29+3 -> 40783 | X29: =G29+2 -> 40782 | Y29: =G29+4 -> 40784 | Z29: =G29+2 -> 40782 | AA29: =Y29+1 -> 40785
A30: =A29 -> SARA | B30: =B29+1 -> 55 | C30: =C29+7 -> #REF! | D30: =C30+3 -> #REF! | E30: UASC DAMMAM 1132W | F30: =F29+8 -> 40780 | G30: =F30+8 -> 40788 | H30: =F30+8 -> 40788 | I30: =H30+4 -> 40792 | L30: =G30+8 -> 40796 | M30: =G30+8 -> 40796 | N30: =G30+3 -> 40791 | Q30: =G30+2 -> 40790 | R30: =G30+7 -> 40795 | T30: =H30+7 -> 40795 | U30: =G30+6 -> 40794 | V30: =G30+3 -> 40791 | X30: =G30+2 -> 40790 | Y30: =G30+4 -> 40792 | Z30: =G30+2 -> 40790 | AA30: =Y30+1 -> 40793
A31: =A30 -> SARA | B31: =B30+1 -> 56 | C31: =C30+7 -> #REF! | D31: =C31+3 -> #REF! | E31: PESCARA 1133W | F31: =F30+13 -> 40793 | G31: =F31+8 -> 40801 | H31: =F31+9 -> 40802 | I31: =H31+4 -> 40806 | L31: =G31+8 -> 40809 | M31: =G31+8 -> 40809 | N31: =G31+3 -> 40804 | Q31: =G31+2 -> 40803 | R31: =G31+7 -> 40808 | T31: =H31+7 -> 40809 | U31: =G31+6 -> 40807 | V31: =G31+3 -> 40804 | X31: =G31+2 -> 40803 | Y31: =G31+4 -> 40805 | Z31: =G31+2 -> 40803 | AA31: =Y31+1 -> 40806
A32: =A31 -> SARA | B32: =B31+1 -> 57 | C32: =C31+7 -> #REF! | D32: =C32+3 -> #REF! | E32: UASC SHARJAH 1134W | F32: =F31+1 -> 40794 | G32: =F32+8 -> 40802 | H32: =F32+7 -> 40801 | I32: =H32+4 -> 40805 | L32: =G32+8 -> 40810 | M32: =G32+8 -> 40810 | N32: =G32+3 -> 40805 | Q32: =G32+2 -> 40804 | R32: =G32+7 -> 40809 | T32: =H32+7 -> 40808 | U32: =G32+6 -> 40808 | V32: =G32+3 -> 40805 | X32: =G32+2 -> 40804 | Y32: =G32+4 -> 40806 | Z32: =G32+2 -> 40804 | AA32: =Y32+1 -> 40807
A33: =A32 -> SARA | B33: =B32+1 -> 58 | C33: =C32+7 -> #REF! | D33: =C33+3 -> #REF! | E33: WINTER D 1135W | F33: =F32+4 -> 40798 | G33: =F33+8 -> 40806 | H33: =F33+8 -> 40806 | I33: =H33+4 -> 40810 | L33: =G33+5 -> 40811 | M33: =G33+4 -> 40810 | N33: =G33+3 -> 40809 | Q33: =G33+2 -> 40808 | R33: =G33+3 -> 40809 | T33: =H33+7 -> 40813 | U33: =G33+6 -> 40812 | V33: =G33+3 -> 40809 | X33: =G33+2 -> 40808 | Y33: =G33+4 -> 40810 | Z33: =G33+2 -> 40808 | AA33: =Y33+1 -> 40811
A34: =A33 -> SARA | B34: =B33+1 -> 59 | C34: =C33+7 -> #REF! | D34: =C34+3 -> #REF! | E34: HS WAGNER 1136W | F34: =F33+11 -> 40809 | G34: =F34+8 -> 40817 | H34: =F34+8 -> 40817 | I34: =H34+4 -> 40821 | L34: =G34+5 -> 40822 | M34: =G34+4 -> 40821 | N34: =G34+3 -> 40820 | Q34: =G34+2 -> 40819 | R34: =G34+3 -> 40820 | T34: =H34+7 -> 40824 | U34: =G34+6 -> 40823 | V34: =G34+4 -> 40821 | X34: =G34+2 -> 40819 | Y34: =G34+4 -> 40821 | Z34: =G34+2 -> 40819 | AA34: =Y34+1 -> 40822
A35: =A34 -> SARA | B35: =B34+1 -> 60 | C35: =C34+7 -> #REF! | D35: =C35+3 -> #REF! | E35: UASC DAMMAM 1137W | F35: =F34+5 -> 40814 | G35: =F35+8 -> 40822 | H35: =F35+8 -> 40822 | I35: =H35+4 -> 40826 | L35: =G35+5 -> 40827 | M35: =G35+4 -> 40826 | N35: =G35+3 -> 40825 | Q35: =G35+2 -> 40824 | R35: =G35+3 -> 40825 | T35: =H35+7 -> 40829 | U35: =G35+6 -> 40828 | V35: =G35+3 -> 40825 | X35: =G35+2 -> 40824 | Y35: =G35+4 -> 40826 | Z35: =G35+2 -> 40824 | AA35: =Y35+1 -> 40827
A36: =A35 -> SARA | B36: =B35+1 -> 61 | C36: =C35+7 -> #REF! | D36: =C36+3 -> #REF! | E36: ABU DHABI 1138W | F36: =F35+7 -> 40821 | G36: =F36+8 -> 40829 | H36: =F36+9 -> 40830 | I36: =H36+4 -> 40834 | L36: =G36+5 -> 40834 | M36: =G36+4 -> 40833 | N36: =G36+3 -> 40832 | Q36: =G36+2 -> 40831 | R36: =G36+3 -> 40832 | T36: =H36+7 -> 40837 | U36: =G36+6 -> 40835 | V36: =G36+3 -> 40832 | X36: =G36+2 -> 40831 | Y36: =G36+4 -> 40833 | Z36: =G36+2 -> 40831 | AA36: =Y36+1 -> 40834
A37: =A36 -> SARA | B37: =B36+1 -> 62 | C37: =C36+7 -> #REF! | D37: =C37+3 -> #REF! | E37: UASC SHARJAH 1139W | F37: =F36+7 -> 40828 | G37: =F37+8 -> 40836 | H37: =F37+9 -> 40837 | I37: =H37+4 -> 40841 | L37: =G37+5 -> 40841 | M37: =G37+4 -> 40840 | N37: =G37+3 -> 40839 | Q37: =G37+2 -> 40838 | R37: =G37+3 -> 40839 | T37: =H37+7 -> 40844 | U37: =G37+6 -> 40842 | V37: =G37+3 -> 40839 | X37: =G37+2 -> 40838 | Y37: =G37+4 -> 40840 | Z37: =G37+2 -> 40838 | AA37: =Y37+1 -> 40841
A38: =A37 -> SARA | B38: =B37+1 -> 63 | C38: =C37+7 -> #REF! | D38: =C38+3 -> #REF! | E38: FOWAIRET 1141W | F38: =F37+13 -> 40841 | G38: =F38+7 -> 40848 | H38: =F38+8 -> 40849 | I38: =H38+4 -> 40853 | L38: =H38+2 -> 40851 | M38: =H38+3 -> 40852 | N38: =H38+2 -> 40851 | Q38: =H38+4 -> 40853 | R38: =H38+5 -> 40854 | T38: =H38+9 -> 40858 | U38: =H38+5 -> 40854 | V38: =H38+5 -> 40854 | X38: =H38+6 -> 40855 | Y38: =H38+3 -> 40852 | Z38: =H38+3 -> 40852 | AA38: =H38+3 -> 40852
A39: =A38 -> SARA | B39: =B38+1 -> 64 | C39: =C38+7 -> #REF! | D39: =C39+3 -> #REF! | G39: =F39+8 -> 8
A40: =A39 -> SARA | B40: =B39+1 -> 65 | C40: =C39+7 -> #REF! | D40: =C40+3 -> #REF! | E40: UASC DOHA 1142W | F40: =F38+6 -> 40847 | G40: =F40+8 -> 40855 | H40: =F40+9 -> 40856 | I40: =H40+4 -> 40860 | L40: =H40+2 -> 40858 | M40: =H40+3 -> 40859 | N40: =H40+2 -> 40858 | Q40: =H40+4 -> 40860 | R40: =H40+5 -> 40861 | T40: =H40+9 -> 40865 | U40: =H40+5 -> 40861 | V40: =H40+5 -> 40861 | X40: =H40+6 -> 40862 | Y40: =H40+3 -> 40859 | Z40: =H40+3 -> 40859 | AA40: =H40+3 -> 40859
A41: =A40 -> SARA | B41: =B40+1 -> 66 | C41: =C40+7 -> #REF! | D41: =C41+3 -> #REF! | E41: UASC DAMMAM 1143W | F41: =F40+7 -> 40854 | G41: =F41+8 -> 40862 | H41: =F41+9 -> 40863 | I41: =H41+4 -> 40867 | L41: =H41+7 -> 40870 | M41: =H41+8 -> 40871 | N41: =H41+2 -> 40865 | Q41: =H41+3 -> 40866 | R41: =H41+5 -> 40868 | T41: =H41+8 -> 40871 | U41: =H41+5 -> 40868 | V41: =H41+6 -> 40869 | X41: =H41+6 -> 40869 | Y41: =H41+3 -> 40866 | Z41: =H41+3 -> 40866 | AA41: =H41+4 -> 40867
A42: =A41 -> SARA | B42: =B41+1 -> 67 | C42: =C41+7 -> #REF! | D42: =C42+3 -> #REF! | E42: ABU DHABI 1144W | F42: =F41+7 -> 40861 | G42: =F42+8 -> 40869 | H42: =F42+9 -> 40870 | I42: =H42+4 -> 40874 | L42: =G42+7 -> 40876 | M42: =H42+7 -> 40877 | N42: =H42+2 -> 40872 | Q42: =H42+4 -> 40874 | R42: =H42+5 -> 40875 | T42: =H42+8 -> 40878 | U42: =H42+5 -> 40875 | V42: =H42+4 -> 40874 | X42: =H42+6 -> 40876 | Y42: =H42+3 -> 40873 | Z42: =H42+3 -> 40873 | AA42: =H42+4 -> 40874
A43: =A42 -> SARA | B43: =B42+1 -> 68 | C43: =C42+7 -> #REF! | D43: =C43+3 -> #REF! | E43: UASC SHARJAH 1145W | F43: =F42+7 -> 40868 | G43: =F43+8 -> 40876 | H43: =F43+9 -> 40877 | I43: =H43+4 -> 40881 | L43: =G43+7 -> 40883 | M43: =H43+7 -> 40884 | N43: =H43+2 -> 40879 | Q43: =H43+4 -> 40881 | R43: =H43+3 -> 40880 | T43: =H43+8 -> 40885 | U43: =H43+5 -> 40882 | V43: =H43+2 -> 40879 | X43: =H43+6 -> 40883 | Y43: =H43+3 -> 40880 | Z43: =H43+3 -> 40880 | AA43: =H43+4 -> 40881
A44: =A43 -> SARA | B44: =B43+1 -> 69 | C44: =C43+7 -> #REF! | D44: =C44+3 -> #REF! | E44: FOWAIRET 1146W | F44: =F43+7 -> 40875 | G44: =F44+8 -> 40883 | H44: =F44+9 -> 40884 | I44: =H44+4 -> 40888 | L44: =G44+6 -> 40889 | M44: =H44+6 -> 40890 | N44: =H44+2 -> 40886 | Q44: =H44+4 -> 40888 | R44: =H44+2 -> 40886 | T44: =H44+8 -> 40892 | U44: =H44+5 -> 40889 | V44: =H44+16 -> 40900 | X44: =H44+6 -> 40890 | Y44: =H44+3 -> 40887 | Z44: =H44+3 -> 40887 | AA44: =H44+3 -> 40887
A45: =A44 -> SARA | B45: =B44+1 -> 70 | C45: =C44+7 -> #REF! | D45: =C45+3 -> #REF! | E45: ABU DHABI 1147W | F45: =F44+10 -> 40885 | G45: =F45+8 -> 40893 | H45: =F45+9 -> 40894 | I45: =H45+4 -> 40898 | L45: =G45+6 -> 40899 | M45: =H45+5 -> 40899 | N45: =H45+2 -> 40896 | Q45: =H45+4 -> 40898 | R45: =H45+5 -> 40899 | T45: =H45+8 -> 40902 | U45: =H45+5 -> 40899 | V45: =H45+9 -> 40903 | X45: =H45+6 -> 40900 | Y45: =H45+3 -> 40897 | Z45: =H45+3 -> 40897 | AA45: =H45+4 -> 40898
A46: =A45 -> SARA | B46: =B45+1 -> 71 | C46: =C45+7 -> #REF! | D46: =C46+3 -> #REF! | E46: UASC DAMMAM 1148W | F46: =F45+6 -> 40891 | G46: =F46+7 -> 40898 | H46: =F46+9 -> 40900 | I46: =H46+9 -> 40909 | J46: =H46+4 -> 40904 | K46: =H46+10 -> 40910 | L46: =H46+5 -> 40905 | M46: =H46+5 -> 40905 | N46: =G46+4 -> 40902 | O46: =G46+14 -> 40912 | P46: =O46+1 -> 40913 | Q46: =G46+4 -> 40902 | R46: =G46+5 -> 40903 | S46: =H46+8 -> 40908 | T46: =H46+6 -> 40906 | U46: =G46+12 -> 40910 | V46: =G46+5 -> 40903 | W46: =G46+9 -> 40907 | X46: =G46+6 -> 40904 | Y46: =G46+7 -> 40905 | Z46: =G46+6 -> 40904 | AA46: =Y46+1 -> 40906
A47: =A46 -> SARA | B47: =B46+1 -> 72 | C47: =C46+7 -> #REF! | D47: =C47+3 -> #REF! | E47: UASC ZAMZAM 1149W | F47: =F46+5 -> 40896 | G47: =F47+8 -> 40904 | H47: =F47+9 -> 40905 | I47: =H47+4 -> 40909 | J47: =H47+7 -> 40912 | K47: =H47+5 -> 40910 | L47: =G47+8 -> 40912 | M47: =H47+8 -> 40913 | N47: =G47+6 -> 40910 | O47: =G47+8 -> 40912 | P47: =O47+1 -> 40913 | Q47: =G47+6 -> 40910 | R47: =G47+6 -> 40910 | S47: =H47+10 -> 40915 | T47: =H47+8 -> 40913 | U47: =G47+13 -> 40917 | V47: =G47+7 -> 40911 | W47: =G47+10 -> 40914 | X47: =G47+7 -> 40911 | Y47: =G47+8 -> 40912 | Z47: =G47+8 -> 40912 | AA47: =Y47+1 -> 40913
A48: =A47 -> SARA | B48: =B47+1 -> 73 | C48: =C47+7 -> #REF! | D48: =C48+3 -> #REF! | E48: UASC SHARJAH 1150W | F48: =F47+7 -> 40903 | G48: =F48+8 -> 40911 | H48: =F48+9 -> 40912 | I48: =H48+4 -> 40916 | J48: =H48+7 -> 40919 | K48: =H48+5 -> 40917 | L48: =G48+8 -> 40919 | M48: =H48+7 -> 40919 | N48: =G48+7 -> 40918 | O48: =G48+12 -> 40923 | P48: =O48+1 -> 40924 | Q48: =G48+5 -> 40916 | R48: =G48+6 -> 40917 | S48: =H48+10 -> 40922 | T48: =H48+9 -> 40921 | U48: =G48+12 -> 40923 | V48: =G48+3 -> 40914 | W48: =G48+10 -> 40921 | X48: =G48+7 -> 40918 | Y48: =G48+5 -> 40916 | Z48: =G48+7 -> 40918 | AA48: =Y48+1 -> 40917
A49: =A48 -> SARA | B49: =B48+1 -> 74 | C49: =C48+7 -> #REF! | D49: =C49+3 -> #REF! | E49: FOWAIRET 1151W | F49: =F48+8 -> 40911 | G49: =F49+7 -> 40918 | H49: =F49+9 -> 40920 | I49: =H49+10 -> 40930 | J49: =H49+6 -> 40926 | K49: =H49+11 -> 40931 | L49: =G49+7 -> 40925 | M49: =H49+6 -> 40926 | N49: =G49+6 -> 40924 | O49: =G49+5 -> 40923 | P49: =O49+1 -> 40924 | Q49: =G49+5 -> 40923 | R49: =G49+6 -> 40924 | S49: =H49+9 -> 40929 | T49: =H49+7 -> 40927 | U49: =G49+12 -> 40930 | V49: =G49+4 -> 40922 | W49: =G49+10 -> 40928 | X49: =G49+7 -> 40925 | Y49: =G49+5 -> 40923 | Z49: =G49+8 -> 40926 | AA49: =Y49+1 -> 40924
A50: =A49 -> SARA | B50: =B49+1 -> 75 | C50: =C49+7 -> #REF! | D50: =C50+3 -> #REF! | E50: ABU DHABI 1152W | F50: =F49+7 -> 40918 | G50: =F50+7 -> 40925 | H50: =F50+8 -> 40926 | I50: =H50+9 -> 40935 | J50: =H50+4 -> 40930 | K50: =H50+10 -> 40936 | L50: =G50+4 -> 40929 | M50: =H50+4 -> 40930 | N50: =G50+4 -> 40929 | O50: =G50+14 -> 40939 | P50: =O50+1 -> 40940 | Q50: =G50+3 -> 40928 | R50: =G50+5 -> 40930 | S50: =H50+8 -> 40934 | T50: =H50+6 -> 40932 | U50: =G50+12 -> 40937 | V50: =G50+6 -> 40931 | W50: =G50+8 -> 40933 | X50: =G50+7 -> 40932 | Y50: =G50+3 -> 40928 | Z50: =G50+6 -> 40931 | AA50: =Y50+1 -> 40929
A51: =A50 -> SARA | B51: =B50+1 -> 76 | C51: =C50+7 -> #REF! | D51: =C51+3 -> #REF! | E51: UASC DAMMAM 1201W | F51: =F50+8 -> 40926 | G51: =F51+8 -> 40934 | H51: =F51+9 -> 40935 | I51: =H51+4 -> 40939 | J51: =H51+7 -> 40942 | K51: =H51+5 -> 40940 | L51: =G51+6 -> 40940 | M51: =H51+6 -> 40941 | N51: =G51+6 -> 40940 | O51: =G51+14 -> 40948 | P51: =O51+1 -> 40949 | Q51: =G51+5 -> 40939 | R51: =G51+7 -> 40941 | S51: =H51+10 -> 40945 | T51: =H51+8 -> 40943 | U51: =G51+12 -> 40946 | V51: =G51+6 -> 40940 | W51: =G51+10 -> 40944 | X51: =G51+7 -> 40941 | Y51: =G51+5 -> 40939 | Z51: =G51+8 -> 40942 | AA51: =Y51+1 -> 40940
A52: =A51 -> SARA | B52: =B51+1 -> 77 | C52: =C51+7 -> #REF! | D52: =C52+3 -> #REF! | E52: UASC ZAMZAM 1202W | F52: =F51+5 -> 40931 | G52: =F52+8 -> 40939 | H52: =F52+10 -> 40941 | I52: =H52+4 -> 40945 | J52: =H52+7 -> 40948 | K52: =H52+5 -> 40946 | L52: =G52+5 -> 40944 | M52: =H52+5 -> 40946 | N52: =G52+5 -> 40944 | O52: =G52+14 -> 40953 | P52: =O52+1 -> 40954 | Q52: =G52+5 -> 40944 | R52: =G52+6 -> 40945 | S52: =H52+10 -> 40951 | T52: =H52+8 -> 40949 | U52: =G52+11 -> 40950 | V52: =G52+5 -> 40944 | W52: =G52+10 -> 40949 | X52: =G52+7 -> 40946 | Y52: =G52+5 -> 40944 | Z52: =G52+8 -> 40947 | AA52: =Y52+1 -> 40945
A53: =A52 -> SARA | B53: =B52+1 -> 78 | C53: =C52+7 -> #REF! | D53: =C53+3 -> #REF! | E53: UASC SAMARRA 1203W | F53: =F52+7 -> 40938 | G53: =F53+8 -> 40946 | H53: =F53+9 -> 40947 | I53: =H53+4 -> 40951 | J53: =H53+9 -> 40956 | K53: =H53+5 -> 40952 | L53: =G53+5 -> 40951 | M53: =H53+4 -> 40951 | N53: =G53+5 -> 40951 | O53: =G53+14 -> 40960 | P53: =O53+1 -> 40961 | Q53: =G53+5 -> 40951 | R53: =G53+6 -> 40952 | S53: =H53+12 -> 40959 | T53: =H53+11 -> 40958 | U53: =G53+11 -> 40957 | V53: =G53+1 -> 40947 | W53: =G53+10 -> 40956 | X53: =G53+7 -> 40953 | Y53: =G53+5 -> 40951 | Z53: =G53+8 -> 40954 | AA53: =Y53+1 -> 40952
A54: OMIT | B54: =B53+1 -> 79 | C54: =C53+7 -> #REF! | D54: =C54+3 -> #REF! | E54: UASC AJMAN 1204W | F54: =F53+7 -> 40945 | G54: =F54+8 -> 40953 | H54: =F54+9 -> 40954 | I54: =H54+4 -> 40958 | J54: =H54+9 -> 40963 | K54: =H54+5 -> 40959 | L54: =G54+5 -> 40958 | M54: =H54+4 -> 40958 | N54: =G54+5 -> 40958 | O54: =G54+14 -> 40967 | P54: =O54+1 -> 40968 | Q54: =G54+5 -> 40958 | R54: =G54+6 -> 40959 | S54: =H54+12 -> 40966 | T54: =H54+11 -> 40965 | U54: =G54+11 -> 40964 | V54: =G54+1 -> 40954 | W54: =G54+10 -> 40963 | X54: =G54+7 -> 40960 | Y54: =G54+5 -> 40958 | Z54: =G54+8 -> 40961 | AA54: =Y54+1 -> 40959
A55: =A53 -> SARA | B55: =B54+1 -> 80 | C55: 40948 | D55: =C55+3 -> 40951 | E55: CMA CGM DON CARLOS 579W | F55: =F54+11 -> 40956 | G55: =F55+8 -> 40964 | H55: =F55+10 -> 40966 | I55: =H55+5 -> 40971 | J55: =H55+9 -> 40975 | K55: =H55+5 -> 40971 | L55: =G55+5 -> 40969 | M55: =H55+4 -> 40970 | N55: =G55+5 -> 40969 | O55: =G55+14 -> 40978 | P55: =O55+1 -> 40979 | Q55: =G55+5 -> 40969 | R55: =G55+6 -> 40970 | S55: =H55+12 -> 40978 | T55: =H55+11 -> 40977 | U55: =G55+11 -> 40975 | V55: =G55+1 -> 40965 | W55: =G55+10 -> 40974 | X55: =G55+7 -> 40971 | Y55: =G55+5 -> 40969 | Z55: =G55+8 -> 40972 | AA55: =Y55+1 -> 40970
A56: =A55 -> SARA | B56: =B55+1 -> 81 | C56: =C55+7 -> 40955 | D56: =C56+3 -> 40958 | E56: CSCL EUROPE 0095W | F56: =F55+8 -> 40964 | G56: =F56+8 -> 40972 | H56: =F56+10 -> 40974 | I56: =H56+5 -> 40979 | J56: =H56+9 -> 40983 | K56: =H56+5 -> 40979 | L56: =G56+5 -> 40977 | M56: =H56+4 -> 40978 | N56: =G56+5 -> 40977 | O56: =G56+14 -> 40986 | P56: =O56+1 -> 40987 | Q56: =G56+5 -> 40977 | R56: =G56+6 -> 40978 | S56: =H56+12 -> 40986 | T56: =H56+11 -> 40985 | U56: =G56+11 -> 40983 | V56: =G56+1 -> 40973 | W56: =G56+10 -> 40982 | X56: =G56+7 -> 40979 | Y56: =G56+5 -> 40977 | Z56: =G56+8 -> 40980 | AA56: =Y56+1 -> 40978
A57: =A56 -> SARA | B57: =B56+1 -> 82 | C57: =C56+7 -> 40962 | D57: =C57+3 -> 40965 | E57: UMM SALAL 1207W | F57: =F56+7 -> 40971 | G57: =F57+8 -> 40979 | H57: =F57+10 -> 40981 | I57: =H57+5 -> 40986 | J57: =H57+9 -> 40990 | K57: =H57+5 -> 40986 | L57: =G57+5 -> 40984 | M57: =H57+4 -> 40985 | N57: =G57+5 -> 40984 | O57: =G57+14 -> 40993 | P57: =O57+1 -> 40994 | Q57: =G57+5 -> 40984 | R57: =G57+6 -> 40985 | S57: =H57+12 -> 40993 | T57: =H57+11 -> 40992 | U57: =G57+11 -> 40990 | V57: =G57+1 -> 40980 | W57: =G57+10 -> 40989 | X57: =G57+7 -> 40986 | Y57: =G57+5 -> 40984 | Z57: =G57+8 -> 40987 | AA57: =Y57+1 -> 40985
A58: =A57 -> SARA | B58: =B57+1 -> 83 | C58: =C57+7 -> 40969 | D58: =C58+3 -> 40972 | E58: XIN DA YANG ZHOU 0051W | F58: =F57+7 -> 40978 | G58: =F58+8 -> 40986 | H58: =F58+10 -> 40988 | I58: =H58+5 -> 40993 | J58: =H58+9 -> 40997 | K58: =H58+5 -> 40993 | L58: =G58+5 -> 40991 | M58: =H58+4 -> 40992 | N58: =G58+5 -> 40991 | O58: =G58+14 -> 41000 | P58: =O58+1 -> 41001 | Q58: =G58+5 -> 40991 | R58: =G58+6 -> 40992 | S58: =H58+12 -> 41000 | T58: =H58+11 -> 40999 | U58: =G58+11 -> 40997 | V58: =G58+1 -> 40987 | W58: =G58+10 -> 40996 | X58: =G58+7 -> 40993 | Y58: =G58+5 -> 40991 | Z58: =G58+8 -> 40994 | AA58: =Y58+1 -> 40992
A59: =A58 -> SARA | B59: =B58+1 -> 84 | C59: =C58+7 -> 40976 | D59: =C59+3 -> 40979 | E59: UNAYZAH 1209W | F59: =F58+7 -> 40985 | G59: =F59+8 -> 40993 | H59: =F59+10 -> 40995 | I59: =H59+5 -> 41000 | J59: =H59+9 -> 41004 | K59: =H59+5 -> 41000 | L59: =G59+5 -> 40998 | M59: =H59+4 -> 40999 | N59: =G59+5 -> 40998 | O59: =G59+14 -> 41007 | P59: =O59+1 -> 41008 | Q59: =G59+5 -> 40998 | R59: =G59+6 -> 40999 | S59: =H59+12 -> 41007 | T59: =H59+11 -> 41006 | U59: =G59+11 -> 41004 | V59: =G59+1 -> 40994 | W59: =G59+10 -> 41003 | X59: =G59+7 -> 41000 | Y59: =G59+5 -> 40998 | Z59: =G59+8 -> 41001 | AA59: =Y59+1 -> 40999
A60: =A59 -> SARA | B60: =B59+1 -> 85 | C60: =C59+7 -> 40983 | D60: =C60+3 -> 40986 | E60: CSCL URANUS 0001W | F60: =F59+8 -> 40993 | G60: =F60+8 -> 41001 | H60: =F60+10 -> 41003 | I60: =H60+5 -> 41008 | J60: =H60+9 -> 41012 | K60: =H60+5 -> 41008 | L60: =G60+5 -> 41006 | M60: =H60+4 -> 41007 | N60: =G60+5 -> 41006 | O60: =G60+14 -> 41015 | P60: =O60+1 -> 41016 | Q60: =G60+5 -> 41006 | R60: =G60+6 -> 41007 | S60: =H60+12 -> 41015 | T60: =H60+11 -> 41014 | U60: =G60+11 -> 41012 | V60: =G60+1 -> 41002 | W60: =G60+10 -> 41011 | X60: =G60+7 -> 41008 | Y60: =G60+5 -> 41006 | Z60: =G60+8 -> 41009 | AA60: =Y60+1 -> 41007
A61: =A60 -> SARA | B61: =B60+1 -> 86 | C61: =C60+7 -> 40990 | D61: =C61+3 -> 40993 | E61: CMA CGM DON CARLOS 591W | F61: =F60+10 -> 41003 | G61: =F61+9 -> 41012 | H61: =F61+11 -> 41014 | I61: =H61+5 -> 41019 | J61: =H61+9 -> 41023 | K61: =H61+5 -> 41019 | L61: =G61+5 -> 41017 | M61: =H61+4 -> 41018 | N61: =G61+5 -> 41017 | O61: =G61+14 -> 41026 | P61: =O61+1 -> 41027 | Q61: =G61+5 -> 41017 | R61: =G61+6 -> 41018 | S61: =H61+12 -> 41026 | T61: =H61+11 -> 41025 | U61: =G61+11 -> 41023 | V61: =G61+1 -> 41013 | W61: =G61+10 -> 41022 | X61: =G61+7 -> 41019 | Y61: =G61+5 -> 41017 | Z61: =G61+8 -> 41020 | AA61: =Y61+1 -> 41018
A62: =A61 -> SARA | B62: =B61+1 -> 87 | C62: =C61+7 -> 40997 | D62: =C62+3 -> 41000 | E62: TAYMA 1212W | F62: =F61+3 -> 41006 | G62: =F62+9 -> 41015 | H62: =F62+11 -> 41017 | I62: =H62+5 -> 41022 | J62: =H62+9 -> 41026 | K62: =H62+5 -> 41022 | L62: =G62+5 -> 41020 | M62: =H62+4 -> 41021 | N62: =G62+5 -> 41020 | O62: =G62+14 -> 41029 | P62: =O62+1 -> 41030 | Q62: =G62+5 -> 41020 | R62: =G62+6 -> 41021 | S62: =H62+12 -> 41029 | T62: =H62+11 -> 41028 | U62: =G62+11 -> 41026 | V62: =G62+1 -> 41016 | W62: =G62+10 -> 41025 | X62: =G62+7 -> 41022 | Y62: =G62+5 -> 41020 | Z62: =G62+8 -> 41023 | AA62: =Y62+1 -> 41021
E63: CSCL EUROPE 0097W | F63: =F62+7 -> 41013 | G63: =F63+8 -> 41021 | H63: =F63+10 -> 41023 | I63: =H63+5 -> 41028 | J63: =H63+9 -> 41032 | K63: =H63+5 -> 41028 | L63: =G63+5 -> 41026 | M63: =H63+4 -> 41027 | N63: =G63+5 -> 41026 | O63: =G63+14 -> 41035 | P63: =O63+1 -> 41036 | Q63: =G63+5 -> 41026 | R63: =G63+16 -> 41037 | U63: =G63+11 -> 41032 | V63: =G63+1 -> 41022 | W63: =G63+10 -> 41031 | X63: =G63+7 -> 41028 | Y63: =G63+5 -> 41026 | Z63: =G63+8 -> 41029 | AA63: =Y63+1 -> 41027
A64: ='NE-AEC8'!A17 -> CAPE FRIO | B64: ='NE-AEC8'!B17 -> 52 | C64: ='NE-AEC8'!C17 -> 41005 | D64: ='NE-AEC8'!D17 -> 41008 | S64: =H63+12 -> 41035 | T64: =H63+11 -> 41034
A65: ='NE-AEC2'!A34 -> SIMA SAPPHIRE | B65: ='NE-AEC2'!B34 -> 411 | C65: ='NE-AEC2'!C34 -> 41007 | D65: ='NE-AEC8'!D18 -> 41010
E67: UMM SALAL 1214W | F67: =F63+8 -> 41021 | G67: =F67+9 -> 41030 | H67: =F67+11 -> 41032 | I67: =H67+5 -> 41037 | J67: =H67+9 -> 41041 | K67: =H67+5 -> 41037 | L67: =G67+5 -> 41035 | M67: =H67+4 -> 41036 | N67: =G67+5 -> 41035 | O67: =G67+14 -> 41044 | P67: =O67+1 -> 41045 | Q67: =G67+5 -> 41035 | R67: =G67+16 -> 41046 | U67: =G67+11 -> 41041 | V67: =G67+1 -> 41031 | W67: =G67+10 -> 41040 | X67: =G67+7 -> 41037 | Y67: =G67+5 -> 41035 | Z67: =G67+8 -> 41038 | AA67: =Y67+1 -> 41036
A68: ='NE-AEC8'!A21 -> PAC ANTLIA | B68: ='NE-AEC8'!B21 -> 60 | C68: ='NE-AEC8'!C21 -> 41012 | D68: ='NE-AEC8'!D21 -> 41015 | S68: =H67+12 -> 41044 | T68: =H67+11 -> 41043
A69: ='NE-AEC2'!A38 -> SIMA SAPPHIRE | B69: ='NE-AEC2'!B38 -> 412 | C69: ='NE-AEC2'!C38 -> 41014 | D69: ='NE-AEC8'!D22 -> 41017
E71: XIN XIA MEN 0082W | F71: =F67+6 -> 41027 | G71: =F71+8 -> 41035 | H71: =F71+10 -> 41037 | I71: =H71+5 -> 41042 | J71: =H71+9 -> 41046 | K71: =H71+5 -> 41042 | L71: =G71+5 -> 41040 | M71: =H71+4 -> 41041 | N71: =G71+5 -> 41040 | O71: =G71+14 -> 41049 | P71: =O71+1 -> 41050 | Q71: =G71+5 -> 41040 | R71: =G71+10 -> 41045 | U71: =G71+11 -> 41046 | V71: =G71+1 -> 41036 | W71: =G71+10 -> 41045 | X71: =G71+7 -> 41042 | Y71: =G71+5 -> 41040 | Z71: =G71+8 -> 41043 | AA71: =Y71+1 -> 41041
A72: ='NE-AEC8'!A25 -> CAPE FRIO | B72: ='NE-AEC8'!B25 -> 53 | C72: ='NE-AEC8'!C25 -> 41019 | D72: ='NE-AEC8'!D25 -> 41022 | S72: =H71+12 -> 41049 | T72: =H71+11 -> 41048
A73: ='NE-AEC2'!A42 -> SIMA SAPPHIRE | B73: ='NE-AEC2'!B42 -> 413 | C73: ='NE-AEC2'!C42 -> 41021 | D73: ='NE-AEC8'!D26 -> 41024
E75: UNAYZAH 1216W | F75: =F71+7 -> 41034 | G75: =F75+8 -> 41042 | H75: =F75+10 -> 41044 | I75: =H75+5 -> 41049 | J75: =H75+9 -> 41053 | K75: =H75+5 -> 41049 | L75: =G75+5 -> 41047 | M75: =H75+5 -> 41049 | N75: =G75+5 -> 41047 | O75: =G75+14 -> 41056 | P75: =O75+1 -> 41057 | Q75: =G75+5 -> 41047 | R75: =G75+16 -> 41058 | U75: =G75+11 -> 41053 | V75: =G75+1 -> 41043 | W75: =G75+10 -> 41052 | X75: =G75+7 -> 41049 | Y75: =G75+10 -> 41052 | Z75: =G75+8 -> 41050 | AA75: =Y75+1 -> 41053
A76: ='NE-AEC8'!A29 -> PAC ANTLIA | B76: ='NE-AEC8'!B29 -> 61 | C76: ='NE-AEC8'!C29 -> 41026 | D76: ='NE-AEC8'!D29 -> 41029 | S76: =H75+12 -> 41056 | T76: =H75+11 -> 41055
A77: ='NE-AEC2'!A46 -> SIMA SAPPHIRE | B77: ='NE-AEC2'!B46 -> 414 | C77: ='NE-AEC2'!C46 -> 41028 | D77: ='NE-AEC8'!D30 -> 41031
E79: NORTHERN PRACTISE 0001W | F79: =F75+8 -> 41042 | G79: =F79+8 -> 41050 | H79: =F79+10 -> 41052 | I79: =H79+5 -> 41057 | J79: =G79+3 -> 41053 | K79: =H79+15 -> 41067 | L79: =G79+5 -> 41055 | M79: =H79+4 -> 41056 | N79: =G79+7 -> 41057 | O79: =G79+10 -> 41060 | P79: =O79+1 -> 41061 | Q79: =G79+13 -> 41063 | R79: =G79+16 -> 41066 | U79: =G79+9 -> 41059 | V79: =G79+4 -> 41054 | W79: =G79+11 -> 41061 | X79: =G79+8 -> 41058 | Y79: =G79+9 -> 41059 | Z79: =G79+12 -> 41062 | AA79: =Y79+1 -> 41060
A80: ='NE-AEC8'!A33 -> CAPE FRIO | B80: ='NE-AEC8'!B33 -> 54 | C80: ='NE-AEC8'!C33 -> 41033 | D80: ='NE-AEC8'!D33 -> 41036 | S80: =H79+12 -> 41064 | T80: =H79+11 -> 41063
A81: ='NE-AEC2'!A50 -> SIMA SAPPHIRE | B81: ='NE-AEC2'!B50 -> 415 | C81: ='NE-AEC2'!C50 -> 41035 | D81: ='NE-AEC8'!D34 -> 41038
E83: CMA CGM ALASKA 600W | F83: =F79+6 -> 41048 | G83: =F83+8 -> 41056 | H83: =F83+10 -> 41058 | I83: =H83+5 -> 41063 | J83: =G83+9 -> 41065 | K83: =H83+10 -> 41068 | L83: =G83+5 -> 41061 | M83: =H83+4 -> 41062 | N83: =G83+6 -> 41062 | O83: =G83+4 -> 41060 | P83: =O83+1 -> 41061 | Q83: =G83+15 -> 41071 | R83: =G83+8 -> 41064 | U83: =G83+8 -> 41064 | V83: =G83+5 -> 41061 | W83: =G83+5 -> 41061 | X83: =G83+9 -> 41065 | Y83: =G83+9 -> 41065 | Z83: =G83+10 -> 41066 | AA83: =Y83+1 -> 41066
A84: ='NE-AEC8'!A37 -> PAC ANTLIA | B84: ='NE-AEC8'!B37 -> 62 | C84: ='NE-AEC8'!C37 -> 41040 | D84: ='NE-AEC8'!D37 -> 41043 | S84: =H83+12 -> 41070 | T84: =H83+11 -> 41069
A85: ='NE-AEC2'!A54 -> SIMA SAPPHIRE | B85: ='NE-AEC2'!B54 -> 416 | C85: ='NE-AEC2'!C54 -> 41042 | D85: ='NE-AEC8'!D38 -> 41045
E87: TAYMA 1219W | F87: =F83+7 -> 41055 | G87: =F87+8 -> 41063 | H87: =F87+10 -> 41065 | I87: =H87+5 -> 41070 | J87: =G87+7 -> 41070 | K87: =H87+12 -> 41077 | L87: =G87+5 -> 41068 | M87: =H87+4 -> 41069 | N87: =G87+6 -> 41069 | O87: =G87+10 -> 41073 | P87: =O87+1 -> 41074 | Q87: =G87+5 -> 41068 | R87: =G87+8 -> 41071 | U87: =G87+5 -> 41068 | V87: =G87+3 -> 41066 | W87: =G87+5 -> 41068 | X87: =G87+9 -> 41072 | Y87: =G87+9 -> 41072 | Z87: =G87+10 -> 41073 | AA87: =Y87+1 -> 41073
A88: ='NE-AEC8'!A41 -> CAPE FRIO | B88: ='NE-AEC8'!B41 -> 55 | C88: ='NE-AEC8'!C41 -> 41047 | D88: ='NE-AEC8'!D41 -> 41050 | S88: =H87+12 -> 41077 | T88: =H87+11 -> 41076
A89: ='NE-AEC2'!A58 -> SIMA SAPPHIRE | B89: ='NE-AEC2'!B58 -> 417 | C89: ='NE-AEC2'!C58 -> 41049 | D89: ='NE-AEC8'!D42 -> 41052
E91: JEBEL ALI 1220W | F91: =F87+7 -> 41062 | G91: =F91+8 -> 41070 | H91: =F91+10 -> 41072 | I91: =H91+5 -> 41077 | J91: =G91+6 -> 41076 | K91: =H91+13 -> 41085 | L91: =G91+5 -> 41075 | M91: =H91+4 -> 41076 | N91: =G91+5 -> 41075 | O91: =G91+14 -> 41084 | P91: =O91+1 -> 41085 | Q91: =G91+5 -> 41075 | R91: =G91+9 -> 41079 | U91: =G91+7 -> 41077 | V91: =G91+4 -> 41074 | W91: =G91+5 -> 41075 | X91: =G91+9 -> 41079 | Y91: =G91+8 -> 41078 | Z91: =G91+11 -> 41081 | AA91: =Y91+1 -> 41079
A92: ='NE-AEC8'!A45 -> GALLANT WAVE | B92: ='NE-AEC8'!B45 -> 64 | C92: ='NE-AEC8'!C45 -> 41053 | D92: ='NE-AEC8'!D45 -> 41056 | S92: =H91+12 -> 41084 | T92: =H91+11 -> 41083
A93: ='NE-AEC2'!A62 -> SIMA SAPPHIRE | B93: ='NE-AEC2'!B62 -> 418 | C93: ='NE-AEC2'!C62 -> 41056 | D93: ='NE-AEC8'!D46 -> 41059
E95: CSCL NEPTUNE 0001W | F95: =F91+7 -> 41069 | G95: =F95+8 -> 41077 | H95: =F95+10 -> 41079 | I95: =H95+5 -> 41084 | J95: =G95+4 -> 41081 | K95: =H95+6 -> 41085 | L95: =G95+5 -> 41082 | M95: =H95+4 -> 41083 | N95: =G95+3 -> 41080 | O95: =G95+7 -> 41084 | P95: =O95+1 -> 41085 | Q95: =G95+11 -> 41088 | R95: =G95+8 -> 41085 | U95: =G95+5 -> 41082 | V95: =G95+7 -> 41084 | W95: =G95+5 -> 41082 | X95: =G95+9 -> 41086 | Y95: =G95+8 -> 41085 | Z95: =G95+11 -> 41088 | AA95: =Y95+1 -> 41086
A96: ='NE-AEC8'!A49 -> CAPE FRIO | B96: ='NE-AEC8'!B49 -> 56 | C96: ='NE-AEC8'!C49 -> 41061 | D96: ='NE-AEC8'!D49 -> 41064 | S96: =H95+12 -> 41091 | T96: =H95+11 -> 41090
A97: ='NE-AEC2'!A66 -> SIMA SAPPHIRE | B97: ='NE-AEC2'!B66 -> 419 | C97: ='NE-AEC2'!C66 -> 41063 | D97: ='NE-AEC8'!D50 -> 41066
E99: UMM SALAL 1222W | F99: =F95+7 -> 41076 | G99: =F99+8 -> 41084 | H99: =F99+10 -> 41086 | I99: =H99+5 -> 41091 | J99: =G99+3 -> 41087 | K99: =H99+6 -> 41092 | L99: =G99+5 -> 41089 | M99: =H99+4 -> 41090 | N99: =G99+5 -> 41089 | O99: =G99+12 -> 41096 | P99: =O99+1 -> 41097 | Q99: =G99+11 -> 41095 | R99: =G99+8 -> 41092 | U99: =G99+7 -> 41091 | V99: =G99+7 -> 41091 | W99: =G99+5 -> 41089 | X99: =G99+9 -> 41093 | Y99: =G99+8 -> 41092 | Z99: =G99+11 -> 41095 | AA99: =Y99+1 -> 41093
A100: ='NE-AEC8'!A53 -> PAC ANTLIA | B100: ='NE-AEC8'!B53 -> 65 | C100: ='NE-AEC8'!C53 -> 41068 | D100: ='NE-AEC8'!D53 -> 41071 | S100: =H99+12 -> 41098 | T100: =H99+11 -> 41097
A101: ='NE-AEC2'!A70 -> SIMA SAPPHIRE | B101: ='NE-AEC2'!B70 -> 420 | C101: ='NE-AEC2'!C70 -> 41070 | D101: ='NE-AEC8'!D54 -> 41073
E103: UNAYZAH 1223W | F103: =F99+7 -> 41083 | G103: =F103+8 -> 41091 | H103: =F103+10 -> 41093 | I103: =H103+5 -> 41098 | J103: =G103+8 -> 41099 | K103: =H103+4 -> 41097 | L103: =G103+5 -> 41096 | M103: =H103+4 -> 41097 | N103: =G103+5 -> 41096 | O103: =G103+14 -> 41105 | P103: =O103+1 -> 41106 | Q103: =G103+5 -> 41096 | R103: =G103+8 -> 41099 | U103: =G103+4 -> 41095 | V103: =G103+7 -> 41098 | W103: =G103+5 -> 41096 | X103: =G103+9 -> 41100 | Y103: =G103+8 -> 41099 | Z103: =G103+11 -> 41102 | AA103: =Y103+1 -> 41100
A104: ='NE-AEC8'!A57 -> CAPE FRIO | B104: ='NE-AEC8'!B57 -> 57 | C104: ='NE-AEC8'!C57 -> 41075 | D104: ='NE-AEC8'!D57 -> 41078 | S104: =H103+12 -> 41105 | T104: =H103+11 -> 41104
A105: ='NE-AEC2'!A74 -> SIMA SAPPHIRE | B105: ='NE-AEC2'!B74 -> 421 | C105: ='NE-AEC2'!C74 -> 41077 | D105: ='NE-AEC8'!D58 -> 41080
E107: XIN HONG KONG 0063W | F107: =F103+7 -> 41090 | G107: =F107+8 -> 41098 | H107: =F107+10 -> 41100 | I107: =H107+5 -> 41105 | J107: =G107+5 -> 41103 | K107: =H107+5 -> 41105 | L107: =G107+5 -> 41103 | M107: =H107+4 -> 41104 | N107: =G107+5 -> 41103 | O107: =G107+14 -> 41112 | P107: =O107+1 -> 41113 | Q107: =G107+12 -> 41110 | R107: =G107+8 -> 41106 | U107: =G107+6 -> 41104 | V107: =G107+7 -> 41105 | W107: =G107+5 -> 41103 | X107: =G107+9 -> 41107 | Y107: =G107+8 -> 41106 | Z107: =G107+11 -> 41109 | AA107: =Y107+1 -> 41107
A108: ='NE-AEC8'!A61 -> PAC ANTLIA | B108: ='NE-AEC8'!B61 -> 66 | C108: ='NE-AEC8'!C61 -> 41082 | D108: ='NE-AEC8'!D61 -> 41085 | S108: =H107+12 -> 41112 | T108: =H107+11 -> 41111
A109: ='NE-AEC2'!A78 -> SIMA SAPPHIRE | B109: ='NE-AEC2'!B78 -> 422 | C109: ='NE-AEC2'!C78 -> 41084 | D109: ='NE-AEC8'!D62 -> 41087
E111: CMA CGM ALASKA 619W | F111: =F107+7 -> 41097 | G111: =F111+8 -> 41105 | H111: =F111+10 -> 41107 | I111: =H111+5 -> 41112 | J111: =G111+5 -> 41110 | K111: =H111+10 -> 41117 | L111: =G111+5 -> 41110 | M111: =H111+4 -> 41111 | N111: =G111+5 -> 41110 | O111: =G111+14 -> 41119 | P111: =O111+1 -> 41120 | Q111: =G111+5 -> 41110 | R111: =G111+8 -> 41113 | U111: =G111+4 -> 41109 | V111: =G111+8 -> 41113 | W111: =G111+5 -> 41110 | X111: =G111+9 -> 41114 | Y111: =G111+8 -> 41113 | Z111: =G111+11 -> 41116 | AA111: =Y111+1 -> 41114
A112: ='NE-AEC8'!A65 -> CAPE FRIO | B112: ='NE-AEC8'!B65 -> 58 | C112: ='NE-AEC8'!C65 -> 41089 | D112: ='NE-AEC8'!D65 -> 41092 | S112: =H111+12 -> 41119 | T112: =H111+11 -> 41118
A113: ='NE-AEC2'!A82 -> SIMA SAPPHIRE | B113: ='NE-AEC2'!B82 -> 423 | C113: ='NE-AEC2'!C82 -> 41091 | D113: ='NE-AEC8'!D66 -> 41094
E115: TAYMA 1226W | F115: =F111+7 -> 41104 | G115: =F115+8 -> 41112 | H115: =F115+10 -> 41114 | I115: =H115+5 -> 41119 | J115: =G115+5 -> 41117 | K115: =H115+10 -> 41124 | L115: =G115+5 -> 41117 | M115: =H115+4 -> 41118 | N115: =G115+5 -> 41117 | O115: =G115+14 -> 41126 | P115: =O115+1 -> 41127 | Q115: =G115+5 -> 41117 | R115: =G115+8 -> 41120 | U115: =G115+6 -> 41118 | V115: =G115+13 -> 41125 | W115: =G115+5 -> 41117 | X115: =G115+9 -> 41121 | Y115: =G115+8 -> 41120 | Z115: =G115+11 -> 41123 | AA115: =Y115+1 -> 41121
...

Sheet WA-WAF1
C3: HOCHIMINHCITY TO WEST AFRICA
C4: WAF1 SERVICE
I5: Update: | J5: ='NE-AEC7 (DIRECTLY)'!$J$6 -> 41046
A6: FEEDER | B6: VOY | C6: ETD HCM | D6: ETA PKG | E6: MAIN LINE VESSEL | F6: ETD PKG | G6: ETA Algeciras | H6: Tema | I6: Lagos | J6: Cotonou
A7: ='[1]WM-AMC1'!A8 -> #REF! | B7: ='[1]WM-AMC1'!B8 -> #REF! | C7: ='[1]WM-AMC1'!C8 -> 40612 | D7: =C7+3 -> 40615 | E7: ='[1]US-MINA'!E24 -> #REF! | F7: ='[1]US-MINA'!F24 -> 40619 | G7: ='[1]US-MINA'!G24 -> 40636 | H7: =G7+13 -> 40649 | I7: =H7+2 -> 40651 | J7: =I7+3 -> 40654
A8: ='[1]WM-AMC1'!A9 -> #REF! | B8: ='[1]WM-AMC1'!B9 -> #REF! | C8: ='[1]WM-AMC1'!C9 -> 40619 | D8: =C8+3 -> 40622 | E8: ='[1]US-MINA'!E25 -> #REF! | F8: ='[1]US-MINA'!F25 -> 40626 | G8: ='[1]US-MINA'!G25 -> 40643 | H8: =G8+11 -> 40654 | I8: =H8+3 -> 40657 | J8: =I8+3 -> 40660
A9: ='[1]WM-AMC1'!A10 -> #REF! | B9: ='[1]WM-AMC1'!B10 -> #REF! | C9: ='[1]WM-AMC1'!C10 -> 40626 | D9: =C9+3 -> 40629 | E9: ='[1]US-MINA'!E26 -> #REF! | F9: ='[1]US-MINA'!F26 -> 40633 | G9: ='[1]US-MINA'!G26 -> 40650 | H9: =G9+11 -> 40661 | I9: =H9+3 -> 40664 | J9: =I9+3 -> 40667
A10: ='[1]WM-AMC1'!A11 -> #REF! | B10: ='[1]WM-AMC1'!B11 -> #REF! | C10: ='[1]WM-AMC1'!C11 -> 40633 | D10: =C10+3 -> 40636 | E10: ='[1]US-MINA'!E27 -> #REF! | F10: ='[1]US-MINA'!F27 -> 40640 | G10: ='[1]US-MINA'!G27 -> 40657 | H10: =G10+10 -> 40667 | I10: =H10+3 -> 40670 | J10: =I10+3 -> 40673
A11: ='[1]WM-AMC1'!A12 -> #REF! | B11: ='[1]WM-AMC1'!B12 -> #REF! | C11: ='[1]WM-AMC1'!C12 -> 40640 | D11: =C11+3 -> 40643 | E11: ='[1]US-MINA'!E28 -> #REF! | F11: ='[1]US-MINA'!F28 -> 40647 | G11: ='[1]US-MINA'!G28 -> 40664 | H11: =G11+11 -> 40675 | I11: =H11+3 -> 40678 | J11: =I11+3 -> 40681
A12: ='[1]WM-AMC1'!A13 -> #REF! | B12: ='[1]WM-AMC1'!B13 -> #REF! | C12: ='[1]WM-AMC1'!C13 -> 40647 | D12: =C12+3 -> 40650 | E12: ='[1]US-MINA'!E29 -> #REF! | F12: ='[1]US-MINA'!F29 -> 40654 | G12: ='[1]US-MINA'!G29 -> 40671 | H12: =G12+11 -> 40682 | I12: =H12+3 -> 40685 | J12: =I12+3 -> 40688
A13: ='[1]WM-AMC1'!A14 -> #REF! | B13: ='[1]WM-AMC1'!B14 -> #REF! | C13: ='[1]WM-AMC1'!C14 -> 40654 | D13: =C13+3 -> 40657 | E13: ='[1]US-MINA'!E30 -> #REF! | F13: ='[1]US-MINA'!F30 -> 40661 | G13: ='[1]US-MINA'!G30 -> 40678 | H13: =G13+11 -> 40689 | I13: =H13+3 -> 40692 | J13: =I13+3 -> 40695
A14: ='[1]WM-AMC1'!A15 -> #REF! | B14: ='[1]WM-AMC1'!B15 -> #REF! | C14: ='[1]WM-AMC1'!C15 -> 40661 | D14: =C14+3 -> 40664 | E14: ='[1]US-MINA'!E31 -> #REF! | F14: ='[1]US-MINA'!F31 -> 40668 | G14: ='[1]US-MINA'!G31 -> 40686 | H14: =G14+11 -> 40697 | I14: =H14+3 -> 40700 | J14: =I14+3 -> 40703
A15: ='[1]WM-AMC1'!A16 -> BERNHARD SIBUM | B15: ='[1]WM-AMC1'!B16 -> 40 | C15: ='[1]WM-AMC1'!C16 -> 40668 | D15: =C15+3 -> 40671 | E15: ='[1]US-MINA'!E32 -> #REF! | F15: ='[1]US-MINA'!F32 -> 40675 | G15: ='[1]US-MINA'!G32 -> 40695 | H15: =G15+11 -> 40706 | I15: =H15+3 -> 40709 | J15: =I15+3 -> 40712
A16: ='[1]WM-AMC1'!A17 -> BERNHARD SIBUM | B16: ='[1]WM-AMC1'!B17 -> 41 | C16: ='[1]WM-AMC1'!C17 -> 40675 | D16: =C16+3 -> 40678 | E16: ='[1]US-MINA'!E33 -> #REF! | F16: ='[1]US-MINA'!F33 -> 40682 | G16: ='[1]US-MINA'!G33 -> 40699 | H16: =G16+11 -> 40710 | I16: =H16+3 -> 40713 | J16: =I16+3 -> 40716
A17: ='[1]WM-AMC1'!A18 -> SARA | B17: ='[1]WM-AMC1'!B18 -> 42 | C17: ='[1]WM-AMC1'!C18 -> 40682 | D17: =C17+3 -> 40685 | E17: ='[1]US-MINA'!E34 -> #REF! | F17: ='[1]US-MINA'!F34 -> 40689 | G17: ='[1]US-MINA'!G34 -> 40708 | H17: =G17+13 -> 40721 | I17: =H17+2 -> 40723 | J17: =I17+3 -> 40726
A18: ='[1]WM-AMC1'!A19 -> SARA | B18: ='[1]WM-AMC1'!B19 -> 43 | C18: ='[1]WM-AMC1'!C19 -> 40689 | D18: =C18+3 -> 40692 | E18: ='[1]US-MINA'!E35 -> #REF! | F18: ='[1]US-MINA'!F35 -> 40696 | G18: ='[1]US-MINA'!G35 -> 40714 | H18: =G18+11 -> 40725 | I18: =H18+3 -> 40728 | J18: =I18+3 -> 40731
A19: ='[1]WM-AMC1'!A20 -> SARA | B19: ='[1]WM-AMC1'!B20 -> 44 | C19: ='[1]WM-AMC1'!C20 -> 40696 | D19: =C19+3 -> 40699 | E19: ='[1]US-MINA'!E36 -> #REF! | F19: ='[1]US-MINA'!F36 -> 40703 | G19: ='[1]US-MINA'!G36 -> 40721 | H19: =G19+11 -> 40732 | I19: =H19+3 -> 40735 | J19: =I19+3 -> 40738
A20: ='[1]WM-AMC1'!A21 -> SARA | B20: ='[1]WM-AMC1'!B21 -> 45 | C20: ='[1]WM-AMC1'!C21 -> 40703 | D20: =C20+3 -> 40706 | E20: ='[1]US-MINA'!E37 -> #REF! | F20: ='[1]US-MINA'!F37 -> 40710 | G20: ='[1]US-MINA'!G37 -> 40727 | H20: =G20+11 -> 40738 | I20: =H20+3 -> 40741 | J20: =I20+3 -> 40744
A21: ='[1]WM-AMC1'!A22 -> SARA | B21: ='[1]WM-AMC1'!B22 -> 46 | C21: ='[1]WM-AMC1'!C22 -> 40710 | D21: =C21+3 -> 40713 | E21: ='[1]US-MINA'!E38 -> #REF! | F21: ='[1]US-MINA'!F38 -> 40717 | G21: ='[1]US-MINA'!G38 -> 40734 | H21: =G21+11 -> 40745 | I21: =H21+3 -> 40748 | J21: =I21+3 -> 40751
A22: ='[1]WM-AMC1'!A23 -> SARA | B22: ='[1]WM-AMC1'!B23 -> 47 | C22: ='[1]WM-AMC1'!C23 -> 40717 | D22: =C22+3 -> 40720 | E22: ='[1]US-MINA'!E39 -> #REF! | F22: ='[1]US-MINA'!F39 -> 40724 | G22: ='[1]US-MINA'!G39 -> 40741 | H22: =G22+11 -> 40752 | I22: =H22+3 -> 40755 | J22: =I22+3 -> 40758
A23: ='[1]WM-AMC1'!A24 -> SARA | B23: ='[1]WM-AMC1'!B24 -> 48 | C23: ='[1]WM-AMC1'!C24 -> 40724 | D23: =C23+3 -> 40727 | E23: ='[1]US-MINA'!E40 -> #REF! | F23: ='[1]US-MINA'!F40 -> 40731 | G23: ='[1]US-MINA'!G40 -> 40748 | H23: =G23+11 -> 40759 | I23: =H23+3 -> 40762 | J23: =I23+3 -> 40765
A24: ='[1]WM-AMC1'!A25 -> SARA | B24: ='[1]WM-AMC1'!B25 -> 49 | C24: ='[1]WM-AMC1'!C25 -> 40731 | D24: =C24+3 -> 40734 | E24: ='[1]US-MINA'!E41 -> #REF! | F24: ='[1]US-MINA'!F41 -> 40738 | G24: ='[1]US-MINA'!G41 -> 40757 | H24: =G24+11 -> 40768 | I24: =H24+3 -> 40771 | J24: =I24+3 -> 40774
A25: ='[1]WM-AMC1'!A26 -> SARA | B25: ='[1]WM-AMC1'!B26 -> 50 | C25: ='[1]WM-AMC1'!C26 -> 40738 | D25: =C25+3 -> 40741 | E25: ='[1]US-MINA'!E42 -> #REF! | F25: ='[1]US-MINA'!F42 -> 40748 | G25: ='[1]US-MINA'!G42 -> 40767 | H25: =G25+11 -> 40778 | I25: =H25+3 -> 40781 | J25: =I25+3 -> 40784
A26: ='[1]WM-AMC1'!A27 -> SARA | B26: ='[1]WM-AMC1'!B27 -> 51 | C26: ='[1]WM-AMC1'!C27 -> 40745 | D26: =C26+3 -> 40748 | E26: ='[1]US-MINA'!E43 -> #REF! | F26: ='[1]US-MINA'!F43 -> 40753 | G26: ='[1]US-MINA'!G43 -> 40773 | H26: =G26+11 -> 40784 | I26: =H26+3 -> 40787 | J26: =I26+3 -> 40790
A27: ='[1]WM-AMC1'!A28 -> SARA | B27: ='[1]WM-AMC1'!B28 -> 52 | C27: ='[1]WM-AMC1'!C28 -> 40752 | D27: =C27+3 -> 40755 | E27: ='[1]US-MINA'!E44 -> #REF! | F27: ='[1]US-MINA'!F44 -> 40759 | G27: ='[1]US-MINA'!G44 -> 40779 | H27: =G27+11 -> 40790 | I27: =H27+3 -> 40793 | J27: =I27+3 -> 40796
A28: ='[1]WM-AMC1'!A29 -> SARA | B28: ='[1]WM-AMC1'!B29 -> 53 | C28: ='[1]WM-AMC1'!C29 -> 40759 | D28: =C28+3 -> 40762 | E28: ='[1]US-MINA'!E45 -> #REF! | F28: ='[1]US-MINA'!F45 -> 40766 | G28: ='[1]US-MINA'!G45 -> 40783 | H28: =G28+11 -> 40794 | I28: =H28+3 -> 40797 | J28: =I28+3 -> 40800
A29: ='[1]WM-AMC1'!A30 -> SARA | B29: ='[1]WM-AMC1'!B30 -> 54 | C29: ='[1]WM-AMC1'!C30 -> 40766 | D29: =C29+3 -> 40769 | E29: ='[1]US-MINA'!E46 -> #REF! | F29: ='[1]US-MINA'!F46 -> 40773 | G29: ='[1]US-MINA'!G46 -> 40790 | H29: =G29+11 -> 40801 | I29: =H29+3 -> 40804 | J29: =I29+3 -> 40807
... A52: ='[1]WM-AMC1'!A53 -> SARA | B52: ='[1]WM-AMC1'!B53 -> 77 | C52: ='[1]WM-AMC1'!C53 -> 40927 | D52: =C52+3 -> 40930 | E52: ='[1]US-MINA'!E69 -> MAYSSAN 1202W | F52: ='[1]US-MINA'!F69 -> 40934 | G52: ='[1]US-MINA'!G69 -> 40951 | H52: =G52+11 -> 40962 | I52: =H52+3 -> 40965 | J52: =I52+3 -> 40968
A53: =A52 -> SARA | B53: =B52+1 -> 78 | C53: ='[1]WM-AMC1'!C54 -> 40934 | D53: =C53+3 -> 40937 | E53: ='[1]US-MINA'!E70 -> JAZAN 1203W | F53: ='[1]US-MINA'!F70 -> 40941 | G53: ='[1]US-MINA'!G70 -> 40958 | H53: =G53+11 -> 40969 | I53: =H53+3 -> 40972 | J53: =I53+3 -> 40975
A54: OMIT | B54: =B53+1 -> 79 | C54: =C53+7 -> 40941 | D54: =C54+3 -> 40944 | E54: ='[1]US-MINA'!E71 -> AL MANAMAH 1204W | F54: ='[1]US-MINA'!F71 -> 40948 | G54: ='[1]US-MINA'!G71 -> 40965 | H54: =G54+11 -> 40976 | I54: =H54+3 -> 40979 | J54: =I54+3 -> 40982
A55: SARA | B55: =B54+1 -> 80 | C55: =C54+7 -> 40948 | D55: =C55+3 -> 40951 | E55: ='[1]US-MINA'!E72 -> TBA | F55: ='[1]US-MINA'!F77 -> #REF! | G55: ='[1]US-MINA'!G77 -> #REF! | H55: =G55+11 -> #REF! | I55: =H55+3 -> #REF! | J55: =I55+3 -> #REF!
A56: =A55 -> SARA | B56: =B55+1 -> 81 | C56: =C55+7 -> 40955 | D56: =C56+3 -> 40958 | E56: ='[1]US-MINA'!E73 -> AL BAHIA 1206W | F56: ='[1]US-MINA'!F78 -> #REF! | G56: ='[1]US-MINA'!G78 -> #REF! | H56: =G56+11 -> #REF! | I56: =H56+3 -> #REF! | J56: =I56+3 -> #REF!
A57: FEEDER | B57: VOY | C57: ETD HCM | D57: ETA SIN | E57: MOTHER VESSEL | F57: ETA SIN | G57: ETA ALGECIRAS | H57: LAGOS | I57: TEMA | J57: ABIDJAN
E58: ='US-AEC9'!E13 -> HANJIN ITALY 0007W | F58: ='US-AEC9'!F13 -> 41039 | G58: ='US-AEC9'!G13 -> 41056 | H58: =G58+15 -> 41071 | I58: =G58+20 -> 41076 | J58: =G58+23 -> 41079
A59: ='US-AEC9'!A14 -> SOGA | B59: ='US-AEC9'!B14 -> 110 | C59: ='US-AEC9'!C14 -> 41032 | D59: ='US-AEC9'!D14 -> 41034
A60: ='US-AEC9'!A15 -> WARNOW MATE | B60: ='US-AEC9'!B15 -> 1238 | C60: ='US-AEC9'!C15 -> 41032 | D60: ='US-AEC9'!D15 -> 41035
A61: ='US-AEC9'!A16 -> ISARA BHUM | B61: ='US-AEC9'!B16 -> 206 | C61: ='US-AEC9'!C16 -> 41033 | D61: ='US-AEC9'!D16 -> 41036
A62: ='US-AEC9'!A17 -> KOTA RESTU | B62: ='US-AEC9'!B17 -> 210 | C62: ='US-AEC9'!C17 -> 41033 | D62: ='US-AEC9'!D17 -> 41036
E64: ='US-AEC9'!E19 -> HANJIN EUROPE 0001W | F64: ='US-AEC9'!F19 -> 41047 | G64: ='US-AEC9'!G19 -> 41064 | H64: =G64+20 -> 41084 | I64: =G64+25 -> 41089 | J64: =G64+28 -> 41092
A65: ='US-AEC9'!A20 -> VINALINES PIONEER | B65: ='US-AEC9'!B20 -> 1 | C65: ='US-AEC9'!C20 -> 41039 | D65: ='US-AEC9'!D20 -> 41041
A66: ='US-AEC9'!A21 -> WARNOW MATE | B66: ='US-AEC9'!B21 -> 1240 | C66: ='US-AEC9'!C21 -> 41039 | D66: ='US-AEC9'!D21 -> 41042
A67: ='US-AEC9'!A22 -> ISARA BHUM | B67: ='US-AEC9'!B22 -> 207 | C67: ='US-AEC9'!C22 -> 41040 | D67: ='US-AEC9'!D22 -> 41043
A68: ='US-AEC9'!A23 -> KOTA RESTU | B68: ='US-AEC9'!B23 -> 212 | C68: ='US-AEC9'!C23 -> 41040 | D68: ='US-AEC9'!D23 -> 41043
E70: ='US-AEC9'!E25 -> HANJIN UNITED KINGDOM 0005W | F70: ='US-AEC9'!F25 -> 41053 | G70: ='US-AEC9'!G25 -> 41070 | H70: =G70+21 -> 41091 | I70: =G70+26 -> 41096 | J70: =G70+29 -> 41099
A71: ='US-AEC9'!A26 -> MELINH | B71: ='US-AEC9'!B26 -> 12 | C71: ='US-AEC9'!C26 -> 41046 | D71: ='US-AEC9'!D26 -> 41048
A72: ='US-AEC9'!A27 -> WARNOW MATE | B72: ='US-AEC9'!B27 -> 1242 | C72: ='US-AEC9'!C27 -> 41046 | D72: ='US-AEC9'!D27 -> 41049
A73: ='US-AEC9'!A28 -> ISARA BHUM | B73: ='US-AEC9'!B28 -> 208 | C73: ='US-AEC9'!C28 -> 41047 | D73: ='US-AEC9'!D28 -> 41050
A74: ='US-AEC9'!A29 -> KOTA RESTU | B74: ='US-AEC9'!B29 -> 214 | C74: ='US-AEC9'!C29 -> 41047 | D74: ='US-AEC9'!D29 -> 41050
E76: ='US-AEC9'!E31 -> HANJIN KOREA 0011W | F76: ='US-AEC9'!F31 -> 41060 | G76: ='US-AEC9'!G31 -> 41077 | H76: =G76+21 -> 41098 | I76: =G76+26 -> 41103 | J76: =G76+29 -> 41106
A77: ='US-AEC9'!A32 -> VINALINES PIONEER | B77: ='US-AEC9'!B32 -> 2 | C77: ='US-AEC9'!C32 -> 41053 | D77: ='US-AEC9'!D32 -> 41055
A78: ='US-AEC9'!A33 -> WARNOW MATE | B78: ='US-AEC9'!B33 -> 1244 | C78: ='US-AEC9'!C33 -> 41053 | D78: ='US-AEC9'!D33 -> 41056
A79: ='US-AEC9'!A34 -> ISARA BHUM | B79: ='US-AEC9'!B34 -> 209 | C79: ='US-AEC9'!C34 -> 41054 | D79: ='US-AEC9'!D34 -> 41057
A80: ='US-AEC9'!A35 -> KOTA RESTU | B80: ='US-AEC9'!B35 -> 216 | C80: ='US-AEC9'!C35 -> 41054 | D80: ='US-AEC9'!D35 -> 41057
E82: ='US-AEC9'!E37 -> HANJIN CHINA 0007W | F82: ='US-AEC9'!F37 -> 41067 | G82: ='US-AEC9'!G37 -> 41084 | H82: =G82+21 -> 41105 | I82: =G82+26 -> 41110 | J82: =G82+29 -> 41113
A83: ='US-AEC9'!A38 -> MELINH | B83: ='US-AEC9'!B38 -> 13 | C83: ='US-AEC9'!C38 -> 41060 | D83: ='US-AEC9'!D38 -> 41062
A84: ='US-AEC9'!A39 -> WARNOW MATE | B84: ='US-AEC9'!B39 -> 1246 | C84: ='US-AEC9'!C39 -> 41060 | D84: ='US-AEC9'!D39 -> 41063
A85: ='US-AEC9'!A40 -> ISARA BHUM | B85: ='US-AEC9'!B40 -> 210 | C85: ='US-AEC9'!C40 -> 41061 | D85: ='US-AEC9'!D40 -> 41064
A86: ='US-AEC9'!A41 -> KOTA RESTU | B86: ='US-AEC9'!B41 -> 218 | C86: ='US-AEC9'!C41 -> 41061 | D86: ='US-AEC9'!D41 -> 41064
E88: ='US-AEC9'!E43 -> HANJIN NETHERLANDS 0007W | F88: ='US-AEC9'!F43 -> 41074 | G88: ='US-AEC9'!G43 -> 41091 | H88: =G88+21 -> 41112 | I88: =G88+26 -> 41117 | J88: =G88+29 -> 41120
A89: ='US-AEC9'!A44 -> VINALINES PIONEER | B89: ='US-AEC9'!B44 -> 3 | C89: ='US-AEC9'!C44 -> 41067 | D89: ='US-AEC9'!D44 -> 41069
A90: ='US-AEC9'!A45 -> WARNOW MATE | B90: ='US-AEC9'!B45 -> 1248 | C90: ='US-AEC9'!C45 -> 41067 | D90: ='US-AEC9'!D45 -> 41070
A91: ='US-AEC9'!A46 -> ISARA BHUM | B91: ='US-AEC9'!B46 -> 211 | C91: ='US-AEC9'!C46 -> 41068 | D91: ='US-AEC9'!D46 -> 41071
A92: ='US-AEC9'!A47 -> KOTA RESTU | B92: ='US-AEC9'!B47 -> 220 | C92: ='US-AEC9'!C47 -> 41068 | D92: ='US-AEC9'!D47 -> 41071
E94: ='US-AEC9'!E49 -> HANJIN GREECE 0007W | F94: ='US-AEC9'!F49 -> 41081 | G94: ='US-AEC9'!G49 -> 41098 | H94: =G94+21 -> 41119 | I94: =G94+26 -> 41124 | J94: =G94+29 -> 41127
A95: ='US-AEC9'!A50 -> MELINH | B95: ='US-AEC9'!B50 -> 14 | C95: ='US-AEC9'!C50 -> 41074 | D95: ='US-AEC9'!D50 -> 41076
A96: ='US-AEC9'!A51 -> WARNOW MATE | B96: ='US-AEC9'!B51 -> 1250 | C96: ='US-AEC9'!C51 -> 41074 | D96: ='US-AEC9'!D51 -> 41077
A97: ='US-AEC9'!A52 -> ISARA BHUM | B97: ='US-AEC9'!B52 -> 212 | C97: ='US-AEC9'!C52 -> 41075 | D97: ='US-AEC9'!D52 -> 41078
A98: ='US-AEC9'!A53 -> KOTA RESTU | B98: ='US-AEC9'!B53 -> 222 | C98: ='US-AEC9'!C53 -> 41075 | D98: ='US-AEC9'!D53 -> 41078
A102: THE ABOVE SAILING SCHEDULE IS SUBJECT TO CHANGE WITH/WITHOUT PRIOR NOTICE | H102: Person to contact :
A103: VIET HOA TRANSPORT SERVICE & TRADING CO., LTD. ( HEAD OFFICE 1) | I103: Office 1 : | K103: Ms. Simmi (84-8) 39402520 ( Ext : 122 )
A104: 284 Nguyen Tat Thanh Street, Dist. 4, Ho Chi Minh City, VietNam | I104: Office 2 : | K104: Ms. Jasmine (84-8) 38268533 ( Ext : 101 )
A105: Tel : (84-8) 39402520 (12 lines) Fax : (84-8) 39402601 / 39408933 / 39411087 | I105: Office 3 : | K105: Ms. Oanh (84-8) 62810240 ( Ext: 117 )
A106: Email : general@viethoagroup.com Website : www.viethoagroup.com

Sheet BRAZIL- SAM1
C3: HOCHIMINHCITY TO WEST AFRICA
C4: SAM1 SERVICE
J5: ='NE-AEC7 (DIRECTLY)'!I6 -> Update: | K5: ='NE-AEC7 (DIRECTLY)'!J6 -> 41046
A6: FEEDER | B6: VOY | C6: ETD HCM | D6: ETA PKG | E6: MAIN LINE VESSEL | F6: ETD PKG | G6: ETA Algeciras | H6: RIO DE JANEIRO | I6: SANTOS | J6: PARANAGUA | K6: ITAJAL
A7: ='[1]WM-AMC1'!A8 -> #REF! | B7: ='[1]WM-AMC1'!B8 -> #REF! | C7: ='[1]WM-AMC1'!C8 -> 40612 | D7: =C7+3 -> 40615 | E7: ='[1]US-MINA'!E24 -> #REF! | F7: ='[1]US-MINA'!F24 -> 40619 | G7: ='[1]US-MINA'!G24 -> 40636 | H7: =G7+17 -> 40653 | I7: =H7+2 -> 40655 | J7: =I7+2 -> 40657
A8: ='[1]WM-AMC1'!A9 -> #REF! | B8: ='[1]WM-AMC1'!B9 -> #REF! | C8: ='[1]WM-AMC1'!C9 -> 40619 | D8: =C8+3 -> 40622 | E8: ='[1]US-MINA'!E25 -> #REF! | F8: ='[1]US-MINA'!F25 -> 40626 | G8: ='[1]US-MINA'!G25 -> 40643 | H8: =G8+17 -> 40660 | I8: =H8+2 -> 40662 | J8: =I8+2 -> 40664
A9: ='[1]WM-AMC1'!A10 -> #REF! | B9: ='[1]WM-AMC1'!B10 -> #REF! | C9: ='[1]WM-AMC1'!C10 -> 40626 | D9: =C9+3 -> 40629 | E9: ='[1]US-MINA'!E26 -> #REF! | F9: ='[1]US-MINA'!F26 -> 40633 | G9: ='[1]US-MINA'!G26 -> 40650 | H9: =G9+17 -> 40667 | I9: =H9+2 -> 40669 | J9: =I9+2 -> 40671
A10: ='[1]WM-AMC1'!A11 -> #REF! | B10: ='[1]WM-AMC1'!B11 -> #REF! | C10: ='[1]WM-AMC1'!C11 -> 40633 | D10: =C10+3 -> 40636 | E10: ='[1]US-MINA'!E27 -> #REF! | F10: ='[1]US-MINA'!F27 -> 40640 | G10: ='[1]US-MINA'!G27 -> 40657 | H10: =G10+17 -> 40674 | I10: =H10+2 -> 40676 | J10: =I10+2 -> 40678
A11: ='[1]WM-AMC1'!A12 -> #REF! | B11: ='[1]WM-AMC1'!B12 -> #REF! | C11: ='[1]WM-AMC1'!C12 -> 40640 | D11: =C11+3 -> 40643 | E11: ='[1]US-MINA'!E28 -> #REF! | F11: ='[1]US-MINA'!F28 -> 40647 | G11: ='[1]US-MINA'!G28 -> 40664 | H11: =G11+17 -> 40681 | I11: =H11+2 -> 40683 | J11: =I11+2 -> 40685
A12: ='[1]WM-AMC1'!A13 -> #REF! | B12: ='[1]WM-AMC1'!B13 -> #REF! | C12: ='[1]WM-AMC1'!C13 -> 40647 | D12: =C12+3 -> 40650 | E12: ='[1]US-MINA'!E29 -> #REF! | F12: ='[1]US-MINA'!F29 -> 40654 | G12: ='[1]US-MINA'!G29 -> 40671 | H12: =G12+17 -> 40688 | I12: =H12+2 -> 40690 | J12: =I12+2 -> 40692
A13: ='[1]WM-AMC1'!A14 -> #REF! | B13: ='[1]WM-AMC1'!B14 -> #REF! | C13: ='[1]WM-AMC1'!C14 -> 40654 | D13: =C13+3 -> 40657 | E13: ='[1]US-MINA'!E30 -> #REF! | F13: ='[1]US-MINA'!F30 -> 40661 | G13: ='[1]US-MINA'!G30 -> 40678 | H13: =G13+17 -> 40695 | I13: =H13+2 -> 40697 | J13: =I13+2 -> 40699
A14: ='[1]WM-AMC1'!A15 -> #REF! | B14: ='[1]WM-AMC1'!B15 -> #REF! | C14: ='[1]WM-AMC1'!C15 -> 40661 | D14: =C14+3 -> 40664 | E14: ='[1]US-MINA'!E31 -> #REF! | F14: ='[1]US-MINA'!F31 -> 40668 | G14: ='[1]US-MINA'!G31 -> 40686 | H14: =G14+17 -> 40703 | I14: =H14+2 -> 40705 | J14: =I14+2 -> 40707
A15: ='[1]WM-AMC1'!A16 -> BERNHARD SIBUM | B15: ='[1]WM-AMC1'!B16 -> 40 | C15: ='[1]WM-AMC1'!C16 -> 40668 | D15: =C15+3 -> 40671 | E15: ='[1]US-MINA'!E32 -> #REF! | F15: ='[1]US-MINA'!F32 -> 40675 | G15: ='[1]US-MINA'!G32 -> 40695 | H15: =G15+17 -> 40712 | I15: =H15+2 -> 40714 | J15: =I15+2 -> 40716
A16: ='[1]WM-AMC1'!A17 -> BERNHARD SIBUM | B16: ='[1]WM-AMC1'!B17 -> 41 | C16: ='[1]WM-AMC1'!C17 -> 40675 | D16: =C16+3 -> 40678 | E16: ='[1]US-MINA'!E33 -> #REF! | F16: ='[1]US-MINA'!F33 -> 40682 | G16: ='[1]US-MINA'!G33 -> 40699 | H16: =G16+17 -> 40716 | I16: =H16+2 -> 40718 | J16: =I16+2 -> 40720
A17: ='[1]WM-AMC1'!A18 -> SARA | B17: ='[1]WM-AMC1'!B18 -> 42 | C17: ='[1]WM-AMC1'!C18 -> 40682 | D17: =C17+3 -> 40685 | E17: ='[1]US-MINA'!E34 -> #REF! | F17: ='[1]US-MINA'!F34 -> 40689 | G17: ='[1]US-MINA'!G34 -> 40708 | H17: =G17+17 -> 40725 | I17: =H17+2 -> 40727 | J17: =I17+2 -> 40729
A18: ='[1]WM-AMC1'!A19 -> SARA | B18: ='[1]WM-AMC1'!B19 -> 43 | C18: ='[1]WM-AMC1'!C19 -> 40689 | D18: =C18+3 -> 40692 | E18: ='[1]US-MINA'!E35 -> #REF! | F18: ='[1]US-MINA'!F35 -> 40696 | G18: ='[1]US-MINA'!G35 -> 40714 | H18: =G18+17 -> 40731 | I18: =H18+2 -> 40733 | J18: =I18+2 -> 40735
... A25: ='[1]WM-AMC1'!A26 -> SARA | B25: ='[1]WM-AMC1'!B26 -> 50 | C25: ='[1]WM-AMC1'!C26 -> 40738 | D25: =C25+3 -> 40741 | E25: ='[1]US-MINA'!E42 -> #REF! | F25: ='[1]US-MINA'!F42 -> 40748 | G25: ='[1]US-MINA'!G42 -> 40767 | H25: =G25+17 -> 40784 | I25: =H25+2 -> 40786 | J25: =I25+2 -> 40788
A26: ='[1]WM-AMC1'!A28 -> SARA | B26: ='[1]WM-AMC1'!B28 -> 52 | C26: ='[1]WM-AMC1'!C28 -> 40752 | D26: =C26+3 -> 40755 | E26: ='[1]US-MINA'!E44 -> #REF! | F26: ='[1]US-MINA'!F44 -> 40759 | G26: ='[1]US-MINA'!G44 -> 40779 | H26: =G26+17 -> 40796 | I26: =H26+2 -> 40798 | J26: =I26+2 -> 40800
A27: ='[1]WM-AMC1'!A29 -> SARA | B27: ='[1]WM-AMC1'!B29 -> 53 | C27: ='[1]WM-AMC1'!C29 -> 40759 | D27: =C27+3 -> 40762 | E27: ='[1]US-MINA'!E45 -> #REF! | F27: ='[1]US-MINA'!F45 -> 40766 | G27: ='[1]US-MINA'!G45 -> 40783 | H27: =G27+17 -> 40800 | I27: =H27+1 -> 40801 | J27: =I27+2 -> 40803 | K27: =J27+1 -> 40804
A28: ='[1]WM-AMC1'!A30 -> SARA | B28: ='[1]WM-AMC1'!B30 -> 54 | C28: ='[1]WM-AMC1'!C30 -> 40766 | D28: =C28+3 -> 40769 | E28: ='[1]US-MINA'!E46 -> #REF! | F28: ='[1]US-MINA'!F46 -> 40773 | G28: ='[1]US-MINA'!G46 -> 40790 | H28: =G28+17 -> 40807 | I28: =H28+1 -> 40808 | J28: =I28+2 -> 40810 | K28: =J28+1 -> 40811
A29: ='[1]WM-AMC1'!A31 -> SARA | B29: ='[1]WM-AMC1'!B31 -> 55 | C29: ='[1]WM-AMC1'!C31 -> 40773 | D29: =C29+3 -> 40776 | E29: ='[1]US-MINA'!E47 -> #REF! | F29: ='[1]US-MINA'!F47 -> 40780 | G29: ='[1]US-MINA'!G47 -> 40800 | H29: =G29+17 -> 40817 | I29: =H29+1 -> 40818 | J29: =I29+2 -> 40820 | K29: =J29+1 -> 40821
A30: ='[1]WM-AMC1'!A32 -> SARA | B30: ='[1]WM-AMC1'!B32 -> 56 | C30: ='[1]WM-AMC1'!C32 -> 40780 | D30: =C30+3 -> 40783 | E30: ='[1]US-MINA'!E48 -> #REF! | F30: ='[1]US-MINA'!F48 -> 40787 | G30: ='[1]US-MINA'!G48 -> 40807 | H30: =G30+17 -> 40824 | I30: =H30+1 -> 40825 | J30: =I30+2 -> 40827 | K30: =J30+1 -> 40828
A31: ='[1]WM-AMC1'!A33 -> SARA | B31: ='[1]WM-AMC1'!B33 -> 57 | C31: ='[1]WM-AMC1'!C33 -> 40787 | D31: =C31+3 -> 40790 | E31: ='[1]US-MINA'!E49 -> #REF! | F31: ='[1]US-MINA'!F49 -> 40795 | G31: ='[1]US-MINA'!G49 -> 40817 | H31: =G31+17 -> 40834 | I31: =H31+1 -> 40835 | J31: =I31+2 -> 40837 | K31: =J31+1 -> 40838
A32: ='[1]WM-AMC1'!A34 -> SARA | B32: ='[1]WM-AMC1'!B34 -> 58 | C32: ='[1]WM-AMC1'!C34 -> 40794 | D32: =C32+3 -> 40797 | E32: ='[1]US-MINA'!E50 -> #REF! | F32: ='[1]US-MINA'!F50 -> 40801 | G32: ='[1]US-MINA'!G50 -> 40821 | H32: =G32+17 -> 40838 | I32: =H32+1 -> 40839 | J32: =I32+2 -> 40841 | K32: =J32+1 -> 40842
A33: ='[1]WM-AMC1'!A35 -> SARA | B33: ='[1]WM-AMC1'!B35 -> 59 | C33: ='[1]WM-AMC1'!C35 -> 40801 | D33: =C33+3 -> 40804 | E33: ='[1]US-MINA'!E51 -> #REF! | F33: ='[1]US-MINA'!F51 -> 40809 | G33: ='[1]US-MINA'!G51 -> 40827 | H33: =G33+17 -> 40844 | I33: =H33+1 -> 40845 | J33: =I33+2 -> 40847 | K33: =J33+1 -> 40848
A34: ='[1]WM-AMC1'!A36 -> SARA | B34: ='[1]WM-AMC1'!B36 -> 60 | C34: ='[1]WM-AMC1'!C36 -> 40808 | D34: =C34+3 -> 40811 | E34: ='[1]US-MINA'!E52 -> #REF! | F34: ='[1]US-MINA'!F52 -> 40817 | G34: ='[1]US-MINA'!G52 -> 40834 | H34: =G34+17 -> 40851 | I34: =H34+1 -> 40852 | J34: =I34+2 -> 40854 | K34: =J34+1 -> 40855
A35: ='[1]WM-AMC1'!A37 -> SARA | B35: ='[1]WM-AMC1'!B37 -> 61 | C35: ='[1]WM-AMC1'!C37 -> 40815 | D35: =C35+3 -> 40818 | E35: ='[1]US-MINA'!E53 -> #REF! | F35: ='[1]US-MINA'!F53 -> 40825 | G35: ='[1]US-MINA'!G53 -> 40844 | H35: =G35+17 -> 40861 | I35: =H35+1 -> 40862 | J35: =I35+2 -> 40864 | K35: =J35+1 -> 40865
A36: ='[1]WM-AMC1'!A38 -> SARA | B36: ='[1]WM-AMC1'!B38 -> 62 | C36: ='[1]WM-AMC1'!C38 -> 40822 | D36: =C36+3 -> 40825 | E36: ='[1]US-MINA'!E54 -> #REF! | F36: ='[1]US-MINA'!F54 -> 40832 | G36: ='[1]US-MINA'!G54 -> 40849 | H36: =G36+17 -> 40866 | I36: =H36+1 -> 40867 | J36: =I36+2 -> 40869 | K36: =J36+1 -> 40870
A37: ='[1]WM-AMC1'!A39 -> SARA | B37: ='[1]WM-AMC1'!B39 -> 63 | C37: ='[1]WM-AMC1'!C39 -> 40829 | D37: =C37+3 -> 40832 | E37: ='[1]US-MINA'!E55 -> #REF! | F37: ='[1]US-MINA'!F55 -> 40837 | G37: ='[1]US-MINA'!G55 -> 40858 | H37: =G37+17 -> 40875 | I37: =H37+1 -> 40876 | J37: =I37+2 -> 40878 | K37: =J37+1 -> 40879
A38: ='[1]WM-AMC1'!A40 -> SARA | B38: ='[1]WM-AMC1'!B40 -> 64 | C38: ='[1]WM-AMC1'!C40 -> 40836 | D38: =C38+3 -> 40839 | E38: ='[1]US-MINA'!E56 -> OMIT | F38: ='[1]US-MINA'!F56 -> 40844 | G38: ='[1]US-MINA'!G56 -> 40861 | H38: =G38+17 -> 40878 | I38: =H38+1 -> 40879 | J38: =I38+2 -> 40881 | K38: =J38+1 -> 40882
... A50: ='[1]WM-AMC1'!A52 -> SARA | B50: ='[1]WM-AMC1'!B52 -> 76 | C50: ='[1]WM-AMC1'!C52 -> 40920 | D50: =C50+3 -> 40923 | E50: ='[1]US-MINA'!E68 -> AL HILAL 1201W | F50: ='[1]US-MINA'!F68 -> 40927 | G50: ='[1]US-MINA'!G68 -> 40944 | H50: =G50+17 -> 40961 | I50: =H50+1 -> 40962 | J50: =I50+2 -> 40964 | K50: =J50+1 -> 40965
A51: =A50 -> SARA | B51: =B50+1 -> 77 | C51: =C50+7 -> 40927 | D51: =C51+3 -> 40930 | E51: ='[1]US-MINA'!E69 -> MAYSSAN 1202W | F51: ='[1]US-MINA'!F69 -> 40934 | G51: ='[1]US-MINA'!G69 -> 40951 | H51: =G51+17 -> 40968 | I51: =H51+1 -> 40969 | J51: =I51+2 -> 40971 | K51: =J51+1 -> 40972
A52: =A51 -> SARA | B52: =B51+1 -> 78 | C52: =C51+7 -> 40934 | D52: =C52+3 -> 40937 | E52: ='[1]US-MINA'!E70 -> JAZAN 1203W | F52: ='[1]US-MINA'!F70 -> 40941 | G52: ='[1]US-MINA'!G70 -> 40958 | H52: =G52+17 -> 40975 | I52: =H52+1 -> 40976 | J52: =I52+2 -> 40978 | K52: =J52+1 -> 40979
A53: OMIT | B53: =B52+1 -> 79 | C53: =C52+7 -> 40941 | D53: =C53+3 -> 40944 | E53: ='[1]US-MINA'!E71 -> AL MANAMAH 1204W | F53: ='[1]US-MINA'!F71 -> 40948 | G53: ='[1]US-MINA'!G71 -> 40965 | H53: =G53+17 -> 40982 | I53: =H53+1 -> 40983 | J53: =I53+2 -> 40985 | K53: =J53+1 -> 40986
A54: =A52 -> SARA | B54: =B53+1 -> 80 | C54: =C53+7 -> 40948 | D54: =C54+3 -> 40951 | E54: ='[1]US-MINA'!E72 -> TBA | F54: ='[1]US-MINA'!F72 -> 40955 | G54: ='[1]US-MINA'!G72 -> 40972 | H54: =G54+17 -> 40989 | I54: =H54+1 -> 40990 | J54: =I54+2 -> 40992 | K54: =J54+1 -> 40993
A55: =A54 -> SARA | B55: =B54+1 -> 81 | C55: =C54+7 -> 40955 | D55: =C55+3 -> 40958 | E55: ='[1]US-MINA'!E73 -> AL BAHIA 1206W | F55: ='[1]US-MINA'!F73 -> 40962 | G55: ='[1]US-MINA'!G73 -> 40979 | H55: =G55+17 -> 40996 | I55: =H55+1 -> 40997 | J55: =I55+2 -> 40999 | K55: =J55+1 -> 41000
A56: FEEDER | B56: VOY | C56: ETD HCM | D56: ETA SIN | E56: MOTHER VESSEL | F56: ETA SIN | G56: ETA ALGECIRAS | H56: RIO DE JANEIRO | I56: SANTOS | J56: PARANAGUA | K56: ITAJAI
E57: ='US-AEC9'!E13 -> HANJIN ITALY 0007W | F57: ='US-AEC9'!F13 -> 41039 | G57: ='US-AEC9'!G13 -> 41056 | H57: =G57+23 -> 41079 | I57: =H57+2 -> 41081 | J57: =I57+2 -> 41083 | K57: =J57+3 -> 41086
A58: ='US-AEC9'!A14 -> SOGA | B58: ='US-AEC9'!B14 -> 110 | C58: ='US-AEC9'!C14 -> 41032 | D58: ='US-AEC9'!D14 -> 41034
A59: ='US-AEC9'!A15 -> WARNOW MATE | B59: ='US-AEC9'!B15 -> 1238 | C59: ='US-AEC9'!C15 -> 41032 | D59: ='US-AEC9'!D15 -> 41035
A60: ='US-AEC9'!A16 -> ISARA BHUM | B60: ='US-AEC9'!B16 -> 206 | C60: ='US-AEC9'!C16 -> 41033 | D60: ='US-AEC9'!D16 -> 41036
A61: ='US-AEC9'!A17 -> KOTA RESTU | B61: ='US-AEC9'!B17 -> 210 | C61: ='US-AEC9'!C17 -> 41033 | D61: ='US-AEC9'!D17 -> 41036
E63: ='WA-WAF1'!E58 -> HANJIN ITALY 0007W | F63: ='WA-WAF1'!F58 -> 41039 | G63: ='WA-WAF1'!G58 -> 41056 | H63: =G63+23 -> 41079 | I63: =H63+2 -> 41081 | J63: =I63+2 -> 41083 | K63: =J63+3 -> 41086
A64: ='WA-WAF1'!A59 -> SOGA | B64: ='WA-WAF1'!B59 -> 110 | C64: ='WA-WAF1'!C59 -> 41032 | D64: ='WA-WAF1'!D59 -> 41034
A65: ='WA-WAF1'!A60 -> WARNOW MATE | B65: ='WA-WAF1'!B60 -> 1238 | C65: ='WA-WAF1'!C60 -> 41032 | D65: ='WA-WAF1'!D60 -> 41035
A66: ='WA-WAF1'!A61 -> ISARA BHUM | B66: ='WA-WAF1'!B61 -> 206 | C66: ='WA-WAF1'!C61 -> 41033 | D66: ='WA-WAF1'!D61 -> 41036
A67: ='WA-WAF1'!A62 -> KOTA RESTU | B67: ='WA-WAF1'!B62 -> 210 | C67: ='WA-WAF1'!C62 -> 41033 | D67: ='WA-WAF1'!D62 -> 41036
E69: ='US-AEC9'!E19 -> HANJIN EUROPE 0001W | F69: ='US-AEC9'!F19 -> 41047 | G69: ='US-AEC9'!G19 -> 41064 | H69: =G69+22 -> 41086 | I69: =H69+2 -> 41088 | J69: =I69+2 -> 41090 | K69: =J69+3 -> 41093
A70: ='US-AEC9'!A20 -> VINALINES PIONEER | B70: ='US-AEC9'!B20 -> 1 | C70: ='US-AEC9'!C20 -> 41039 | D70: ='US-AEC9'!D20 -> 41041
A71: ='US-AEC9'!A21 -> WARNOW MATE | B71: ='US-AEC9'!B21 -> 1240 | C71: ='US-AEC9'!C21 -> 41039 | D71: ='US-AEC9'!D21 -> 41042
A72: ='US-AEC9'!A22 -> ISARA BHUM | B72: ='US-AEC9'!B22 -> 207 | C72: ='US-AEC9'!C22 -> 41040 | D72: ='US-AEC9'!D22 -> 41043
A73: ='US-AEC9'!A23 -> KOTA RESTU | B73: ='US-AEC9'!B23 -> 212 | C73: ='US-AEC9'!C23 -> 41040 | D73: ='US-AEC9'!D23 -> 41043
E75: ='US-AEC9'!E25 -> HANJIN UNITED KINGDOM 0005W | F75: ='US-AEC9'!F25 -> 41053 | G75: ='US-AEC9'!G25 -> 41070 | H75: =G75+23 -> 41093 | I75: =H75+2 -> 41095 | J75: =I75+2 -> 41097 | K75: =J75+3 -> 41100
A76: ='US-AEC9'!A26 -> MELINH | B76: ='US-AEC9'!B26 -> 12 | C76: ='US-AEC9'!C26 -> 41046 | D76: ='US-AEC9'!D26 -> 41048
A77: ='US-AEC9'!A27 -> WARNOW MATE | B77: ='US-AEC9'!B27 -> 1242 | C77: ='US-AEC9'!C27 -> 41046 | D77: ='US-AEC9'!D27 -> 41049
A78: ='US-AEC9'!A28 -> ISARA BHUM | B78: ='US-AEC9'!B28 -> 208 | C78: ='US-AEC9'!C28 -> 41047 | D78: ='US-AEC9'!D28 -> 41050
A79: ='US-AEC9'!A29 -> KOTA RESTU | B79: ='US-AEC9'!B29 -> 214 | C79: ='US-AEC9'!C29 -> 41047 | D79: ='US-AEC9'!D29 -> 41050
E81: ='US-AEC9'!E31 -> HANJIN KOREA 0011W | F81: ='US-AEC9'!F31 -> 41060 | G81: ='US-AEC9'!G31 -> 41077 | H81: =G81+23 -> 41100 | I81: =H81+2 -> 41102 | J81: =I81+2 -> 41104 | K81: =J81+3 -> 41107
A82: ='US-AEC9'!A32 -> VINALINES PIONEER | B82: ='US-AEC9'!B32 -> 2 | C82: ='US-AEC9'!C32 -> 41053 | D82: ='US-AEC9'!D32 -> 41055
A83: ='US-AEC9'!A33 -> WARNOW MATE | B83: ='US-AEC9'!B33 -> 1244 | C83: ='US-AEC9'!C33 -> 41053 | D83: ='US-AEC9'!D33 -> 41056
A84: ='US-AEC9'!A34 -> ISARA BHUM | B84: ='US-AEC9'!B34 -> 209 | C84: ='US-AEC9'!C34 -> 41054 | D84: ='US-AEC9'!D34 -> 41057
A85: ='US-AEC9'!A35 -> KOTA RESTU | B85: ='US-AEC9'!B35 -> 216 | C85: ='US-AEC9'!C35 -> 41054 | D85: ='US-AEC9'!D35 -> 41057
E87: ='US-AEC9'!E37 -> HANJIN CHINA 0007W | F87: ='US-AEC9'!F37 -> 41067 | G87: ='US-AEC9'!G37 -> 41084 | H87: =G87+23 -> 41107 | I87: =H87+2 -> 41109 | J87: =I87+2 -> 41111 | K87: =J87+3 -> 41114
A88: ='US-AEC9'!A38 -> MELINH | B88: ='US-AEC9'!B38 -> 13 | C88: ='US-AEC9'!C38 -> 41060 | D88: ='US-AEC9'!D38 -> 41062
A89: ='US-AEC9'!A39 -> WARNOW MATE | B89: ='US-AEC9'!B39 -> 1246 | C89: ='US-AEC9'!C39 -> 41060 | D89: ='US-AEC9'!D39 -> 41063
A90: ='US-AEC9'!A40 -> ISARA BHUM | B90: ='US-AEC9'!B40 -> 210 | C90: ='US-AEC9'!C40 -> 41061 | D90: ='US-AEC9'!D40 -> 41064
A91: ='US-AEC9'!A41 -> KOTA RESTU | B91: ='US-AEC9'!B41 -> 218 | C91: ='US-AEC9'!C41 -> 41061 | D91: ='US-AEC9'!D41 -> 41064
E93: ='US-AEC9'!E43 -> HANJIN NETHERLANDS 0007W | F93: ='US-AEC9'!F43 -> 41074 | G93: ='US-AEC9'!G43 -> 41091 | H93: =G93+23 -> 41114 | I93: =H93+2 -> 41116 | J93: =I93+2 -> 41118 | K93: =J93+3 -> 41121
A94: ='US-AEC9'!A44 -> VINALINES PIONEER | B94: ='US-AEC9'!B44 -> 3 | C94: ='US-AEC9'!C44 -> 41067 | D94: ='US-AEC9'!D44 -> 41069
A95: ='US-AEC9'!A45 -> WARNOW MATE | B95: ='US-AEC9'!B45 -> 1248 | C95: ='US-AEC9'!C45 -> 41067 | D95: ='US-AEC9'!D45 -> 41070
A96: ='US-AEC9'!A46 -> ISARA BHUM | B96: ='US-AEC9'!B46 -> 211 | C96: ='US-AEC9'!C46 -> 41068 | D96: ='US-AEC9'!D46 -> 41071
A97: ='US-AEC9'!A47 -> KOTA RESTU | B97: ='US-AEC9'!B47 -> 220 | C97: ='US-AEC9'!C47 -> 41068 | D97: ='US-AEC9'!D47 -> 41071
E99: ='US-AEC9'!E49 -> HANJIN GREECE 0007W | F99: ='US-AEC9'!F49 -> 41081 | G99: ='US-AEC9'!G49 -> 41098 | H99: =G99+23 -> 41121 | I99: =H99+2 -> 41123 | J99: =I99+2 -> 41125 | K99: =J99+3 -> 41128
A100: ='US-AEC9'!A50 -> MELINH | B100: ='US-AEC9'!B50 -> 14 | C100: ='US-AEC9'!C50 -> 41074 | D100: ='US-AEC9'!D50 -> 41076
A101: ='US-AEC9'!A51 -> WARNOW MATE | B101: ='US-AEC9'!B51 -> 1250 | C101: ='US-AEC9'!C51 -> 41074 | D101: ='US-AEC9'!D51 -> 41077
A102: ='US-AEC9'!A52 -> ISARA BHUM | B102: ='US-AEC9'!B52 -> 212 | C102: ='US-AEC9'!C52 -> 41075 | D102: ='US-AEC9'!D52 -> 41078
A103: ='US-AEC9'!A53 -> KOTA RESTU | B103: ='US-AEC9'!B53 -> 222 | C103: ='US-AEC9'!C53 -> 41075 | D103: ='US-AEC9'!D53 -> 41078
A106: THE ABOVE SAILING SCHEDULE IS SUBJECT TO CHANGE WITH/WITHOUT PRIOR NOTICE | H106: Person to contact :
A107: VIET HOA TRANSPORT SERVICE & TRADING CO., LTD. ( HEAD OFFICE 1) | I107: Office 1 : | K107: Ms. Simmi (84-8) 39402520 ( Ext : 122 )
A108: 284 Nguyen Tat Thanh Street, Dist. 4, Ho Chi Minh City, VietNam | I108: Office 2 : | K108: Ms. Jasmine (84-8) 38268533 ( Ext : 101 )
A109: Tel : (84-8) 39402520 (12 lines) Fax : (84-8) 39402601 / 39408933 / 39411087 | I109: Office 3 : | K109: Ms. Oanh (84-8) 62810240 ( Ext: 117 )
A110: Email : general@viethoagroup.com Website : www.viethoagroup.com

Sheet US-AEC9
D3: HOCHIMINHCITY TO US EAST COAST
D4: MINA SERVICE
K6: Update: | L6: ='NE-AEC7 (DIRECTLY)'!$J$6 -> 41046
A7: FEEDER | B7: VOY | C7: ETD HCM | D7: ETA SIN | E7: VOYAGE NO. | F7: ETA SIN | G7: ETA ALGECIRAS | H7: CONNECTING VESSEL | I7: ETA ALGECIRAS | J7: New York | K7: Norfolk | L7: Savannah
E8: HANJIN SPAIN 0006 | F8: 41033 | G8: =F8+17 -> 41050 | H8: HANJIN ELIZABETH 0137W | I8: 41055 | J8: =I8+9 -> 41064 | K8: =J8+2 -> 41066 | L8: =K8+2 -> 41068
A9: VINALINES DIAMOND | B9: 15 | C9: 41025 | D9: =C9+2 -> 41027
A10: WARNOW MATE | B10: 1236 | C10: 41025 | D10: =C10+3 -> 41028
A11: KOTA RESTU | B11: RSU208 | C11: ='WM-AMC1'!C29 -> 41026 | D11: =C11+3 -> 41029
E13: HANJIN ITALY 0007W | F13: =F8+6 -> 41039 | G13: =F13+17 -> 41056 | H13: HANJIN MALTA 0162W | I13: =I8+7 -> 41062 | J13: =I13+9 -> 41071 | K13: =J13+2 -> 41073 | L13: =K13+2 -> 41075
A14: SOGA | B14: 110 | C14: 41032 | D14: =C14+2 -> 41034
A15: WARNOW MATE | B15: 1238 | C15: 41032 | D15: =C15+3 -> 41035
A16: ISARA BHUM | B16: 206 | C16: 41033 | D16: =C16+3 -> 41036
A17: KOTA RESTU | B17: 210 | C17: 41033 | D17: =C17+3 -> 41036
E19: HANJIN EUROPE 0001W | F19: =F13+8 -> 41047 | G19: =F19+17 -> 41064 | H19: AL ABDALI 1219W | I19: =I13+7 -> 41069 | J19: =I19+9 -> 41078 | K19: =J19+2 -> 41080 | L19: =K19+2 -> 41082
A20: VINALINES PIONEER | B20: 1 | C20: =C14+7 -> 41039 | D20: =C20+2 -> 41041
A21: WARNOW MATE | B21: =B15+2 -> 1240 | C21: =C15+7 -> 41039 | D21: =C21+3 -> 41042
A22: ISARA BHUM | B22: =B16+1 -> 207 | C22: =C16+7 -> 41040 | D22: =C22+3 -> 41043
A23: KOTA RESTU | B23: =B17+2 -> 212 | C23: =C17+7 -> 41040 | D23: =C23+3 -> 41043
E25: HANJIN UNITED KINGDOM 0005W | F25: =F19+6 -> 41053 | G25: =F25+17 -> 41070 | H25: HANJIN SAN DIEGO 0016W | I25: =I19+7 -> 41076 | J25: =I25+9 -> 41085 | K25: =J25+2 -> 41087 | L25: =K25+2 -> 41089
A26: MELINH | B26: 12 | C26: =C20+7 -> 41046 | D26: =C26+2 -> 41048
A27: =A21 -> WARNOW MATE | B27: =B21+2 -> 1242 | C27: =C21+7 -> 41046 | D27: =C27+3 -> 41049
A28: ISARA BHUM | B28: =B22+1 -> 208 | C28: =C22+7 -> 41047 | D28: =C28+3 -> 41050
A29: KOTA RESTU | B29: =B23+2 -> 214 | C29: =C23+7 -> 41047 | D29: =C29+3 -> 41050
E31: HANJIN KOREA 0011W | F31: =F25+7 -> 41060 | G31: =F31+17 -> 41077 | H31: ASIR 1221W | I31: =I25+7 -> 41083 | J31: =I31+9 -> 41092 | K31: =J31+2 -> 41094 | L31: =K31+2 -> 41096
A32: =A20 -> VINALINES PIONEER | B32: =B20+1 -> 2 | C32: =C26+7 -> 41053 | D32: =C32+2 -> 41055
A33: =A27 -> WARNOW MATE | B33: =B27+2 -> 1244 | C33: =C27+7 -> 41053 | D33: =C33+3 -> 41056
A34: ISARA BHUM | B34: =B28+1 -> 209 | C34: =C28+7 -> 41054 | D34: =C34+3 -> 41057
A35: KOTA RESTU | B35: =B29+2 -> 216 | C35: =C29+7 -> 41054 | D35: =C35+3 -> 41057
E37: HANJIN CHINA 0007W | F37: =F31+7 -> 41067 | G37: =F37+17 -> 41084 | H37: DEIRA 1222W | I37: =I31+7 -> 41090 | J37: =I37+9 -> 41099 | K37: =J37+2 -> 41101 | L37: =K37+2 -> 41103
A38: =A26 -> MELINH | B38: =B26+1 -> 13 | C38: =C32+7 -> 41060 | D38: =C38+2 -> 41062
A39: =A33 -> WARNOW MATE | B39: =B33+2 -> 1246 | C39: =C33+7 -> 41060 | D39: =C39+3 -> 41063
A40: ISARA BHUM | B40: =B34+1 -> 210 | C40: =C34+7 -> 41061 | D40: =C40+3 -> 41064
A41: KOTA RESTU | B41: =B35+2 -> 218 | C41: =C35+7 -> 41061 | D41: =C41+3 -> 41064
E43: HANJIN NETHERLANDS 0007W | F43: =F37+7 -> 41074 | G43: =F43+17 -> 41091 | H43: AL MUTANABBI 1223W | I43: =I37+7 -> 41097 | J43: =I43+9 -> 41106 | K43: =J43+2 -> 41108 | L43: =K43+2 -> 41110
A44: =A32 -> VINALINES PIONEER | B44: =B32+1 -> 3 | C44: =C38+7 -> 41067 | D44: =C44+2 -> 41069
A45: =A39 -> WARNOW MATE | B45: =B39+2 -> 1248 | C45: =C39+7 -> 41067 | D45: =C45+3 -> 41070
A46: ISARA BHUM | B46: =B40+1 -> 211 | C46: =C40+7 -> 41068 | D46: =C46+3 -> 41071
A47: KOTA RESTU | B47: =B41+2 -> 220 | C47: =C41+7 -> 41068 | D47: =C47+3 -> 41071
E49: HANJIN GREECE 0007W | F49: =F43+7 -> 41081 | G49: =F49+17 -> 41098 | H49: NAJRAN 1224W | I49: =I43+7 -> 41104 | J49: =I49+9 -> 41113 | K49: =J49+2 -> 41115 | L49: =K49+2 -> 41117
A50: =A38 -> MELINH | B50: =B38+1 -> 14 | C50: =C44+7 -> 41074 | D50: =C50+2 -> 41076
A51: =A45 -> WARNOW MATE | B51: =B45+2 -> 1250 | C51: =C45+7 -> 41074 | D51: =C51+3 -> 41077
A52: ISARA BHUM | B52: =B46+1 -> 212 | C52: =C46+7 -> 41075 | D52: =C52+3 -> 41078
A53: KOTA RESTU | B53: =B47+2 -> 222 | C53: =C47+7 -> 41075 | D53: =C53+3 -> 41078
A56: THE ABOVE SAILING SCHEDULE IS SUBJECT TO CHANGE WITH/WITHOUT PRIOR NOTICE | H56: Person to contact :
A57: VIET HOA TRANSPORT SERVICE & TRADING CO., LTD. ( HEAD OFFICE 1) | I57: Office 1 : | K57: Ms. Simmi (84-8) 39402520 ( Ext : 122 )
A58: 284 Nguyen Tat Thanh Street, Dist. 4, Ho Chi Minh City, VietNam | I58: Office 2 : | K58: Ms. Jasmine (84-8) 38268533 ( Ext : 101 )
A59: Tel : (84-8) 39402520 (12 lines) Fax : (84-8) 39402601 / 39408933 / 39411087 | I59: Office 3 : | K59: Ms. Oanh (84-8) 62810240 ( Ext: 117 )
A60: Email : general@viethoagroup.com Website : www.viethoagroup.com

Sheet US-AMC1
D3: HOCHIMINHCITY TO US EAST COAST
D4: MINA SERVICE
K6: Update: | L6: ='NE-AEC7 (DIRECTLY)'!$J$6 -> 41046
A7: FEEDER | B7: VOY | C7: ETD HCM | D7: ETA PKG | E7: VOYAGE NO. | F7: ETA PKG | G7: ETA Algeciras | H7: CONNECTING VESSEL | I7: ETA Algeciras | J7: New York | K7: Norfolk | L7: Savannah
A8: ='[1]WA-WAF1'!#REF! -> #REF! | B8: ='[1]WA-WAF1'!#REF! -> #REF! | C8: ='[1]WA-WAF1'!#REF! -> #REF! | D8: ='[1]WA-WAF1'!#REF! -> #REF! | E8: ='[1]WA-WAF1'!#REF! -> #REF! | F8: ='[1]WA-WAF1'!#REF! -> #REF! | G8: 40525 | H8: ALNOOF 1047W | I8: 40526 | J8: =I8+8 -> 40534 | K8: =J8+2 -> 40536 | L8: =K8+2 -> 40538
A9: ='[1]WA-WAF1'!#REF! -> #REF! | B9: ='[1]WA-WAF1'!#REF! -> #REF! | C9: ='[1]WA-WAF1'!#REF! -> #REF! | D9: ='[1]WA-WAF1'!#REF! -> #REF! | E9: ='[1]WA-WAF1'!#REF! -> #REF! | F9: ='[1]WA-WAF1'!#REF! -> #REF! | G9: =G8+6 -> 40531 | H9: AL SABAHIA 1048W | I9: =I8+7 -> 40533 | J9: =I9+8 -> 40541 | K9: =J9+2 -> 40543 | L9: =K9+2 -> 40545
A10: ='[1]WA-WAF1'!#REF! -> #REF! | B10: ='[1]WA-WAF1'!#REF! -> #REF! | C10: ='[1]WA-WAF1'!#REF! -> #REF! | D10: ='[1]WA-WAF1'!#REF! -> #REF! | E10: ='[1]WA-WAF1'!#REF! -> #REF! | F10: ='[1]WA-WAF1'!#REF! -> #REF! | G10: =G9+7 -> 40538 | H10: HANJIN LOS ANGELES 0102W | I10: =I9+7 -> 40540 | J10: =I10+8 -> 40548 | K10: =J10+2 -> 40550 | L10: =K10+2 -> 40552
A11: ='[1]WA-WAF1'!#REF! -> #REF! | B11: ='[1]WA-WAF1'!#REF! -> #REF! | C11: ='[1]WA-WAF1'!#REF! -> #REF! | D11: ='[1]WA-WAF1'!#REF! -> #REF! | E11: ='[1]WA-WAF1'!#REF! -> #REF! | F11: ='[1]NE-AEC2'!G15 -> 40528 | G11: =G10+7 -> 40545 | H11: AL ABDALI 1050W | I11: =I10+7 -> 40547 | J11: =I11+8 -> 40555 | K11: =J11+2 -> 40557 | L11: =K11+2 -> 40559
A12: ='[1]NE-AEC2'!A22 -> OSHAIRIJ | B12: ='[1]NE-AEC2'!B22 -> 005S | C12: ='[1]NE-AEC2'!C22 -> 40528 | D12: ='[1]WA-WAF1'!#REF! -> #REF! | E12: ='[1]WA-WAF1'!#REF! -> #REF! | F12: ='[1]NE-AEC2'!G20 -> 40535 | G12: =G11+7 -> 40552 | H12: ASIR 1051W | I12: =I11+9 -> 40556 | J12: =I12+13 -> 40569 | K12: =J12+2 -> 40571 | L12: =K12+2 -> 40573
A13: ='[1]NE-AEC2'!A27 -> OSHAIRIJ | B13: ='[1]NE-AEC2'!B27 -> 6 | C13: ='[1]NE-AEC2'!C27 -> 40535 | D13: ='[1]WA-WAF1'!#REF! -> #REF! | E13: ='[1]NE-AEC2'!$F$25 -> AL SAFAT 1051W | F13: ='[1]NE-AEC2'!G25 -> 40542 | G13: =G12+7 -> 40559 | H13: NAJRAN 1052W | I13: =I12+5 -> 40561 | J13: =I13+15 -> 40576 | K13: =J13+2 -> 40578 | L13: =K13+2 -> 40580
A14: ='[1]NE-AEC2'!A32 -> OSHAIRIJ | B14: =B13+1 -> 7 | C14: ='[1]NE-AEC2'!C32 -> 40542 | D14: ='[1]WA-WAF1'!#REF! -> #REF! | E14: ='[1]NE-AEC2'!$F$30 -> HATTA 1052W | F14: ='[1]NE-AEC2'!G30 -> 40549 | G14: =G13+7 -> 40566 | H14: UASC SHUWAIKH 1101W | I14: =I13+7 -> 40568 | J14: =I14+15 -> 40583 | K14: =J14+2 -> 40585 | L14: =K14+2 -> 40587
A15: ='[1]WM-AMC1'!#REF! -> #REF! | B15: ='[1]WM-AMC1'!#REF! -> #REF! | C15: ='[1]WM-AMC1'!#REF! -> #REF! | D15: =C15+3 -> #REF! | E15: ='[1]NE-AEC2'!$F$35 -> AL HILAL 1101W | F15: =F14+7 -> 40556 | G15: =G14+7 -> 40573 | H15: AL MUTANABBI 1102W | I15: =I14+8 -> 40576 | J15: =I15+15 -> 40591 | K15: =J15+2 -> 40593 | L15: =K15+2 -> 40595
A16: ='[1]WM-AMC1'!#REF! -> #REF! | B16: ='[1]WM-AMC1'!#REF! -> #REF! | C16: ='[1]WM-AMC1'!#REF! -> #REF! | D16: =C16+3 -> #REF! | E16: ='[1]NE-AEC2'!$F$40 -> MAYSSAN 1102W | F16: =F15+7 -> 40563 | G16: =G15+7 -> 40580 | H16: TBN | I16: =I15+7 -> 40583 | J16: =I16+15 -> 40598 | K16: =J16+2 -> 40600 | L16: =K16+2 -> 40602
A17: ='[1]WM-AMC1'!#REF! -> #REF! | B17: ='[1]WM-AMC1'!#REF! -> #REF! | C17: =C16+7 -> #REF! | D17: =C17+3 -> #REF! | E17: ='[1]NE-AEC2'!$F$45 -> JAZAN 1103W | F17: =F16+7 -> 40570 | G17: =G16+7 -> 40587 | H17: AL NOOF 1104W | I17: =I16+6 -> 40589 | J17: =I17+8 -> 40597 | K17: =J17+2 -> 40599 | L17: =K17+2 -> 40601
A18: ='[1]WM-AMC1'!#REF! -> #REF! | B18: ='[1]WM-AMC1'!#REF! -> #REF! | C18: =C17+7 -> #REF! | D18: =C18+3 -> #REF! | E18: ='[1]NE-AEC2'!$F$50 -> AL MANAMAH 1104W | F18: =F17+7 -> 40577 | G18: =G17+7 -> 40594 | H18: HANJIN PORTLAND 0124W | I18: =I17+7 -> 40596 | J18: =I18+8 -> 40604 | K18: =J18+2 -> 40606 | L18: =K18+2 -> 40608
A19: ='[1]WM-AMC1'!#REF! -> #REF! | B19: ='[1]WM-AMC1'!#REF! -> #REF! | C19: =C18+7 -> #REF! | D19: =C19+3 -> #REF! | E19: ='[1]NE-AEC2'!$F$55 -> AL RAWDAH 1105W | F19: =F18+7 -> 40584 | G19: =G18+7 -> 40601 | H19: AL SABAHIA 1106W | I19: =I18+7 -> 40603 | J19: =I19+8 -> 40611 | K19: =J19+2 -> 40613 | L19: =K19+2 -> 40615
A20: ='[1]WM-AMC1'!#REF! -> #REF! | B20: ='[1]WM-AMC1'!#REF! -> #REF! | C20: OMIT | D20: OMIT | E20: ='[1]NE-AEC2'!$F$60 -> OMIT | F20: =F19+7 -> 40591 | G20: =G19+7 -> 40608 | H20: HANJIN LOS ANGELES 0103W | I20: =I19+7 -> 40610 | J20: =I20+8 -> 40618 | K20: =J20+2 -> 40620 | L20: =K20+2 -> 40622
A21: ='[1]WM-AMC1'!#REF! -> #REF! | B21: ='[1]WM-AMC1'!#REF! -> #REF! | C21: 40591 | D21: =C21+3 -> 40594 | E21: ='[1]NE-AEC2'!$F$65 -> AL BAHIA 1107W | F21: =F20+7 -> 40598 | G21: =G20+7 -> 40615 | H21: AL ABDALI 1108W | I21: =I20+7 -> 40617 | J21: =I21+8 -> 40625 | K21: =J21+2 -> 40627 | L21: =K21+2 -> 40629
A22: ='[1]WM-AMC1'!#REF! -> #REF! | B22: ='[1]WM-AMC1'!#REF! -> #REF! | C22: =C21+7 -> 40598 | D22: =C22+3 -> 40601 | E22: ='[1]NE-AEC2'!$F$70 -> UASC YANBU 1108W | F22: =F21+7 -> 40605 | G22: =G21+7 -> 40622 | H22: ASIR 1109W | I22: =I21+7 -> 40624 | J22: =I22+8 -> 40632 | K22: =J22+2 -> 40634 | L22: =K22+2 -> 40636
A23: ='[1]WM-AMC1'!#REF! -> #REF! | B23: ='[1]WM-AMC1'!#REF! -> #REF! | C23: =C22+7 -> 40605 | D23: =C23+3 -> 40608 | E23: ='[1]NE-AEC2'!$F$75 -> AL KHOR 1109W | F23: =F22+7 -> 40612 | G23: =G22+7 -> 40629 | H23: NAJRAN 1110W | I23: =I22+7 -> 40631 | J23: =I23+8 -> 40639 | K23: =J23+2 -> 40641 | L23: =K23+2 -> 40643
A24: ='[1]WM-AMC1'!A8 -> #REF! | B24: ='[1]WM-AMC1'!B8 -> #REF! | C24: =C23+7 -> 40612 | D24: =C24+3 -> 40615 | E24: =#REF! -> #REF! | F24: =F23+7 -> 40619 | G24: =G23+7 -> 40636 | H24: UASC SHUWAIKH 1111W | I24: =I23+7 -> 40638 | J24: =I24+8 -> 40646 | K24: =J24+2 -> 40648 | L24: =K24+2 -> 40650
A25: ='[1]WM-AMC1'!A9 -> #REF! | B25: ='[1]WM-AMC1'!B9 -> #REF! | C25: =C24+7 -> 40619 | D25: =C25+3 -> 40622 | E25: =#REF! -> #REF! | F25: =F24+7 -> 40626 | G25: =G24+7 -> 40643 | H25: AL MUTANABBI 1112W | I25: =I24+7 -> 40645 | J25: =I25+8 -> 40653 | K25: =J25+2 -> 40655 | L25: =K25+2 -> 40657
A26: ='[1]WM-AMC1'!A10 -> #REF! | B26: ='[1]WM-AMC1'!B10 -> #REF! | C26: =C25+7 -> 40626 | D26: =C26+3 -> 40629 | E26: =#REF! -> #REF! | F26: =F25+7 -> 40633 | G26: =G25+7 -> 40650 | H26: AL NOOF 1113W | I26: =I25+7 -> 40652 | J26: =I26+8 -> 40660 | K26: =J26+2 -> 40662 | L26: =K26+2 -> 40664
A27: ='[1]WM-AMC1'!A11 -> #REF! | B27: ='[1]WM-AMC1'!B11 -> #REF! | C27: =C26+7 -> 40633 | D27: =C27+3 -> 40636 | E27: =#REF! -> #REF! | F27: =F26+7 -> 40640 | G27: =G26+7 -> 40657 | H27: HANJIN PORTLAND 0125W | I27: =I26+7 -> 40659 | J27: =I27+8 -> 40667 | K27: =J27+2 -> 40669 | L27: =K27+2 -> 40671
A28: ='[1]WM-AMC1'!A12 -> #REF! | B28: ='[1]WM-AMC1'!B12 -> #REF! | C28: =C27+7 -> 40640 | D28: =C28+3 -> 40643 | E28: =#REF! -> #REF! | F28: =F27+7 -> 40647 | G28: =G27+7 -> 40664 | H28: AL SABAHIA 1115W | I28: =I27+7 -> 40666 | J28: =I28+8 -> 40674 | K28: =J28+2 -> 40676 | L28: =K28+2 -> 40678
A29: ='[1]WM-AMC1'!A13 -> #REF! | B29: ='[1]WM-AMC1'!B13 -> #REF! | C29: =C28+7 -> 40647 | D29: =C29+3 -> 40650 | E29: =#REF! -> #REF! | F29: =F28+7 -> 40654 | G29: =G28+7 -> 40671 | H29: HANJIN LOS ANGELES 0104W | I29: =I28+7 -> 40673 | J29: =I29+8 -> 40681 | K29: =J29+2 -> 40683 | L29: =K29+2 -> 40685
A30: ='[1]WM-AMC1'!A14 -> #REF! | B30: ='[1]WM-AMC1'!B14 -> #REF! | C30: =C29+7 -> 40654 | D30: =C30+3 -> 40657 | E30: =#REF! -> #REF! | F30: =F29+7 -> 40661 | G30: =G29+7 -> 40678 | H30: AL ABDALI 1117W | I30: =I29+7 -> 40680 | J30: =I30+8 -> 40688 | K30: =J30+2 -> 40690 | L30: =K30+2 -> 40692
A31: ='[1]WM-AMC1'!A15 -> #REF! | B31: ='[1]WM-AMC1'!B15 -> #REF! | C31: =C30+7 -> 40661 | D31: =C31+3 -> 40664 | E31: =#REF! -> #REF! | F31: =F30+7 -> 40668 | G31: =G30+8 -> 40686 | H31: ASIR 1118W | I31: =I30+8 -> 40688 | J31: =I31+8 -> 40696 | K31: =J31+2 -> 40698 | L31: =K31+2 -> 40700
A32: ='[1]WM-AMC1'!A16 -> BERNHARD SIBUM | B32: ='[1]WM-AMC1'!B16 -> 40 | C32: =C31+7 -> 40668 | D32: =C32+3 -> 40671 | E32: =#REF! -> #REF! | F32: =F31+7 -> 40675 | G32: =G31+9 -> 40695 | H32: UASC SHUWAIKH 1120W | I32: =I31+13 -> 40701 | J32: =I32+8 -> 40709 | K32: =J32+2 -> 40711 | L32: =K32+2 -> 40713
A33: ='[1]WM-AMC1'!A17 -> BERNHARD SIBUM | B33: ='[1]WM-AMC1'!B17 -> 41 | C33: =C32+7 -> 40675 | D33: =C33+3 -> 40678 | E33: =#REF! -> #REF! | F33: =F32+7 -> 40682 | G33: =G32+4 -> 40699
A34: ='[1]WM-AMC1'!A18 -> SARA | B34: ='[1]WM-AMC1'!B18 -> 42 | C34: =C33+7 -> 40682 | D34: =C34+3 -> 40685 | E34: =#REF! -> #REF! | F34: =F33+7 -> 40689 | G34: =G33+9 -> 40708 | H34: AL NOOF 1122W | I34: =I32+14 -> 40715 | J34: =I34+8 -> 40723 | K34: =J34+2 -> 40725 | L34: =K34+2 -> 40727
A35: ='[1]WM-AMC1'!A19 -> SARA | B35: ='[1]WM-AMC1'!B19 -> 43 | C35: =C34+7 -> 40689 | D35: =C35+3 -> 40692 | E35: =#REF! -> #REF! | F35: =F34+7 -> 40696 | G35: =G34+6 -> 40714
A36: ='[1]WM-AMC1'!A20 -> SARA | B36: ='[1]WM-AMC1'!B20 -> 44 | C36: =C35+7 -> 40696 | D36: =C36+3 -> 40699 | E36: =#REF! -> #REF! | F36: =F35+7 -> 40703 | G36: =G35+7 -> 40721 | H36: HANJIN PORTLAND 0126W | I36: =I34+7 -> 40722 | J36: =I36+8 -> 40730 | K36: =J36+2 -> 40732 | L36: =K36+2 -> 40734
A37: ='[1]WM-AMC1'!A21 -> SARA | B37: ='[1]WM-AMC1'!B21 -> 45 | C37: =C36+7 -> 40703 | D37: =C37+3 -> 40706 | E37: =#REF! -> #REF! | F37: =F36+7 -> 40710 | G37: =G36+6 -> 40727 | H37: AL SABAHIA 1124W | I37: =I36+7 -> 40729 | J37: =I37+8 -> 40737 | K37: =J37+2 -> 40739 | L37: =K37+2 -> 40741
A38: ='[1]WM-AMC1'!A22 -> SARA | B38: ='[1]WM-AMC1'!B22 -> 46 | C38: =C37+7 -> 40710 | D38: =C38+3 -> 40713 | E38: =#REF! -> #REF! | F38: =F37+7 -> 40717 | G38: =G37+7 -> 40734 | H38: HANJIN LOS ANGELES 0105W | I38: =I37+7 -> 40736 | J38: =I38+8 -> 40744 | K38: =J38+2 -> 40746 | L38: =K38+2 -> 40748
A39: ='[1]WM-AMC1'!A23 -> SARA | B39: ='[1]WM-AMC1'!B23 -> 47 | C39: =C38+7 -> 40717 | D39: =C39+3 -> 40720 | E39: =#REF! -> #REF! | F39: =F38+7 -> 40724 | G39: =G38+7 -> 40741 | H39: AL ABDALI 1126W | I39: =I38+7 -> 40743 | J39: =I39+8 -> 40751 | K39: =J39+2 -> 40753 | L39: =K39+2 -> 40755
A40: ='[1]WM-AMC1'!A24 -> SARA | B40: ='[1]WM-AMC1'!B24 -> 48 | C40: =C39+7 -> 40724 | D40: =C40+3 -> 40727 | E40: =#REF! -> #REF! | F40: =F39+7 -> 40731 | G40: =G39+7 -> 40748 | H40: ASIR 1127W | I40: =I39+7 -> 40750 | J40: =I40+8 -> 40758 | K40: =J40+2 -> 40760 | L40: =K40+2 -> 40762
A41: ='[1]WM-AMC1'!A25 -> SARA | B41: ='[1]WM-AMC1'!B25 -> 49 | C41: =C40+7 -> 40731 | D41: =C41+3 -> 40734 | E41: =#REF! -> #REF! | F41: =F40+7 -> 40738 | G41: =G40+9 -> 40757 | H41: NAJRAN 1128W | I41: =I40+12 -> 40762 | J41: =I41+8 -> 40770 | K41: =J41+2 -> 40772 | L41: =K41+2 -> 40774
A42: ='[1]WM-AMC1'!A26 -> SARA | B42: ='[1]WM-AMC1'!B26 -> 50 | C42: =C41+7 -> 40738 | D42: =C42+3 -> 40741 | E42: =#REF! -> #REF! | F42: =F41+10 -> 40748 | G42: =G41+10 -> 40767 | H42: AL MUTANABBI 1130W | I42: =I41+10 -> 40772 | J42: =I42+8 -> 40780 | K42: =J42+2 -> 40782 | L42: =K42+2 -> 40784
A43: ='[1]WM-AMC1'!A27 -> SARA | B43: ='[1]WM-AMC1'!B27 -> 51 | C43: =C42+7 -> 40745 | D43: =C43+3 -> 40748 | E43: =#REF! -> #REF! | F43: =F42+5 -> 40753 | G43: =G42+6 -> 40773 | H43: AL NOOF 1131W | I43: =I42+8 -> 40780 | J43: =I43+7 -> 40787 | K43: =J43+3 -> 40790 | L43: =K43+2 -> 40792
A44: ='[1]WM-AMC1'!A28 -> SARA | B44: ='[1]WM-AMC1'!B28 -> 52 | C44: =C43+7 -> 40752 | D44: =C44+3 -> 40755 | E44: =#REF! -> #REF! | F44: =F43+6 -> 40759 | G44: =G43+6 -> 40779
A45: ='[1]WM-AMC1'!A29 -> SARA | B45: ='[1]WM-AMC1'!B29 -> 53 | C45: =C44+7 -> 40759 | D45: =C45+3 -> 40762 | E45: =#REF! -> #REF! | F45: =F44+7 -> 40766 | G45: =G44+4 -> 40783 | H45: HANJIN PORTLAND 0127W | I45: =I43+5 -> 40785 | J45: =I45+8 -> 40793 | K45: =J45+2 -> 40795 | L45: =K45+2 -> 40797
A46: ='[1]WM-AMC1'!A30 -> SARA | B46: ='[1]WM-AMC1'!B30 -> 54 | C46: =C45+7 -> 40766 | D46: =C46+3 -> 40769 | E46: =#REF! -> #REF! | F46: =F45+7 -> 40773 | G46: =G45+7 -> 40790 | H46: AL SABAHIA 1133W | I46: =I45+7 -> 40792 | J46: =I46+8 -> 40800 | K46: =J46+2 -> 40802 | L46: =K46+2 -> 40804
A47: ='[1]WM-AMC1'!A31 -> SARA | B47: ='[1]WM-AMC1'!B31 -> 55 | C47: =C46+7 -> 40773 | D47: =C47+3 -> 40776 | E47: =#REF! -> #REF! | F47: =F46+7 -> 40780 | G47: =G46+10 -> 40800 | H47: AL ABDALI 1135W | I47: =I46+15 -> 40807 | J47: =I47+7 -> 40814 | K47: =J47+2 -> 40816 | L47: =K47+2 -> 40818
A48: ='[1]WM-AMC1'!A32 -> SARA | B48: ='[1]WM-AMC1'!B32 -> 56 | C48: =C47+7 -> 40780 | D48: =C48+3 -> 40783 | E48: =#REF! -> #REF! | F48: =F47+7 -> 40787 | G48: =G47+7 -> 40807 | H48: ASIR 1136W | I48: =I47+9 -> 40816 | J48: =I48+8 -> 40824 | K48: =J48+1 -> 40825 | L48: =K48+3 -> 40828
A49: ='[1]WM-AMC1'!A33 -> SARA | B49: ='[1]WM-AMC1'!B33 -> 57 | C49: =C48+7 -> 40787 | D49: =C49+3 -> 40790 | E49: =#REF! -> #REF! | F49: =F48+8 -> 40795 | G49: =G48+10 -> 40817 | H49: DEIRA 1137W | I49: =I48+5 -> 40821 | J49: =I49+8 -> 40829 | K49: =J49+2 -> 40831 | L49: =K49+2 -> 40833
A50: ='[1]WM-AMC1'!A34 -> SARA | B50: ='[1]WM-AMC1'!B34 -> 58 | C50: =C49+7 -> 40794 | D50: =C50+3 -> 40797 | E50: =#REF! -> #REF! | F50: =F49+6 -> 40801 | G50: =G49+4 -> 40821 | H50: NAJRAN 1138W | I50: =I49+6 -> 40827 | J50: =I50+8 -> 40835 | K50: =J50+2 -> 40837 | L50: =K50+2 -> 40839
A51: ='[1]WM-AMC1'!A35 -> SARA | B51: ='[1]WM-AMC1'!B35 -> 59 | C51: =C50+7 -> 40801 | D51: =C51+3 -> 40804 | E51: =#REF! -> #REF! | F51: =F50+8 -> 40809 | G51: =F51+18 -> 40827 | H51: AL FARAHIDI 1139W | I51: =I49+13 -> 40834 | J51: =I51+8 -> 40842 | K51: =J51+2 -> 40844 | L51: =K51+2 -> 40846
A52: ='[1]WM-AMC1'!A36 -> SARA | B52: ='[1]WM-AMC1'!B36 -> 60 | C52: =C51+7 -> 40808 | D52: =C52+3 -> 40811 | E52: =#REF! -> #REF! | F52: =F51+8 -> 40817 | G52: =F52+17 -> 40834 | H52: AL NOOF 1140W | I52: =I51+9 -> 40843 | J52: =I52+8 -> 40851 | K52: =J52+2 -> 40853 | L52: =K52+2 -> 40855
A53: ='[1]WM-AMC1'!A37 -> SARA | B53: ='[1]WM-AMC1'!B37 -> 61 | C53: =C52+7 -> 40815 | D53: =C53+3 -> 40818 | E53: =#REF! -> #REF! | F53: =F52+8 -> 40825 | G53: =F53+19 -> 40844 | H53: AL MUTANABBI 1141W | I53: =I52+7 -> 40850 | J53: =I53+8 -> 40858 | K53: =J53+2 -> 40860 | L53: =K53+2 -> 40862
A54: ='[1]WM-AMC1'!A38 -> SARA | B54: ='[1]WM-AMC1'!B38 -> 62 | C54: =C53+7 -> 40822 | D54: =C54+3 -> 40825 | E54: =#REF! -> #REF! | F54: =F53+7 -> 40832 | G54: =F54+17 -> 40849 | H54: HANJIN ELIZABETH 0134W | I54: =I52+7 -> 40850 | J54: =I54+8 -> 40858 | K54: =J54+2 -> 40860 | L54: =K54+2 -> 40862
A55: ='[1]WM-AMC1'!A39 -> SARA | B55: ='[1]WM-AMC1'!B39 -> 63 | C55: =C54+7 -> 40829 | D55: =C55+3 -> 40832 | E55: =#REF! -> #REF! | F55: =F54+5 -> 40837 | G55: =F55+21 -> 40858 | H55: HANJIN MALTA 0159W | I55: =I54+13 -> 40863 | J55: =I55+8 -> 40871 | K55: =J55+2 -> 40873 | L55: =K55+2 -> 40875
A56: ='[1]WM-AMC1'!A40 -> SARA | B56: ='[1]WM-AMC1'!B40 -> 64 | C56: =C55+7 -> 40836 | D56: =C56+3 -> 40839 | E56: OMIT | F56: =F55+7 -> 40844 | G56: =F56+17 -> 40861 | H56: AL ABDALI 1144W | I56: =I55+6 -> 40869 | J56: =I56+8 -> 40877 | K56: =J56+2 -> 40879 | L56: =K56+2 -> 40881
A57: ='[1]WM-AMC1'!A41 -> SARA | B57: ='[1]WM-AMC1'!B41 -> 65 | C57: =C56+7 -> 40843 | D57: =C57+3 -> 40846 | E57: =#REF! -> #REF! | F57: =F56+6 -> 40850 | G57: =F57+17 -> 40867
A58: ='[1]WM-AMC1'!A42 -> SARA | B58: ='[1]WM-AMC1'!B42 -> 66 | C58: =C57+7 -> 40850 | D58: =C58+3 -> 40853 | E58: ='[1]NE-AEC2'!$F$215 -> AL HILAL 1144W | F58: =F57+7 -> 40857 | G58: =G57+7 -> 40874 | H58: DEIRA 1146W | I58: =I56+14 -> 40883 | J58: =I58+8 -> 40891 | K58: =J58+2 -> 40893 | L58: =K58+2 -> 40895
A59: ='[1]WM-AMC1'!A43 -> SARA | B59: ='[1]WM-AMC1'!B43 -> 67 | C59: =C58+7 -> 40857 | D59: =C59+3 -> 40860 | E59: ='[1]NE-AEC2'!$F$219 -> MAYSSAN 1145W | F59: =F58+7 -> 40864 | G59: =G58+7 -> 40881 | H59: NAJRAN 1147W | I59: =I58+12 -> 40895 | J59: =I59+8 -> 40903 | K59: =J59+2 -> 40905 | L59: =K59+2 -> 40907
A60: ='[1]WM-AMC1'!A44 -> SARA | B60: ='[1]WM-AMC1'!B44 -> 68 | C60: =C59+7 -> 40864 | D60: =C60+3 -> 40867 | E60: ='[1]NE-AEC2'!$F$223 -> JAZAN 1146W | F60: =F59+7 -> 40871 | G60: =G59+7 -> 40888 | H60: AL FARAHIDI 1148W | I60: =I59+2 -> 40897 | J60: =I60+8 -> 40905 | K60: =J60+2 -> 40907 | L60: =K60+2 -> 40909
A61: ='[1]WM-AMC1'!A45 -> SARA | B61: ='[1]WM-AMC1'!B45 -> 69 | C61: =C60+7 -> 40871 | D61: =C61+3 -> 40874 | E61: ='[1]NE-AEC2'!$F$227 -> AL MANAMAH 1147W | F61: =F60+7 -> 40878 | G61: =G60+8 -> 40896 | H61: AL SABAHIA 1149W | I61: =I60+7 -> 40904 | J61: =I61+8 -> 40912 | K61: =J61+2 -> 40914 | L61: =K61+2 -> 40916
A62: ='[1]WM-AMC1'!A46 -> SARA | B62: ='[1]WM-AMC1'!B46 -> 70 | C62: =C61+7 -> 40878 | D62: =C62+3 -> 40881 | E62: ='[1]NE-AEC2'!$F$231 -> UASC YANBU 1148W | F62: =F61+7 -> 40885 | G62: =G61+7 -> 40903 | H62: AL NOOF 1150W | I62: =I61+7 -> 40911 | J62: =I62+8 -> 40919 | K62: =J62+2 -> 40921 | L62: =K62+2 -> 40923
A63: ='[1]WM-AMC1'!A47 -> SARA | B63: ='[1]WM-AMC1'!B47 -> 71 | C63: =C62+7 -> 40885 | D63: =C63+3 -> 40888 | E63: ='[1]NE-AEC2'!$F$235 -> AL BAHIA 1149W | F63: =F62+7 -> 40892 | G63: =G62+7 -> 40910 | H63: HANJIN ELIZABETH 0135W | I63: =I62+7 -> 40918 | J63: =I63+8 -> 40926 | K63: =J63+2 -> 40928 | L63: =K63+2 -> 40930
A64: ='[1]WM-AMC1'!A48 -> SARA | B64: ='[1]WM-AMC1'!B48 -> 72 | C64: =C63+7 -> 40892 | D64: =C64+3 -> 40895 | E64: ='[1]NE-AEC2'!$F$239 -> AL KHOR 1150W | F64: =F63+7 -> 40899 | G64: =G63+6 -> 40916 | H64: HANJIN MALTA 0160W | I64: =I63+7 -> 40925 | J64: =I64+8 -> 40933 | K64: =J64+2 -> 40935 | L64: =K64+2 -> 40937
A65: ='[1]WM-AMC1'!A49 -> SARA | B65: ='[1]WM-AMC1'!B49 -> 73 | C65: =C64+7 -> 40899 | D65: =C65+3 -> 40902 | E65: ='[1]NE-AEC2'!$F$243 -> AL RAWDAH 1151W | F65: =F64+7 -> 40906 | G65: =G64+7 -> 40923 | H65: AL ABDALI 1153W | I65: =I64+7 -> 40932 | J65: =I65+8 -> 40940 | K65: =J65+2 -> 40942 | L65: =K65+2 -> 40944
A66: ='[1]WM-AMC1'!A50 -> SARA | B66: ='[1]WM-AMC1'!B50 -> 74 | C66: =C65+7 -> 40906 | D66: =C66+3 -> 40909 | E66: ='[1]NE-AEC2'!$F$247 -> AL SAFAT 1152W | F66: =F65+7 -> 40913 | G66: =G65+7 -> 40930 | H66: ASIR 1201W | I66: =I65+8 -> 40940 | J66: =I66+12 -> 40952 | K66: =J66+2 -> 40954 | L66: =K66+2 -> 40956
A67: ='[1]WM-AMC1'!A51 -> SARA | B67: ='[1]WM-AMC1'!B51 -> 75 | C67: =C66+7 -> 40913 | D67: =C67+3 -> 40916 | E67: ='[1]NE-AEC2'!$F$251 -> HATTA 1153W | F67: =F66+7 -> 40920 | G67: =G66+7 -> 40937 | H67: DEIRA 1202W | I67: =I66+6 -> 40946 | J67: =I67+13 -> 40959 | K67: =J67+2 -> 40961 | L67: =K67+2 -> 40963
A68: ='[1]WM-AMC1'!A52 -> SARA | B68: ='[1]WM-AMC1'!B52 -> 76 | C68: =C67+7 -> 40920 | D68: =C68+3 -> 40923 | E68: ='[1]NE-AEC2'!$F$255 -> AL HILAL 1201W | F68: =F67+7 -> 40927 | G68: =G67+7 -> 40944 | H68: AL MUTANABBI 1203W | I68: =I67+7 -> 40953 | J68: =I68+8 -> 40961 | K68: =J68+2 -> 40963 | L68: =K68+2 -> 40965
A69: ='[1]WM-AMC1'!A53 -> SARA | B69: ='[1]WM-AMC1'!B53 -> 77 | C69: =C68+7 -> 40927 | D69: =C69+3 -> 40930 | E69: ='[1]NE-AEC2'!$F$259 -> MAYSSAN 1202W | F69: =F68+7 -> 40934 | G69: =G68+7 -> 40951 | H69: NAJRAN 1204W | I69: =I68+7 -> 40960 | J69: =I69+8 -> 40968 | K69: =J69+2 -> 40970 | L69: =K69+2 -> 40972
A70: =A69 -> SARA | B70: =B69+1 -> 78 | C70: =C69+7 -> 40934 | D70: =C70+3 -> 40937 | E70: JAZAN 1203W | F70: =F69+7 -> 40941 | G70: =G69+7 -> 40958 | H70: AL SABAHIA 1205W | I70: =I69+7 -> 40967 | J70: =I70+8 -> 40975 | K70: =J70+2 -> 40977 | L70: =K70+2 -> 40979
A71: OMIT | B71: =B70+1 -> 79 | C71: =C70+7 -> 40941 | D71: =C71+3 -> 40944 | E71: AL MANAMAH 1204W | F71: =F70+7 -> 40948 | G71: =G70+7 -> 40965 | H71: AL NOOF 1206W | I71: =I70+7 -> 40974 | J71: =I71+8 -> 40982 | K71: =J71+2 -> 40984 | L71: =K71+2 -> 40986
A72: FEEDER | B72: VOY | C72: ETD HCM | D72: ETA PKG | E72: VOYAGE NO. | F72: ETA PKG | G72: ETA VALENCIA | H72: CONNECTING VESSEL | I72: ETA VALENCIA | J72: New York | K72: Norfolk | L72: Savannah
A73: SARA | B73: 80 | C73: 40948 | D73: =C73+3 -> 40951 | E73: XIN DA LIAN 1206W | F73: 40958 | G73: =G71+17 -> 40982 | H73: HANJIN MALTA 0161W | I73: 40986 | J73: =I73+15 -> 41001 | K73: =J73+2 -> 41003 | L73: =K73+2 -> 41005
A74: FEEDER | B74: VOY | C74: ETD HCM | D74: ETA PKG | E74: VOYAGE NO. | F74: ETA PKG | G74: ETA Algeciras | H74: CONNECTING VESSEL | I74: ETA Algeciras | J74: New York | K74: Norfolk | L74: Savannah
A75: =A73 -> SARA | B75: =B73+1 -> 81 | C75: =C73+7 -> 40955 | D75: =C75+3 -> 40958 | E75: AL BAHIA 1206W | F75: =F73+7 -> 40965 | G75: =G73+7 -> 40989 | H75: HANJIN MALTA 0161W | I75: =I73+7 -> 40993 | J75: =I75+8 -> 41001 | K75: =J75+2 -> 41003 | L75: =K75+2 -> 41005
A76: FEEDER | B76: VOY | C76: ETD HCM | D76: ETA PKG | E76: VOYAGE NO. | F76: ETA PKG | G76: ETA VALENCIA | H76: CONNECTING VESSEL | I76: ETA VALENCIA | J76: New York | K76: Norfolk | L76: Savannah
A77: =A75 -> SARA | B77: =B75+1 -> 82 | C77: =C75+7 -> 40962 | D77: =C77+3 -> 40965 | E77: ='WM-AMC1'!E10 -> AL RAWDAH 1208W | F77: ='WM-AMC1'!F10 -> 40977 | G77: =G75+13 -> 41002 | H77: HANJIN SAN DIEGO 0015W | I77: =I75+11 -> 41004 | J77: =I77+11 -> 41015 | K77: =J77+2 -> 41017 | L77: =K77+2 -> 41019
A78: ='WM-AMC1'!A11 -> SARA | B78: ='WM-AMC1'!B11 -> 83 | C78: ='WM-AMC1'!C11 -> 40969 | D78: ='WM-AMC1'!D11 -> 40972 | E78: ='WM-AMC1'!E12 -> AL SAFAT 1209W | F78: ='WM-AMC1'!F12 -> 40985 | G78: =G77+7 -> 41009 | H78: ASIR 1211W | I78: =I77+7 -> 41011 | J78: =I78+11 -> 41022 | K78: =J78+2 -> 41024 | L78: =K78+2 -> 41026
A79: ='WM-AMC1'!A12 -> SARA | B79: ='WM-AMC1'!B12 -> 84 | C79: ='WM-AMC1'!C12 -> 40976 | D79: ='WM-AMC1'!D12 -> 40979
A80: ='WM-AMC1'!A13 -> SARA | B80: ='WM-AMC1'!B13 -> 85 | C80: ='WM-AMC1'!C13 -> 40983 | D80: ='WM-AMC1'!D13 -> 40986 | E80: ='WM-AMC1'!E13 -> CSCL AMERICA 1210W | F80: ='WM-AMC1'!F13 -> 40988 | G80: =F80+26 -> 41014 | H80: UASC RAMADI 1212W | I80: =I78+7 -> 41018 | J80: =I80+11 -> 41029 | K80: =J80+2 -> 41031 | L80: =K80+2 -> 41033
A81: ='WM-AMC1'!A14 -> SARA | B81: ='WM-AMC1'!B14 -> 86 | C81: ='WM-AMC1'!C14 -> 40990 | D81: ='WM-AMC1'!D14 -> 40993 | E81: ='WM-AMC1'!E14 -> HATTA 1211W | F81: ='WM-AMC1'!F14 -> 40996 | G81: =F81+26 -> 41022 | H81: AL MUTANABBI 1213W | I81: =I80+7 -> 41025 | J81: =I81+11 -> 41036 | K81: =J81+2 -> 41038 | L81: =K81+2 -> 41040
A82: ='WM-AMC1'!A15 -> SARA | B82: ='WM-AMC1'!B15 -> 87 | C82: ='WM-AMC1'!C15 -> 40997 | D82: ='WM-AMC1'!D15 -> 41000 | E82: ='WM-AMC1'!E15 -> AL HILAL 1212W | F82: ='WM-AMC1'!F15 -> 41004 | G82: =F82+24 -> 41028 | H82: NAJRAN 1214W | I82: =I81+7 -> 41032 | J82: =I82+11 -> 41043 | K82: =J82+2 -> 41045 | L82: =K82+2 -> 41047
E83: ='WM-AMC1'!$E$16 -> XIN OU ZHOU 1213W | F83: ='WM-AMC1'!$F$16 -> 41011 | G83: =F83+25 -> 41036 | H83: AL SABAHIA 1215W | I83: =I82+9 -> 41041 | J83: =I83+9 -> 41050 | K83: =J83+2 -> 41052 | L83: =K83+2 -> 41054
A84: ='WM-AMC1'!A16 -> CAPE FRIO | B84: ='WM-AMC1'!B16 -> 52 | C84: ='WM-AMC1'!C16 -> 41005 | D84: ='WM-AMC1'!D16 -> 41008
E86: ='WM-AMC1'!E19 -> MAYSSAN 1214W | F86: ='WM-AMC1'!F19 -> 41017 | G86: =F86+25 -> 41042 | H86: AL NOOF 1216W | I86: =I83+7 -> 41048 | J86: =I86+9 -> 41057 | K86: =J86+2 -> 41059 | L86: =K86+2 -> 41061
A87: ='WM-AMC1'!A20 -> SIMA SAPPHIRE | B87: ='WM-AMC1'!B20 -> 411 | C87: ='WM-AMC1'!C20 -> 41007 | D87: ='WM-AMC1'!D20 -> 41010
A88: ='WM-AMC1'!A21 -> PAC ANTLIA | B88: ='WM-AMC1'!B21 -> 60 | C88: ='WM-AMC1'!C21 -> 41012 | D88: ='WM-AMC1'!D21 -> 41015
A89: ='WM-AMC1'!A22 | B89: ='WM-AMC1'!B22 | C89: ='WM-AMC1'!C22 | D89: ='WM-AMC1'!D22
E90: ='WM-AMC1'!E23 -> JAZAN 1215W | F90: ='WM-AMC1'!F23 -> 41023 | G90: =F90+25 -> 41048 | H90: HANJIN ELIZABETH 0137W | I90: =I86+7 -> 41055 | J90: =I90+9 -> 41064 | K90: =J90+2 -> 41066 | L90: =K90+2 -> 41068
A91: ='WM-AMC1'!A24 -> SIMA SAPPHIRE | B91: ='WM-AMC1'!B24 -> 412 | C91: ='WM-AMC1'!C24 -> 41014 | D91: ='WM-AMC1'!D24 -> 41017
A92: ='WM-AMC1'!A25 -> CAPE FRIO | B92: ='WM-AMC1'!B25 -> 53 | C92: ='WM-AMC1'!C25 -> 41019 | D92: ='WM-AMC1'!D25 -> 41022
A93: ='WM-AMC1'!A26 | B93: ='WM-AMC1'!B26 | C93: ='WM-AMC1'!C26 | D93: ='WM-AMC1'!D26
E94: ='WM-AMC1'!$E$35 -> AL RAWDAH 1218W | F94: ='WM-AMC1'!$F$35 -> 41047 | G94: =F94+25 -> 41072 | H94: HANJIN SAN DIEGO 0016W | I94: 41074 | J94: =I94+11 -> 41085 | K94: =J94+2 -> 41087 | L94: =K94+2 -> 41089
A95: ='WM-AMC1'!A36 -> SIMA SAPPHIRE | B95: ='WM-AMC1'!B36 -> 415 | C95: ='WM-AMC1'!C36 -> 41035 | D95: ='WM-AMC1'!D36 -> 41038
A96: ='WM-AMC1'!A37 -> PAC ANTLIA | B96: ='WM-AMC1'!B37 -> 62 | C96: ='WM-AMC1'!C37 -> 41040 | D96: ='WM-AMC1'!D37 -> 41043
A97: ='WM-AMC1'!A34 | B97: ='WM-AMC1'!B34 | C97: ='WM-AMC1'!C34 | D97: ='WM-AMC1'!D34
E98: ='WM-AMC1'!$E$39 -> AL SAFAT 1219W | F98: ='WM-AMC1'!$F$39 -> 41053 | G98: =F98+25 -> 41078 | H98: ASIR 1221W | I98: =I94+7 -> 41081 | J98: =I98+11 -> 41092 | K98: =J98+2 -> 41094 | L98: =K98+2 -> 41096
A99: ='WM-AMC1'!A40 -> SIMA SAPPHIRE | B99: ='WM-AMC1'!B40 -> 416 | C99: ='WM-AMC1'!C40 -> 41042 | D99: ='WM-AMC1'!D40 -> 41045
A100: ='WM-AMC1'!A41 -> CAPE FRIO | B100: ='WM-AMC1'!B41 -> 55 | C100: ='WM-AMC1'!C41 -> 41047 | D100: ='WM-AMC1'!D41 -> 41050
A101: ='WM-AMC1'!A38 | B101: ='WM-AMC1'!B38 | C101: ='WM-AMC1'!C38 | D101: ='WM-AMC1'!D38
E102: ='WM-AMC1'!$E$43 -> CSCL AMERICA 1220W | F102: ='WM-AMC1'!$F$43 -> 41058 | G102: =F102+25 -> 41083 | H102: DEIRA 1222W | I102: =I98+7 -> 41088 | J102: =I102+11 -> 41099 | K102: =J102+2 -> 41101 | L102: =K102+2 -> 41103
A103: ='WM-AMC1'!A44 -> SIMA SAPPHIRE | B103: ='WM-AMC1'!B44 -> 417 | C103: ='WM-AMC1'!C44 -> 41049 | D103: ='WM-AMC1'!D44 -> 41052
A104: ='WM-AMC1'!A45 -> GALLANT WAVE | B104: ='WM-AMC1'!B45 -> 64 | C104: ='WM-AMC1'!C45 -> 41053 | D104: ='WM-AMC1'!D45 -> 41056
...

Sheet IADA
D3: HOCHIMINHCITY TO MALAYSIA
D4: IADA SERVICE
B7: FEEDER | C7: VOY | D7: ETD HCM | E7: ETA PKG | F7: ETA PEN
B9: SIMA SAPPHIRE | C9: 415 | D9: 41035 | E9: =D9+3 -> 41038 | F9: =E9+3 -> 41041
B10: PAC ANTLIA | C10: 62 | D10: 41040 | E10: =D10+3 -> 41043 | F10: =E10+5 -> 41048
B11: ='WM-AMC1'!A34
B13: =B9 -> SIMA SAPPHIRE | C13: =C9+1 -> 416 | D13: 41042 | E13: =D13+3 -> 41045 | F13: =E13+6 -> 41051
B14: CAPE FRIO | C14: 55 | D14: 41047 | E14: =D14+3 -> 41050 | F14: =E14+5 -> 41055
B15: ='WM-AMC1'!A38
B17: =B13 -> SIMA SAPPHIRE | C17: =C13+1 -> 417 | D17: 41049 | E17: =D17+3 -> 41052 | F17: =E17+6 -> 41058
B18: =B10 -> PAC ANTLIA | C18: =C10+1 -> 63 | D18: 41054 | E18: =D18+3 -> 41057 | F18: =E18+5 -> 41062
B19: ='WM-AMC1'!A42
B21: =B17 -> SIMA SAPPHIRE | C21: =C17+1 -> 418 | D21: 41056 | E21: =D21+3 -> 41059 | F21: =E21+6 -> 41065
B22: =B14 -> CAPE FRIO | C22: =C14+1 -> 56 | D22: 41061 | E22: =D22+3 -> 41064 | F22: =E22+5 -> 41069
B23: ='WM-AMC1'!A46
B25: =B21 -> SIMA SAPPHIRE | C25: =C21+1 -> 419 | D25: 41063 | E25: =D25+3 -> 41066 | F25: =E25+6 -> 41072
B26: =B18 -> PAC ANTLIA | C26: =C18+1 -> 64 | D26: 41068 | E26: ='WM-AMC1'!D53 -> 41071 | F26: =E26+5 -> 41076
B27: ='WM-AMC1'!A50
B29: =B25 -> SIMA SAPPHIRE | C29: =C25+1 -> 420 | D29: 41056 | E29: =D29+3 -> 41059 | F29: =E29+6 -> 41065
B30: =B22 -> CAPE FRIO | C30: =C22+1 -> 57 | D30: 41061 | E30: =D30+3 -> 41064 | F30: =E30+5 -> 41069
B31: ='WM-AMC1'!A54
B33: =B29 -> SIMA SAPPHIRE | C33: =C29+1 -> 421 | D33: 41063 | E33: =D33+3 -> 41066 | F33: =E33+6 -> 41072
B34: =B26 -> PAC ANTLIA | C34: =C26+1 -> 65 | D34: 41068 | E34: =D34+3 -> 41071 | F34: =E34+5 -> 41076
B35: ='WM-AMC1'!A74 -> 284 Nguyen Tat Thanh Street, Dist. 4, Ho Chi Minh City, VietNam
B37: THE ABOVE SAILING SCHEDULE IS SUBJECT TO CHANGE WITH/WITHOUT PRIOR NOTICE
B38: VIET HOA TRANSPORT SERVICE & TRADING CO., LTD. ( HEAD OFFICE 1)
B39: 284 Nguyen Tat Thanh Street, Dist. 4, Ho Chi Minh City, VietNam
B40: Tel : (84-8) 39402520 (12 lines) Fax : (84-8) 39402601 / 39408933 / 39411087
B41: Email : general@viethoagroup.com Website : www.viethoagroup.com
B44: Person to contact :
C45: Office 1 : | E45: Ms. Simmi (84-8) 39402520 ( Ext : 122 )
C46: Office 2 : | E46: Ms. Jasmine (84-8) 38268533 ( Ext : 101 )
C47: Office 3 : | E47: Ms. Oanh (84-8) 62810240 ( Ext: 117 )

Sheet Feeder Closing Time
A2: CLOSING TIME OF FEEDERS AT VNSGN
A4: FEEDER DATE | B4: FEEDER NAME | C4: CLOSING TIME AT
C5: ICD PHUOC LONG 3 | D5: ICD TRANSIMEX | E5: ICD TANAMEXCO | F5: CATLAI | G5: SPCT | H5: CAT LAI
A6: WEDNESDAY | B6: ME THI BHUM NITHI BHUM DANU BHUM | C6: N/A | D6: 24H MON | E6: 24H MON | F6: 15H TUE | G6: N/A | H6: N/A
A7: THURSDAY | B7: SINAR BONTANG HUNSA BHUM ACX CHERRY ACX COSMOS SINAR BRANI | C7: N/A | D7: 24H TUE | E7: 24H TUE | F7: 15H WED | G7: N/A | H7: N/A
A8: THURSDAY | B8: CAPE SORRELL PAC AQUARIUS PACIFIC GRACE | C8: 18H WED | D8: N/A | E8: N/A | F8: N/A | G8: N/A | H8: N/A
A9: THURSDAY | B9: SARA | C9: 20H WED | D9: 20H WED | E9: 20H WED | F9: N/A | G9: 24H WED | H9: 24H WED
A10: FRIDAY | B10: ANAN BHUM | C10: N/A | D10: 18H WED | E10: 18H WED | F10: 5H THU | G10: N/A | H10: N/A
A11: FRIDAY | B11: KOTA RESTU | C11: 24H WED | D11: N/A | E11: 13H THU | F11: 23H THU | G11: N/A | H11: N/A
A12: FRIDAY | B12: CAPE FRIO PAC ANTLIA | C12: WED 24:00H | D12: WED 24:00H | E12: WED 24:00H | F12: 12H THU | G12: THU 12:00H
A13: SUNDAY | B13: SIMAR SAPPHIRE | C13: FRI 16:00H | D13: FRI 16:00H | E13: FRI 16:00H | F13: FRI 16:00H | G13: FRI 16:00H
A14: SUNDAY | B14: SINAR BITUNG | C14: 10H SAT | D14: 10H SAT | E14: N/A | F14: 23H SAT | G14: N/A | H14: N/A
A15: SUNDAY | B15: FIDUCIA | C15: N/A | D15: N/A | E15: 08H SAT | F15: 10H SAT | G15: N/A | H15: N/A
A16: THURSDAY | B16: VINALINES PIONEER ME LINH | F16: FRI 16:00H | H16: WED 21:00H
A17: FRIDAY | B17: KOTA RESTU | C17: WED 24:00H | E17: THU 14:00H | F17: FRI 16:00H | H17: THU 23:00H
A19: THE ABOVE SAILING SCHEDULE IS SUBJECT TO CHANGE WITH/WITHOUT PRIOR NOTICE
A20: VIET HOA TRANSPORT SERVICE & TRADING CO., LTD. ( HEAD OFFICE 1)
A21: 284 Nguyen Tat Thanh Street, Dist. 4, Ho Chi Minh City, VietNam
A22: Tel : (84-8) 39402520 (12 lines) Fax : (84-8) 39402601 / 39408933 / 39411087
A23: Email : general@viethoagroup.com Website : www.viethoagroup.com
A26: Person to contact :
B27: Office 1 : | C27: Ms. Simmi (84-8) 39402520 ( Ext : 122 )
B28: Office 2 : | C28: Ms. Jasmine (84-8) 38268533 ( Ext : 101 )
B29: Office 3 : | C29: Ms. Oanh (84-8) 62810240 ( Ext: 117 )
