Workbook

Sheet StartUp

Sheet COVER
A3: .
C9: SAILING SCHEDULE FROM HOCHIMINH CITY TO
B10: 1/ | C10: NORTH EUROPE (AEC7 DIRECT SERVICE) | D10: LE HAVRE / HAMBURG / BREMERHAVEN / ZEEBRUGGE / ROTTERDAM / SOUTHAMPTON
B11: 2/ | C11: NORTH EUROPE (AEC2 SERVICE) | D11: HAMBURG / LE HARVE / ROTTERDAM
B12: 3/ | C12: NORTH EUROPE (AEC8 SERVICE) | D12: LE HAVRE / ROTTERDAM / HAMBURG / ZEEBRUGGE
B13: 4/ | C13: WEST MEDITERRANEAN (AMC1 SERVICE) | D13: LA SPEZIA /GENOA / FOS / NAPOLI /VALENCIA/ BARCELONA
B14: 5/ | C14: EAST MEDITERRANEAN (AMC1 SERVICE) | D14: AMBARLI / HAYDAPARSA / IZMIR / IZMIT / GEMLIK /MERSIN / BERUIT / LATAKIA /TRIPOLI / MISURATA/ ALEXANDRIA /EL DEKHEILA
B15: 6/ | C15: AUSTRALIA | D15: FREMANTLE / SYDNEY / MELBOURNE / ADELAIDE
B16: 7/ | C16: ARABIAN GULF (AEC1 SERVICE) | D16: JEBEL ALI / MUSCAT / DOHA / AJMAN /KUWAIT / DAMMAM /RIYADH/…
B17: 8/ | C17: RED SEA (AEC2 SERVICE) | D17: JEDDAH / SOKHNA PORT / AQABA / PORT SUDAN
B18: 9/ | C18: US-AEC9 | D18: NEW YORK / NORFOLK / SAVANNAH
B19: 10/ | C19: US-AMC1 | D19: NEW YORK / NORFOLK / SAVANNAH
B20: 11/ | C20: BRAZIL ( SAM1 ) | D20: RIO DE JANEIRO/ PARANAGUA / SANTOS / ITAJAL
B21: 12/ | C21: WEST AFRICA (WAF1 SERVICE) | D21: LAGOS / TEMA / ABIDJAN
B22: 13/ | C22: IADA | D22: PORT KELANG / PENANG
C23: Click here for Feeder Closing Time

Sheet NE-AEC7 (DIRECTLY)
D3: HOCHIMINHCITY TO NORTH EUROPE
F4: AEC7 SERVICE
I6: Update: | J6: 41046
A7: MOTHER VESSEL | B7: ETD VUNG TAU | C7: ETA SIN | D7: ETA PKG | E7: LE HAVRE | F7: HAMBURG | G7: BREMERHAVEN | H7: ZEEBRUGGE | I7: ROTTERDAM | J7: SOUTHAMPTON
A8: CMA CGM ALASKA 436W | B8: 40977 | C8: =B8+3 -> 40980 | D8: =C8+1 -> 40981 | E8: =B8+20 -> 40997 | F8: =B8+22 -> 40999 | G8: =B8+24 -> 41001 | H8: =B8+26 -> 41003 | I8: =B8+27 -> 41004 | J8: =B8+28 -> 41005
A9: CMA CGM ANDROMEDA 438W | B9: =B8+6 -> 40983 | C9: =B9+3 -> 40986 | D9: =C9+1 -> 40987 | E9: =B9+21 -> 41004 | F9: =B9+23 -> 41006 | G9: =B9+25 -> 41008 | H9: =B9+27 -> 41010 | I9: =B9+28 -> 41011 | J9: =B9+29 -> 41012
A10: CMA CGM LIBRA 440W | B10: =B9+7 -> 40990 | C10: =B10+3 -> 40993 | D10: =C10+1 -> 40994 | E10: =B10+21 -> 41011 | F10: =B10+23 -> 41013 | G10: =B10+25 -> 41015 | H10: =B10+27 -> 41017 | I10: =B10+28 -> 41018 | J10: =B10+29 -> 41019
A11: CMA CGM MUSCA 442W | B11: =B10+9 -> 40999 | C11: =B11+3 -> 41002 | D11: =C11+1 -> 41003 | E11: =B11+20 -> 41019 | F11: =B11+22 -> 41021 | G11: =B11+23 -> 41022 | H11: =B11+25 -> 41024 | I11: =B11+26 -> 41025 | J11: =B11+27 -> 41026
A12: CMA CGM AQUILA 444W | B12: =B11+6 -> 41005 | C12: =B12+3 -> 41008 | D12: =C12+1 -> 41009 | E12: =B12+22 -> 41027 | F12: =B12+24 -> 41029 | G12: =B12+24 -> 41029 | H12: =B12+26 -> 41031 | I12: =B12+27 -> 41032 | J12: =B12+28 -> 41033
A13: CMA CGM HYDRA 446W | B13: =B12+7 -> 41012 | C13: =B13+2 -> 41014 | D13: =C13+1 -> 41015 | E13: =B13+21 -> 41033 | F13: =B13+23 -> 41035 | G13: =B13+25 -> 41037 | H13: =B13+26 -> 41038 | I13: =B13+27 -> 41039 | J13: =B13+28 -> 41040
A14: CMA CGM PEGASUS 448W | B14: =B13+6 -> 41018 | C14: =B14+3 -> 41021 | D14: =C14+1 -> 41022 | E14: =B14+22 -> 41040 | F14: =B14+23 -> 41041 | G14: =B14+25 -> 41043 | H14: =B14+27 -> 41045 | I14: =B14+28 -> 41046 | J14: =B14+29 -> 41047
A15: CMA CGM LEO 450W | B15: =B14+7 -> 41025 | C15: =B15+3 -> 41028 | D15: =C15+1 -> 41029 | E15: =B15+21 -> 41046 | F15: =B15+23 -> 41048 | G15: =B15+25 -> 41050 | H15: =B15+27 -> 41052 | I15: =B15+28 -> 41053 | J15: =B15+29 -> 41054
A16: CMA CGM CALLISTO 452W | B16: =B15+7 -> 41032 | C16: =B16+3 -> 41035 | D16: =C16+1 -> 41036 | E16: =B16+21 -> 41053 | F16: =B16+23 -> 41055 | G16: =B16+25 -> 41057 | H16: =B16+27 -> 41059 | I16: =B16+28 -> 41060 | J16: =B16+29 -> 41061
A17: CMA CGM VELA 454W | B17: =B16+7 -> 41039 | C17: =B17+3 -> 41042 | D17: =C17+1 -> 41043 | E17: =B17+21 -> 41060 | F17: =B17+23 -> 41062 | G17: =B17+25 -> 41064 | H17: =B17+27 -> 41066 | I17: =B17+28 -> 41067 | J17: =B17+29 -> 41068
A18: CMA CGM THALASSA 456W | B18: =B17+9 -> 41048 | C18: =B18+3 -> 41051 | D18: =C18+1 -> 41052 | E18: =B18+19 -> 41067 | F18: =B18+21 -> 41069 | G18: =B18+23 -> 41071 | H18: =B18+25 -> 41073 | I18: =B18+26 -> 41074 | J18: =B18+27 -> 41075
A19: CMA CGM ANDROMEDA 460W | B19: =B18+5 -> 41053 | C19: 41057 | D19: 41058 | E19: =B19+22 -> 41075 | F19: =B19+24 -> 41077 | G19: =B19+26 -> 41079 | H19: =B19+28 -> 41081 | I19: =B19+29 -> 41082 | J19: =B19+30 -> 41083
A20: CMA CGM LIBRA 462W | B20: =B19+7 -> 41060 | C20: =B20+3 -> 41063 | D20: =C20+1 -> 41064 | E20: =B20+21 -> 41081 | F20: =B20+23 -> 41083 | G20: =B20+25 -> 41085 | H20: =B20+27 -> 41087 | I20: =B20+28 -> 41088 | J20: =B20+29 -> 41089
A21: CMA CGM TITAN 054W | B21: =B20+7 -> 41067 | C21: =B21+3 -> 41070 | D21: =C21+1 -> 41071 | E21: =B21+21 -> 41088 | F21: =B21+23 -> 41090 | G21: =B21+25 -> 41092 | H21: =B21+27 -> 41094 | I21: =B21+28 -> 41095 | J21: =B21+29 -> 41096
A22: CMA CGM MUSCA 464W | B22: =B21+7 -> 41074 | C22: =B22+3 -> 41077 | D22: =C22+1 -> 41078 | E22: =B22+21 -> 41095 | F22: =B22+23 -> 41097 | G22: =B22+25 -> 41099 | H22: =B22+27 -> 41101 | I22: =B22+28 -> 41102 | J22: =B22+29 -> 41103
A23: CMA CGM AQUILA 466W | B23: =B22+7 -> 41081 | C23: =B23+3 -> 41084 | D23: =C23+1 -> 41085 | E23: =B23+21 -> 41102 | F23: =B23+23 -> 41104 | G23: =B23+25 -> 41106 | H23: =B23+27 -> 41108 | I23: =B23+28 -> 41109 | J23: =B23+29 -> 41110
A24: CMA CGM HYDRA 468W | B24: =B23+7 -> 41088 | C24: =B24+3 -> 41091 | D24: =C24+1 -> 41092 | E24: =B24+21 -> 41109 | F24: =B24+23 -> 41111 | G24: =B24+25 -> 41113 | H24: =B24+27 -> 41115 | I24: =B24+28 -> 41116 | J24: =B24+29 -> 41117
A26: THE ABOVE SAILING SCHEDULE IS SUBJECT TO CHANGE WITH/WITHOUT PRIOR NOTICE | H26: Person to contact :
A27: VIET HOA TRANSPORT SERVICE & TRADING CO., LTD. ( HEAD OFFICE 1) | I27: Office 1 : | K27: Ms. Simmi (84-8) 39402520 ( Ext : 122 )
A28: 284 Nguyen Tat Thanh Street, Dist. 4, Ho Chi Minh City, VietNam | I28: Office 2 : | K28: Ms. Jasmine (84-8) 38268533 ( Ext : 101 )
A29: Tel : (84-8) 39402520 (12 lines) Fax : (84-8) 39402601 / 39408933 / 39411087 | I29: Office 3 : | K29: Ms. Oanh (84-8) 62810240 ( Ext: 117 )
A30: Email : general@viethoagroup.com Website : www.viethoagroup.com

Sheet NE-AEC2
E4: HOCHIMINHCITY TO NORTH EUROPE
G5: AEC2 SERVICE
H6: ='NE-AEC7 (DIRECTLY)'!I6 -> Update: | I6: ='NE-AEC7 (DIRECTLY)'!$J$6 -> 41046
A7: FEEDER | B7: VOY | C7: ETD HCM | D7: ETA PKG | E7: MOTHER VESSEL | F7: ETA PKG | G7: SOUTHAMPTON | H7: HAMBURG | I7: BREMERHAVEN | J7: ZEEBRUGGE | K7: ROTTERDAM | L7: LE HAVRE
E8: CMA CGM CHRISTOPHE COLOMB 828W | F8: 40973 | G8: =F8+21 -> 40994 | H8: =G8+2 -> 40996 | I8: =H8+2 -> 40998 | J8: =I8+2 -> 41000 | K8: =J8+1 -> 41001 | L8: =K8+1 -> 41002
A9: SARA | B9: 82 | C9: 40962 | D9: =C9+3 -> 40965
A10: SIMA SAPPHIRE | B10: 405 | C10: 40965 | D10: =C10+3 -> 40968
E12: CMA CGM LAPEROUSE 830W | F12: =F8+7 -> 40980 | G12: =F12+21 -> 41001 | H12: =G12+2 -> 41003 | I12: =H12+2 -> 41005 | J12: =I12+2 -> 41007 | K12: =J12+1 -> 41008 | L12: =K12+1 -> 41009
A13: =A9 -> SARA | B13: =B9+1 -> 83 | C13: =C9+7 -> 40969 | D13: =C13+3 -> 40972
A14: =A10 -> SIMA SAPPHIRE | B14: =B10+1 -> 406 | C14: =C10+7 -> 40972 | D14: =C14+3 -> 40975
E16: CMA CGM MAGELLAN 832W | F16: =F12+7 -> 40987 | G16: =F16+21 -> 41008 | H16: =G16+2 -> 41010 | I16: =H16+2 -> 41012 | J16: =I16+2 -> 41014 | K16: =J16+1 -> 41015 | L16: =K16+1 -> 41016
A17: =A13 -> SARA | B17: =B13+1 -> 84 | C17: =C13+7 -> 40976 | D17: =C17+3 -> 40979
A18: =A14 -> SIMA SAPPHIRE | B18: =B14+1 -> 407 | C18: =C14+7 -> 40979 | D18: =C18+3 -> 40982
E20: CMA CGM CASSIOPEIA 834W | F20: =F16+7 -> 40994 | G20: =F20+21 -> 41015 | H20: =G20+2 -> 41017 | I20: =H20+2 -> 41019 | J20: =I20+2 -> 41021 | K20: =J20+1 -> 41022 | L20: =K20+1 -> 41023
A21: =A17 -> SARA | B21: =B17+1 -> 85 | C21: =C17+7 -> 40983 | D21: =C21+3 -> 40986
A22: =A18 -> SIMA SAPPHIRE | B22: =B18+1 -> 408 | C22: =C18+7 -> 40986 | D22: =C22+3 -> 40989
E24: CMA CGM GEMINI 836W | F24: =F20+7 -> 41001 | G24: =F24+21 -> 41022 | H24: =G24+2 -> 41024 | I24: =H24+2 -> 41026 | J24: =I24+2 -> 41028 | K24: =J24+1 -> 41029 | L24: =K24+1 -> 41030
A25: =A21 -> SARA | B25: =B21+1 -> 86 | C25: =C21+7 -> 40990 | D25: =C25+3 -> 40993
A26: =A22 -> SIMA SAPPHIRE | B26: =B22+1 -> 409 | C26: =C22+7 -> 40993 | D26: =C26+3 -> 40996
E28: CMA CGM AMERIGO VESPUCCI 838W | F28: =F24+7 -> 41008 | G28: =F28+21 -> 41029 | H28: =G28+2 -> 41031 | I28: =H28+2 -> 41033 | J28: =I28+2 -> 41035 | K28: =J28+1 -> 41036 | L28: =K28+1 -> 41037
A29: =A25 -> SARA | B29: =B25+1 -> 87 | C29: =C25+7 -> 40997 | D29: =C29+3 -> 41000
A30: =A26 -> SIMA SAPPHIRE | B30: =B26+1 -> 410 | C30: =C26+7 -> 41000 | D30: =C30+3 -> 41003
E32: CMA CGM CENTAURUS 840W | F32: =F28+7 -> 41015 | G32: =F32+20 -> 41035 | H32: =G32+3 -> 41038 | I32: =H32+2 -> 41040 | J32: =I32+2 -> 41042 | K32: =J32+1 -> 41043 | L32: =K32+1 -> 41044
A33: CAPE FRIO | B33: 52 | C33: 41005 | D33: =C33+3 -> 41008
A34: =A30 -> SIMA SAPPHIRE | B34: =B30+1 -> 411 | C34: =C30+7 -> 41007 | D34: =C34+3 -> 41010
E36: CMA CGM CORTE REAL 842W | F36: =F32+9 -> 41024 | G36: =F36+19 -> 41043 | H36: =G36+2 -> 41045 | I36: =H36+2 -> 41047 | J36: =I36+2 -> 41049 | K36: =J36+1 -> 41050 | L36: =K36+1 -> 41051
A37: PAC ANTLIA | B37: 60 | C37: =C33+7 -> 41012 | D37: =C37+3 -> 41015
A38: =A34 -> SIMA SAPPHIRE | B38: =B34+1 -> 412 | C38: =C34+7 -> 41014 | D38: =C38+3 -> 41017
E40: MALIK AL ASHTAR 1216W | F40: =F36+5 -> 41029 | G40: =F40+21 -> 41050 | H40: =G40+2 -> 41052 | I40: =H40+2 -> 41054 | J40: =I40+2 -> 41056 | K40: =J40+1 -> 41057 | L40: =K40+1 -> 41058
A41: =A33 -> CAPE FRIO | B41: =B33+1 -> 53 | C41: =C37+7 -> 41019 | D41: =C41+3 -> 41022
A42: =A38 -> SIMA SAPPHIRE | B42: =B38+1 -> 413 | C42: =C38+7 -> 41021 | D42: =C42+3 -> 41024
E44: CMA CGM COLUMBA 846W | F44: =F40+7 -> 41036 | G44: =F44+21 -> 41057 | H44: =G44+2 -> 41059 | I44: =H44+2 -> 41061 | J44: =I44+2 -> 41063 | K44: =J44+1 -> 41064 | L44: =K44+1 -> 41065
A45: =A37 -> PAC ANTLIA | B45: =B37+1 -> 61 | C45: =C41+7 -> 41026 | D45: =C45+3 -> 41029
A46: =A42 -> SIMA SAPPHIRE | B46: =B42+1 -> 414 | C46: =C42+7 -> 41028 | D46: =C46+3 -> 41031
E48: AL QIBLA 1218W | F48: =F44+9 -> 41045 | G48: =F48+21 -> 41066 | H48: =G48+3 -> 41069 | I48: =H48+1 -> 41070 | J48: =I48+2 -> 41072 | K48: =J48+1 -> 41073 | L48: =K48+1 -> 41074
A49: =A41 -> CAPE FRIO | B49: =B41+1 -> 54 | C49: =C45+7 -> 41033 | D49: =C49+3 -> 41036
A50: =A46 -> SIMA SAPPHIRE | B50: =B46+1 -> 415 | C50: =C46+7 -> 41035 | D50: =C50+3 -> 41038
E52: CMA CGM CHRISTOPHE COLOMB 850W | F52: =F48+5 -> 41050 | G52: =F52+21 -> 41071 | H52: =G52+2 -> 41073 | I52: =H52+2 -> 41075 | J52: =I52+2 -> 41077 | K52: =J52+1 -> 41078 | L52: =K52+1 -> 41079
A53: =A45 -> PAC ANTLIA | B53: =B45+1 -> 62 | C53: =C49+7 -> 41040 | D53: =C53+3 -> 41043
A54: =A50 -> SIMA SAPPHIRE | B54: =B50+1 -> 416 | C54: =C50+7 -> 41042 | D54: =C54+3 -> 41045
...

Sheet NE-AEC8
D3: HOCHIMINHCITY TO NORTH EUROPE
F4: AEC8 SERVICE
J6: Update: | K6: ='NE-AEC7 (DIRECTLY)'!$J$6 -> 41046
A7: FEEDER | B7: VOY | C7: ETD HCM | D7: ETA SIN | E7: ETA PKG | F7: MOTHER VESSEL | G7: ETA PKG | H7: LE HAVRE | I7: ROTTERDAM | J7: HAMBURG | K7: ZEEBRUGGE
A8: SARA | B8: 80 | C8: 40948 | D8: =#REF! -> #REF! | E8: 40951 | F8: AIN SNAN 1206W | G8: 40957 | H8: =G8+17 -> 40974 | I8: =H8+3 -> 40977 | J8: =I8+3 -> 40980 | K8: =H8+9 -> 40983
A9: =A8 -> SARA | B9: =B8+1 -> 81 | C9: =C8+7 -> 40955 | D9: =#REF! -> #REF! | E9: =C9+3 -> 40958 | F9: CSCL VENUS 0009W | G9: =G8+7 -> 40964 | H9: =G9+17 -> 40981 | I9: =H9+3 -> 40984 | J9: =I9+3 -> 40987 | K9: =H9+9 -> 40990
A10: =A9 -> SARA | B10: =B9+1 -> 82 | C10: =C9+7 -> 40962 | D10: =#REF! -> #REF! | E10: =C10+3 -> 40965 | F10: CSCL MERCURY 0007W | G10: =G9+7 -> 40971 | H10: =G10+17 -> 40988 | I10: =H10+3 -> 40991 | J10: =I10+3 -> 40994 | K10: =H10+9 -> 40997
A11: =A10 -> SARA | B11: =B10+1 -> 83 | C11: =C10+7 -> 40969 | D11: =#REF! -> #REF! | E11: =C11+3 -> 40972 | F11: CSCL JUPITER 0009W | G11: =G10+8 -> 40979 | H11: =G11+18 -> 40997 | I11: =H11+3 -> 41000 | J11: =I11+3 -> 41003 | K11: =H11+9 -> 41006
A12: =A11 -> SARA | B12: =B11+1 -> 84 | C12: =C11+7 -> 40976 | D12: =#REF! -> #REF! | E12: =C12+3 -> 40979 | F12: CSCL SATURN 0003W | G12: =G11+5 -> 40984 | H12: =G12+18 -> 41002 | I12: =H12+3 -> 41005 | J12: =I12+3 -> 41008 | K12: =H12+9 -> 41011
A13: =A12 -> SARA | B13: =B12+1 -> 85 | C13: =C12+7 -> 40983 | D13: =#REF! -> #REF! | E13: =C13+3 -> 40986 | F13: AL ULA 1211W | G13: =G12+7 -> 40991 | H13: =G13+19 -> 41010 | I13: =H13+3 -> 41013 | J13: =I13+2 -> 41015 | K13: =H13+8 -> 41018
A14: =A13 -> SARA | B14: =B13+1 -> 86 | C14: =C13+7 -> 40990 | D14: =#REF! -> #REF! | E14: =C14+3 -> 40993 | F14: CSCL MARS 0005W | G14: =G13+9 -> 41000 | H14: =G14+17 -> 41017 | I14: =H14+3 -> 41020 | J14: =I14+3 -> 41023 | K14: =H14+9 -> 41026
A15: =A14 -> SARA | B15: =B14+1 -> 87 | C15: =C14+7 -> 40997 | D15: =#REF! -> #REF! | E15: =C15+3 -> 41000 | F15: CMA CGM NEVADA 567W | G15: =G14+6 -> 41006 | H15: =G15+18 -> 41024 | I15: =H15+3 -> 41027 | J15: =I15+3 -> 41030 | K15: =H15+9 -> 41033
F16: AL RIFFA 1214W | G16: =G15+10 -> 41016 | H16: =G16+18 -> 41034 | I16: =H16+3 -> 41037 | J16: =I16+3 -> 41040 | K16: =H16+9 -> 41043
A17: ='NE-AEC2'!A33 -> CAPE FRIO | B17: ='NE-AEC2'!B33 -> 52 | C17: ='NE-AEC2'!C33 -> 41005 | D17: ='NE-AEC2'!D33 -> 41008 | E17: =C17+3 -> 41008
A18: ='NE-AEC2'!A34 -> SIMA SAPPHIRE | B18: ='NE-AEC2'!B34 -> 411 | C18: ='NE-AEC2'!C34 -> 41007 | D18: ='NE-AEC2'!D34 -> 41010 | E18: =C18+3 -> 41010
F20: CSCL STAR 0013W | G20: =G16+4 -> 41020 | H20: =G20+18 -> 41038 | I20: =H20+3 -> 41041 | J20: =I20+3 -> 41044 | K20: =H20+9 -> 41047
A21: ='NE-AEC2'!A37 -> PAC ANTLIA | B21: ='NE-AEC2'!B37 -> 60 | C21: ='NE-AEC2'!C37 -> 41012 | D21: ='NE-AEC2'!D37 -> 41015 | E21: =C21+3 -> 41015
A22: ='NE-AEC2'!A38 -> SIMA SAPPHIRE | B22: ='NE-AEC2'!B38 -> 412 | C22: ='NE-AEC2'!C38 -> 41014 | D22: ='NE-AEC2'!D38 -> 41017 | E22: =C22+3 -> 41017
F24: AIN SNAN 1216W | G24: =G20+8 -> 41028 | H24: =G24+18 -> 41046 | I24: =H24+3 -> 41049 | J24: =I24+3 -> 41052 | K24: =H24+9 -> 41055
A25: ='NE-AEC2'!A41 -> CAPE FRIO | B25: ='NE-AEC2'!B41 -> 53 | C25: ='NE-AEC2'!C41 -> 41019 | D25: ='NE-AEC2'!D41 -> 41022 | E25: =C25+3 -> 41022
A26: ='NE-AEC2'!A42 -> SIMA SAPPHIRE | B26: ='NE-AEC2'!B42 -> 413 | C26: ='NE-AEC2'!C42 -> 41021 | D26: ='NE-AEC2'!D42 -> 41024 | E26: =C26+3 -> 41024
F28: CSCL VENUS 0011W | G28: =G24+5 -> 41033 | H28: =G28+18 -> 41051 | I28: =H28+3 -> 41054 | J28: =I28+3 -> 41057 | K28: =H28+9 -> 41060
A29: ='NE-AEC2'!A45 -> PAC ANTLIA | B29: ='NE-AEC2'!B45 -> 61 | C29: ='NE-AEC2'!C45 -> 41026 | D29: ='NE-AEC2'!D45 -> 41029 | E29: =C29+3 -> 41029
A30: ='NE-AEC2'!A46 -> SIMA SAPPHIRE | B30: ='NE-AEC2'!B46 -> 414 | C30: ='NE-AEC2'!C46 -> 41028 | D30: ='NE-AEC2'!D46 -> 41031 | E30: =C30+3 -> 41031
F32: CSCL MERCURY 0009W | G32: =G28+9 -> 41042 | H32: =G32+17 -> 41059 | I32: =H32+3 -> 41062 | J32: =I32+3 -> 41065 | K32: =H32+9 -> 41068
A33: ='NE-AEC2'!A49 -> CAPE FRIO | B33: ='NE-AEC2'!B49 -> 54 | C33: ='NE-AEC2'!C49 -> 41033 | D33: ='NE-AEC2'!D49 -> 41036 | E33: =C33+3 -> 41036
A34: ='NE-AEC2'!A50 -> SIMA SAPPHIRE | B34: ='NE-AEC2'!B50 -> 415 | C34: ='NE-AEC2'!C50 -> 41035 | D34: ='NE-AEC2'!D50 -> 41038 | E34: =C34+3 -> 41038
F36: CSCL JUPITER 0011W | G36: =G32+5 -> 41047 | H36: =G36+18 -> 41065 | I36: =H36+3 -> 41068 | J36: =I36+3 -> 41071 | K36: =H36+9 -> 41074
A37: ='NE-AEC2'!A53 -> PAC ANTLIA | B37: ='NE-AEC2'!B53 -> 62 | C37: ='NE-AEC2'!C53 -> 41040 | D37: ='NE-AEC2'!D53 -> 41043 | E37: =C37+3 -> 41043
A38: ='NE-AEC2'!A54 -> SIMA SAPPHIRE | B38: ='NE-AEC2'!B54 -> 416 | C38: ='NE-AEC2'!C54 -> 41042 | D38: ='NE-AEC2'!D54 -> 41045 | E38: =C38+3 -> 41045
F40: CSCL SATURN 0005W | G40: =G36+7 -> 41054 | H40: =G40+18 -> 41072 | I40: =H40+3 -> 41075 | J40: =I40+3 -> 41078 | K40: =H40+9 -> 41081
A41: ='NE-AEC2'!A57 -> CAPE FRIO | B41: ='NE-AEC2'!B57 -> 55 | C41: ='NE-AEC2'!C57 -> 41047 | D41: ='NE-AEC2'!D57 -> 41050 | E41: =C41+3 -> 41050
A42: ='NE-AEC2'!A58 -> SIMA SAPPHIRE | B42: ='NE-AEC2'!B58 -> 417 | C42: ='NE-AEC2'!C58 -> 41049 | D42: ='NE-AEC2'!D58 -> 41052 | E42: =C42+3 -> 41052
F44: ALULA 1221W | G44: =G40+7 -> 41061 | H44: =G44+18 -> 41079 | I44: =H44+4 -> 41083 | J44: =I44+3 -> 41086 | K44: =H44+9 -> 41088
A45: ='NE-AEC2'!A61 -> GALLANT WAVE | B45: ='NE-AEC2'!B61 -> 64 | C45: ='NE-AEC2'!C61 -> 41053 | D45: ='NE-AEC2'!D61 -> 41056 | E45: =C45+3 -> 41056
A46: ='NE-AEC2'!A62 -> SIMA SAPPHIRE | B46: ='NE-AEC2'!B62 -> 418 | C46: ='NE-AEC2'!C62 -> 41056 | D46: ='NE-AEC2'!D62 -> 41059 | E46: =C46+3 -> 41059
F48: CSCL MARS 0007W | G48: =G44+7 -> 41068 | H48: =G48+18 -> 41086 | I48: =H48+3 -> 41089 | J48: =I48+3 -> 41092 | K48: =H48+9 -> 41095
A49: ='NE-AEC2'!A65 -> CAPE FRIO | B49: ='NE-AEC2'!B65 -> 56 | C49: ='NE-AEC2'!C65 -> 41061 | D49: ='NE-AEC2'!D65 -> 41064 | E49: =C49+3 -> 41064
A50: ='NE-AEC2'!A66 -> SIMA SAPPHIRE | B50: ='NE-AEC2'!B66 -> 419 | C50: ='NE-AEC2'!C66 -> 41063 | D50: ='NE-AEC2'!D66 -> 41066 | E50: =C50+3 -> 41066
F52: CMA CGM NEVADA 587W | G52: =G48+7 -> 41075 | H52: =G52+18 -> 41093 | I52: =H52+3 -> 41096 | J52: =I52+3 -> 41099 | K52: =H52+9 -> 41102
...

Sheet RS-AEC8
E3: HOCHIMINHCITY TO RED SEA PORTS
L5: Update: | M5: ='NE-AEC7 (DIRECTLY)'!$J$6 -> 41046
A6: FEEDER | B6: VOY | C6: ETD HCM | D6: ETA PKG | E6: MOTHER VESSEL | F6: ETA PKG | G6: Jeddah | H6: AQABA | I6: HODEIDAH | J6: PORT SUDAN | K6: ADEN | L6: DJIBOUTI | M6: SOKHNA PORT
A7: =#REF! -> #REF! | B7: =#REF! -> #REF! | C7: =#REF! -> #REF! | D7: =#REF! -> #REF! | E7: =#REF! -> #REF! | F7: 40619 | G7: =F7+10 -> 40629 | H7: =M7+2 -> 40633 | I7: =M7+2 -> 40633 | J7: =H7+3 -> 40636 | K7: =J7+2 -> 40638 | L7: =H7+2 -> 40635 | M7: =G7+2 -> 40631
A8: =#REF! -> #REF! | B8: =#REF! -> #REF! | C8: =#REF! -> #REF! | D8: =#REF! -> #REF! | E8: =#REF! -> #REF! | F8: =F7+7 -> 40626 | G8: =F8+10 -> 40636 | H8: =M8+2 -> 40640 | I8: =M8+2 -> 40640 | J8: =H8+3 -> 40643 | K8: =J8+2 -> 40645 | L8: =H8+2 -> 40642 | M8: =G8+2 -> 40638
A9: =#REF! -> #REF! | B9: =#REF! -> #REF! | C9: =#REF! -> #REF! | D9: =#REF! -> #REF! | E9: =#REF! -> #REF! | F9: =F8+7 -> 40633 | G9: =F9+10 -> 40643 | H9: =M9+2 -> 40647 | I9: =M9+2 -> 40647 | J9: =H9+3 -> 40650 | K9: =J9+2 -> 40652 | L9: =H9+2 -> 40649 | M9: =G9+2 -> 40645
A10: =#REF! -> #REF! | B10: =#REF! -> #REF! | C10: =#REF! -> #REF! | D10: =#REF! -> #REF! | E10: =#REF! -> #REF! | F10: =F9+7 -> 40640 | G10: =F10+10 -> 40650 | H10: =M10+2 -> 40654 | I10: =M10+2 -> 40654 | J10: =H10+3 -> 40657 | K10: =J10+2 -> 40659 | L10: =H10+2 -> 40656 | M10: =G10+2 -> 40652
A11: =#REF! -> #REF! | B11: =#REF! -> #REF! | C11: =#REF! -> #REF! | D11: =#REF! -> #REF! | E11: =#REF! -> #REF! | F11: =F10+7 -> 40647 | G11: =F11+10 -> 40657 | H11: =M11+2 -> 40661 | I11: =M11+2 -> 40661 | J11: =H11+3 -> 40664 | K11: =J11+2 -> 40666 | L11: =H11+2 -> 40663 | M11: =G11+2 -> 40659
A12: =#REF! -> #REF! | B12: =#REF! -> #REF! | C12: =#REF! -> #REF! | D12: =#REF! -> #REF! | E12: =#REF! -> #REF! | F12: =F11+7 -> 40654 | G12: =F12+10 -> 40664 | H12: =M12+2 -> 40668 | I12: =M12+2 -> 40668 | J12: =H12+3 -> 40671 | K12: =J12+2 -> 40673 | L12: =H12+2 -> 40670 | M12: =G12+2 -> 40666
A13: =#REF! -> #REF! | B13: =#REF! -> #REF! | C13: =#REF! -> #REF! | D13: =#REF! -> #REF! | E13: =#REF! -> #REF! | F13: =F12+7 -> 40661 | G13: =F13+10 -> 40671 | H13: =M13+2 -> 40675 | I13: =M13+2 -> 40675 | J13: =H13+3 -> 40678 | K13: =J13+2 -> 40680 | L13: =H13+2 -> 40677 | M13: =G13+2 -> 40673
A14: =#REF! -> #REF! | B14: =#REF! -> #REF! | C14: =#REF! -> #REF! | D14: =#REF! -> #REF! | E14: =#REF! -> #REF! | F14: =F13+7 -> 40668 | G14: =F14+10 -> 40678 | H14: =M14+2 -> 40682 | I14: =M14+2 -> 40682 | J14: =H14+3 -> 40685 | K14: =J14+2 -> 40687 | L14: =H14+2 -> 40684 | M14: =G14+2 -> 40680
A15: =#REF! -> #REF! | B15: =#REF! -> #REF! | C15: =#REF! -> #REF! | D15: =#REF! -> #REF! | E15: =#REF! -> #REF! | F15: =F14+7 -> 40675 | G15: =F15+12 -> 40687 | H15: =M15+2 -> 40691 | I15: =M15+2 -> 40691 | J15: =H15+3 -> 40694 | K15: =J15+2 -> 40696 | L15: =H15+2 -> 40693 | M15: =G15+2 -> 40689
A16: =#REF! -> #REF! | B16: =#REF! -> #REF! | C16: =#REF! -> #REF! | D16: =#REF! -> #REF! | E16: =#REF! -> #REF! | F16: =F15+7 -> 40682 | G16: =F16+11 -> 40693 | H16: =M16+2 -> 40697 | I16: =M16+2 -> 40697 | J16: =H16+3 -> 40700 | K16: =J16+2 -> 40702 | L16: =H16+2 -> 40699 | M16: =G16+2 -> 40695
A17: =#REF! -> #REF! | B17: =#REF! -> #REF! | C17: =#REF! -> #REF! | D17: =#REF! -> #REF! | E17: =#REF! -> #REF! | F17: =F16+7 -> 40689 | G17: =F17+11 -> 40700 | H17: =M17+2 -> 40704 | I17: =M17+2 -> 40704 | J17: =H17+3 -> 40707 | K17: =J17+2 -> 40709 | L17: =H17+2 -> 40706 | M17: =G17+2 -> 40702
A18: =#REF! -> #REF! | B18: =#REF! -> #REF! | C18: =#REF! -> #REF! | D18: =#REF! -> #REF! | E18: =#REF! -> #REF! | F18: =F17+7 -> 40696 | G18: =F18+10 -> 40706 | H18: =M18+2 -> 40710 | I18: =M18+2 -> 40710 | J18: =H18+3 -> 40713 | K18: =J18+2 -> 40715 | L18: =H18+2 -> 40712 | M18: =G18+2 -> 40708
A19: =#REF! -> #REF! | B19: =#REF! -> #REF! | C19: =#REF! -> #REF! | D19: =#REF! -> #REF! | E19: =#REF! -> #REF! | F19: =F18+7 -> 40703 | G19: =F19+10 -> 40713 | H19: =M19+2 -> 40717 | I19: =M19+2 -> 40717 | J19: =H19+3 -> 40720 | K19: =J19+2 -> 40722 | L19: =H19+2 -> 40719 | M19: =G19+2 -> 40715
A20: =#REF! -> #REF! | B20: =#REF! -> #REF! | C20: =#REF! -> #REF! | D20: =#REF! -> #REF! | E20: =#REF! -> #REF! | F20: =F19+7 -> 40710 | G20: =F20+10 -> 40720 | H20: =M20+2 -> 40724 | I20: =M20+2 -> 40724 | J20: =H20+3 -> 40727 | K20: =J20+2 -> 40729 | L20: =H20+2 -> 40726 | M20: =G20+2 -> 40722
A21: =#REF! -> #REF! | B21: =#REF! -> #REF! | C21: =#REF! -> #REF! | D21: =#REF! -> #REF! | E21: =#REF! -> #REF! | F21: =F20+7 -> 40717 | G21: =F21+10 -> 40727 | H21: =M21+2 -> 40731 | I21: =M21+2 -> 40731 | J21: =H21+3 -> 40734 | K21: =J21+2 -> 40736 | L21: =H21+2 -> 40733 | M21: =G21+2 -> 40729
A22: =#REF! -> #REF! | B22: =#REF! -> #REF! | C22: =#REF! -> #REF! | D22: =#REF! -> #REF! | E22: =#REF! -> #REF! | F22: =F21+7 -> 40724 | G22: =F22+10 -> 40734 | H22: =M22+2 -> 40738 | I22: =M22+2 -> 40738 | J22: =H22+3 -> 40741 | K22: =J22+2 -> 40743 | L22: =H22+2 -> 40740 | M22: =G22+2 -> 40736
A23: =#REF! -> #REF! | B23: =#REF! -> #REF! | C23: =#REF! -> #REF! | D23: =#REF! -> #REF! | E23: =#REF! -> #REF! | F23: =F22+7 -> 40731 | G23: =F23+10 -> 40741 | H23: =M23+2 -> 40745 | I23: =M23+2 -> 40745 | J23: =H23+3 -> 40748 | K23: =J23+2 -> 40750 | L23: =H23+2 -> 40747 | M23: =G23+2 -> 40743
A24: =#REF! -> #REF! | B24: =#REF! -> #REF! | C24: =#REF! -> #REF! | D24: =#REF! -> #REF! | E24: =#REF! -> #REF! | F24: =F23+7 -> 40738 | G24: =F24+10 -> 40748 | H24: =M24+2 -> 40752 | I24: =M24+2 -> 40752 | J24: =H24+3 -> 40755 | K24: =J24+2 -> 40757 | L24: =H24+2 -> 40754 | M24: =G24+2 -> 40750
A25: =#REF! -> #REF! | B25: =#REF! -> #REF! | C25: =#REF! -> #REF! | D25: =#REF! -> #REF! | E25: =#REF! -> #REF! | F25: =F24+7 -> 40745 | G25: =F25+10 -> 40755 | H25: =M25+2 -> 40759 | I25: =M25+2 -> 40759 | J25: =H25+3 -> 40762 | K25: =J25+2 -> 40764 | L25: =H25+2 -> 40761 | M25: =G25+2 -> 40757
A26: =#REF! -> #REF! | B26: =#REF! -> #REF! | C26: =#REF! -> #REF! | D26: =#REF! -> #REF! | E26: =#REF! -> #REF! | F26: =F25+7 -> 40752 | G26: =F26+10 -> 40762 | H26: =M26+2 -> 40766 | I26: =M26+2 -> 40766 | J26: =H26+3 -> 40769 | K26: =J26+2 -> 40771 | L26: =H26+2 -> 40768 | M26: =G26+2 -> 40764
A27: =#REF! -> #REF! | B27: =#REF! -> #REF! | C27: =#REF! -> #REF! | D27: =#REF! -> #REF! | E27: =#REF! -> #REF! | F27: =F26+7 -> 40759 | G27: =F27+10 -> 40769 | H27: =M27+2 -> 40773 | I27: =M27+2 -> 40773 | J27: =H27+3 -> 40776 | K27: =J27+2 -> 40778 | L27: =H27+2 -> 40775 | M27: =G27+2 -> 40771
A28: =#REF! -> #REF! | B28: =#REF! -> #REF! | C28: =#REF! -> #REF! | D28: =#REF! -> #REF! | E28: =#REF! -> #REF! | F28: =F27+7 -> 40766 | G28: =F28+10 -> 40776 | H28: =G28+7 -> 40783 | I28: =L28+1 -> 40787 | J28: =G28+4 -> 40780 | K28: =M28+1 -> 40785 | L28: =K28+1 -> 40786 | M28: =H28+1 -> 40784
A29: =#REF! -> #REF! | B29: =#REF! -> #REF! | C29: =#REF! -> #REF! | D29: =#REF! -> #REF! | E29: =#REF! -> #REF! | F29: =F28+7 -> 40773 | G29: =F29+10 -> 40783 | H29: =G29+7 -> 40790 | I29: =L29+1 -> 40794 | J29: =G29+4 -> 40787 | K29: =M29+1 -> 40792 | L29: =K29+1 -> 40793 | M29: =H29+1 -> 40791
A30: =#REF! -> #REF! | B30: =#REF! -> #REF! | C30: =#REF! -> #REF! | D30: =#REF! -> #REF! | E30: =#REF! -> #REF! | F30: =F29+7 -> 40780 | G30: =F30+10 -> 40790 | H30: =G30+8 -> 40798 | I30: =L30+1 -> 40802 | J30: =G30+4 -> 40794 | K30: =M30+1 -> 40800 | L30: =K30+1 -> 40801 | M30: =H30+1 -> 40799
A31: =#REF! -> #REF! | B31: =#REF! -> #REF! | C31: =#REF! -> #REF! | D31: =#REF! -> #REF! | E31: =#REF! -> #REF! | F31: =F30+7 -> 40787 | G31: =F31+10 -> 40797 | H31: =G31+7 -> 40804 | I31: =L31+1 -> 40808 | J31: =G31+4 -> 40801 | K31: =M31+1 -> 40806 | L31: =K31+1 -> 40807 | M31: =H31+1 -> 40805
A32: =#REF! -> #REF! | B32: =#REF! -> #REF! | C32: =#REF! -> #REF! | D32: =#REF! -> #REF! | E32: =#REF! -> #REF! | F32: =F31+7 -> 40794 | G32: =F32+10 -> 40804 | H32: =G32+7 -> 40811 | I32: =L32+1 -> 40815 | J32: =G32+4 -> 40808 | K32: =M32+1 -> 40813 | L32: =K32+1 -> 40814 | M32: =H32+1 -> 40812
A33: =#REF! -> #REF! | B33: =#REF! -> #REF! | C33: =#REF! -> #REF! | D33: =#REF! -> #REF! | E33: =#REF! -> #REF! | F33: =F32+7 -> 40801 | G33: =F33+10 -> 40811 | H33: =G33+7 -> 40818 | I33: =L33+1 -> 40822 | J33: =G33+4 -> 40815 | K33: =M33+1 -> 40820 | L33: =K33+1 -> 40821 | M33: =H33+1 -> 40819
A34: =#REF! -> #REF! | B34: =#REF! -> #REF! | C34: =#REF! -> #REF! | D34: =#REF! -> #REF! | E34: =#REF! -> #REF! | F34: =F33+7 -> 40808 | G34: =F34+10 -> 40818 | H34: =G34+7 -> 40825 | I34: =L34+1 -> 40829 | J34: =G34+4 -> 40822 | K34: =M34+1 -> 40827 | L34: =K34+1 -> 40828 | M34: =H34+1 -> 40826
A35: =#REF! -> #REF! | B35: =#REF! -> #REF! | C35: =#REF! -> #REF! | D35: =#REF! -> #REF! | E35: =#REF! -> #REF! | F35: =F34+7 -> 40815 | G35: =F35+10 -> 40825 | H35: =G35+7 -> 40832 | I35: =L35+1 -> 40836 | J35: =G35+4 -> 40829 | K35: =M35+1 -> 40834 | L35: =K35+1 -> 40835 | M35: =H35+1 -> 40833
A36: =#REF! -> #REF! | B36: =#REF! -> #REF! | C36: =#REF! -> #REF! | D36: =#REF! -> #REF! | E36: =#REF! -> #REF! | F36: =F35+7 -> 40822 | G36: =F36+10 -> 40832 | H36: =G36+7 -> 40839 | I36: =L36+1 -> 40843 | J36: =G36+4 -> 40836 | K36: =M36+1 -> 40841 | L36: =K36+1 -> 40842 | M36: =H36+1 -> 40840
A37: =#REF! -> #REF! | B37: =#REF! -> #REF! | C37: =#REF! -> #REF! | D37: =#REF! -> #REF! | E37: =#REF! -> #REF! | F37: =F36+7 -> 40829 | G37: =F37+10 -> 40839 | H37: =G37+7 -> 40846 | I37: =L37+1 -> 40850 | J37: =G37+4 -> 40843 | K37: =M37+1 -> 40848 | L37: =K37+1 -> 40849 | M37: =H37+1 -> 40847
A38: =#REF! -> #REF! | B38: =#REF! -> #REF! | C38: =#REF! -> #REF! | D38: =#REF! -> #REF! | E38: =#REF! -> #REF! | F38: =F37+7 -> 40836 | G38: =F38+10 -> 40846 | H38: =G38+7 -> 40853 | I38: =L38+1 -> 40857 | J38: =G38+4 -> 40850 | K38: =M38+1 -> 40855 | L38: =K38+1 -> 40856 | M38: =H38+1 -> 40854
A39: =#REF! -> #REF! | B39: =#REF! -> #REF! | C39: =#REF! -> #REF! | D39: =#REF! -> #REF! | E39: =#REF! -> #REF! | F39: =F38+7 -> 40843 | G39: =F39+10 -> 40853 | H39: =G39+7 -> 40860 | I39: =L39+1 -> 40864 | J39: =G39+4 -> 40857 | K39: =M39+1 -> 40862 | L39: =K39+1 -> 40863 | M39: =H39+1 -> 40861
A40: =#REF! -> #REF! | B40: =#REF! -> #REF! | C40: =#REF! -> #REF! | D40: =#REF! -> #REF! | E40: =#REF! -> #REF! | F40: =F39+7 -> 40850 | G40: =F40+10 -> 40860 | H40: =G40+7 -> 40867 | I40: =L40+1 -> 40871 | J40: =G40+4 -> 40864 | K40: =M40+1 -> 40869 | L40: =K40+1 -> 40870 | M40: =H40+1 -> 40868
A41: =#REF! -> #REF! | B41: =#REF! -> #REF! | C41: =#REF! -> #REF! | D41: =#REF! -> #REF! | E41: =#REF! -> #REF! | F41: =F40+7 -> 40857 | G41: =F41+10 -> 40867 | H41: =G41+7 -> 40874 | I41: =L41+1 -> 40878 | J41: =G41+4 -> 40871 | K41: =M41+1 -> 40876 | L41: =K41+1 -> 40877 | M41: =H41+1 -> 40875
A42: =#REF! -> #REF! | B42: =#REF! -> #REF! | C42: =#REF! -> #REF! | D42: =#REF! -> #REF! | E42: =#REF! -> #REF! | F42: =F41+7 -> 40864 | G42: =F42+10 -> 40874 | H42: =G42+7 -> 40881 | I42: =L42+1 -> 40885 | J42: =G42+4 -> 40878 | K42: =M42+1 -> 40883 | L42: =K42+1 -> 40884 | M42: =H42+1 -> 40882
... A44: =#REF! -> #REF! | B44: =#REF! -> #REF! | C44: =#REF! -> #REF! | D44: =#REF! -> #REF! | E44: =#REF! -> #REF! | F44: =F43+7 -> 40878 | G44: =F44+10 -> 40888 | H44: =G44+7 -> 40895 | I44: =L44+1 -> 40899 | J44: =G44+4 -> 40892 | K44: =M44+1 -> 40897 | L44: =K44+1 -> 40898 | M44: =H44+1 -> 40896
...

Sheet WM-AMC1
D3: HOCHIMINHCITY TO WEST MEDITERRANEAN
D4: AMC1 SERVICE
K6: Update: | L6: ='NE-AEC7 (DIRECTLY)'!$J$6 -> 41046
A7: FEEDER | B7: VOY | C7: ETD HCM | D7: ETA PKG | E7: MOTHER VESSEL | F7: ETA PKG | G7: La Spezia | H7: Genoa | I7: FOS | J7: BARCELONA | K7: Napoli (via SPE) | L7: Valencia | M7: Venice | N7: Koper
A8: SARA | B8: 80 | C8: 40948 | D8: =C8+3 -> 40951 | E8: XIN DA LIAN 1206W | F8: 40958 | G8: =F8+17 -> 40975 | H8: =G8+2 -> 40977 | I8: =H8+2 -> 40979 | J8: =I8+2 -> 40981 | K8: =G8+4 -> 40979 | L8: =I8+3 -> 40982 | M8: =J8+3 -> 40984 | N8: =K8+3 -> 40982
A9: =A8 -> SARA | B9: =B8+1 -> 81 | C9: =C8+7 -> 40955 | D9: =C9+3 -> 40958 | E9: XIN CHI WAN 1207W | F9: =F8+8 -> 40966 | G9: =F9+16 -> 40982 | H9: =G9+2 -> 40984 | I9: =H9+2 -> 40986 | J9: =I9+2 -> 40988 | K9: =G9+4 -> 40986 | L9: =I9+3 -> 40989 | M9: =J9+3 -> 40991 | N9: =K9+3 -> 40989
A10: =A9 -> SARA | B10: =B9+1 -> 82 | C10: =C9+7 -> 40962 | D10: =C10+3 -> 40965 | E10: AL RAWDAH 1208W | F10: =F9+11 -> 40977 | G10: =F10+17 -> 40994 | H10: =G10+2 -> 40996 | I10: =H10+2 -> 40998 | J10: =I10+2 -> 41000 | K10: =G10+4 -> 40998 | L10: =I10+4 -> 41002 | M10: =J10+4 -> 41004 | N10: =K10+4 -> 41002
A11: =A10 -> SARA | B11: =B10+1 -> 83 | C11: =C10+7 -> 40969 | D11: =C11+3 -> 40972
A12: =A11 -> SARA | B12: =B11+1 -> 84 | C12: =C11+7 -> 40976 | D12: =C12+3 -> 40979 | E12: AL SAFAT 1209W | F12: =F10+8 -> 40985 | G12: =F12+16 -> 41001 | H12: =G12+2 -> 41003 | I12: =H12+2 -> 41005 | J12: =I12+2 -> 41007 | K12: =G12+4 -> 41005 | L12: =I12+4 -> 41009 | M12: =J12+4 -> 41011 | N12: =K12+4 -> 41009
A13: =A12 -> SARA | B13: =B12+1 -> 85 | C13: =C12+7 -> 40983 | D13: =C13+3 -> 40986 | E13: CSCL AMERICA 1210W | F13: =F12+3 -> 40988 | G13: =F13+18 -> 41006 | H13: =G13+2 -> 41008 | I13: =H13+3 -> 41011 | J13: =I13+2 -> 41013 | K13: =G13+4 -> 41010 | L13: =I13+3 -> 41014 | M13: =J13+3 -> 41016 | N13: =K13+3 -> 41013
A14: =A13 -> SARA | B14: =B13+1 -> 86 | C14: =C13+7 -> 40990 | D14: =C14+3 -> 40993 | E14: HATTA 1211W | F14: =F13+8 -> 40996 | G14: =F14+18 -> 41014 | H14: =G14+2 -> 41016 | I14: =H14+2 -> 41018 | J14: =I14+2 -> 41020 | K14: =G14+4 -> 41018 | L14: =I14+4 -> 41022 | M14: =J14+4 -> 41024 | N14: =K14+4 -> 41022
A15: =A14 -> SARA | B15: =B14+1 -> 87 | C15: =C14+7 -> 40997 | D15: =C15+3 -> 41000 | E15: AL HILAL 1212W | F15: =F14+8 -> 41004 | G15: =F15+18 -> 41022 | H15: =G15+2 -> 41024 | I15: =H15+2 -> 41026 | J15: =I15+2 -> 41028 | K15: =G15+4 -> 41026 | L15: =I15+4 -> 41030 | M15: =J15+4 -> 41032 | N15: =K15+4 -> 41030
A16: ='NE-AEC8'!A17 -> CAPE FRIO | B16: ='NE-AEC8'!B17 -> 52 | C16: ='NE-AEC8'!C17 -> 41005 | D16: ='NE-AEC8'!D17 -> 41008 | E16: XIN OU ZHOU 1213W | F16: =F15+7 -> 41011 | G16: =F16+17 -> 41028 | H16: =G16+2 -> 41030 | I16: =H16+3 -> 41033 | J16: =I16+2 -> 41035 | K16: =G16+4 -> 41032 | L16: =I16+3 -> 41036 | M16: =J16+3 -> 41038 | N16: =K16+3 -> 41035
E19: MAYSSAN 1214W | F19: =F16+6 -> 41017 | G19: =F19+18 -> 41035 | H19: =G19+2 -> 41037 | I19: =H19+3 -> 41040 | J19: =I19+2 -> 41042 | K19: =G19+4 -> 41039 | L19: =I19+3 -> 41043 | M19: =J19+3 -> 41045 | N19: =K19+3 -> 41042
A20: ='NE-AEC8'!A18 -> SIMA SAPPHIRE | B20: ='NE-AEC8'!B18 -> 411 | C20: ='NE-AEC8'!C18 -> 41007 | D20: ='NE-AEC8'!D18 -> 41010
A21: ='NE-AEC8'!A21 -> PAC ANTLIA | B21: ='NE-AEC8'!B21 -> 60 | C21: ='NE-AEC8'!C21 -> 41012 | D21: ='NE-AEC8'!D21 -> 41015
E23: JAZAN 1215W | F23: =F19+6 -> 41023 | G23: =F23+18 -> 41041 | H23: =G23+2 -> 41043 | I23: =H23+2 -> 41045 | J23: =I23+2 -> 41047 | K23: =G23+4 -> 41045 | L23: =I23+4 -> 41049 | M23: =J23+4 -> 41051 | N23: =K23+4 -> 41049
A24: ='NE-AEC8'!A22 -> SIMA SAPPHIRE | B24: ='NE-AEC8'!B22 -> 412 | C24: ='NE-AEC8'!C22 -> 41014 | D24: ='NE-AEC8'!D22 -> 41017
A25: ='NE-AEC8'!A25 -> CAPE FRIO | B25: ='NE-AEC8'!B25 -> 53 | C25: ='NE-AEC8'!C25 -> 41019 | D25: ='NE-AEC8'!D25 -> 41022
E27: XIN YA ZHOU 1216W | F27: =F23+6 -> 41029 | G27: =F27+18 -> 41047 | H27: =G27+2 -> 41049 | I27: =H27+2 -> 41051 | J27: =I27+2 -> 41053 | K27: =G27+4 -> 41051 | L27: =I27+4 -> 41055 | M27: =F27+24 -> 41053 | N27: =F27+22 -> 41051
A28: ='NE-AEC8'!A26 -> SIMA SAPPHIRE | B28: ='NE-AEC8'!B26 -> 413 | C28: ='NE-AEC8'!C26 -> 41021 | D28: ='NE-AEC8'!D26 -> 41024
A29: ='NE-AEC8'!A29 -> PAC ANTLIA | B29: ='NE-AEC8'!B29 -> 61 | C29: ='NE-AEC8'!C29 -> 41026 | D29: ='NE-AEC8'!D29 -> 41029
E31: AL MANAMAH 1217W | F31: =F27+11 -> 41040 | G31: =F31+18 -> 41058 | H31: =G31+2 -> 41060 | I31: =H31+3 -> 41063 | J31: =I31+2 -> 41065 | K31: =G31+4 -> 41062 | L31: =I31+3 -> 41066 | M31: =F31+25 -> 41065 | N31: =F31+20 -> 41060
A32: ='NE-AEC8'!A30 -> SIMA SAPPHIRE | B32: ='NE-AEC8'!B30 -> 414 | C32: ='NE-AEC8'!C30 -> 41028 | D32: ='NE-AEC8'!D30 -> 41031
A33: ='NE-AEC8'!A33 -> CAPE FRIO | B33: ='NE-AEC8'!B33 -> 54 | C33: ='NE-AEC8'!C33 -> 41033 | D33: ='NE-AEC8'!D33 -> 41036
E35: AL RAWDAH 1218W | F35: =F31+7 -> 41047 | G35: =F35+17 -> 41064 | H35: =G35+2 -> 41066 | I35: =H35+3 -> 41069 | J35: =I35+2 -> 41071 | K35: =G35+4 -> 41068 | L35: =I35+3 -> 41072 | M35: =F35+24 -> 41071 | N35: =F35+26 -> 41073
A36: ='NE-AEC8'!A34 -> SIMA SAPPHIRE | B36: ='NE-AEC8'!B34 -> 415 | C36: ='NE-AEC8'!C34 -> 41035 | D36: ='NE-AEC8'!D34 -> 41038
A37: ='NE-AEC8'!A37 -> PAC ANTLIA | B37: ='NE-AEC8'!B37 -> 62 | C37: ='NE-AEC8'!C37 -> 41040 | D37: ='NE-AEC8'!D37 -> 41043
E39: AL SAFAT 1219W | F39: =F35+6 -> 41053 | G39: =F39+18 -> 41071 | H39: =G39+1 -> 41072 | I39: =H39+3 -> 41075 | J39: =I39+2 -> 41077 | K39: =G39+4 -> 41075 | L39: =I39+3 -> 41078 | M39: =F39+26 -> 41079 | N39: =F39+38 -> 41091
A40: ='NE-AEC8'!A38 -> SIMA SAPPHIRE | B40: ='NE-AEC8'!B38 -> 416 | C40: ='NE-AEC8'!C38 -> 41042 | D40: ='NE-AEC8'!D38 -> 41045
A41: ='NE-AEC8'!A41 -> CAPE FRIO | B41: ='NE-AEC8'!B41 -> 55 | C41: ='NE-AEC8'!C41 -> 41047 | D41: ='NE-AEC8'!D41 -> 41050
E43: CSCL AMERICA 1220W | F43: =F39+5 -> 41058 | G43: =F43+17 -> 41075 | H43: =G43+2 -> 41077 | I43: =H43+3 -> 41080 | J43: =I43+2 -> 41082 | K43: =G43+4 -> 41079 | L43: =I43+3 -> 41083 | M43: =F43+21 -> 41079 | N43: =F43+32 -> 41090
A44: ='NE-AEC8'!A42 -> SIMA SAPPHIRE | B44: ='NE-AEC8'!B42 -> 417 | C44: ='NE-AEC8'!C42 -> 41049 | D44: ='NE-AEC8'!D42 -> 41052
A45: ='NE-AEC8'!A45 -> GALLANT WAVE | B45: ='NE-AEC8'!B45 -> 64 | C45: ='NE-AEC8'!C45 -> 41053 | D45: ='NE-AEC8'!D45 -> 41056
E47: HATTA 1221W | F47: =F43+9 -> 41067 | G47: =F47+18 -> 41085 | H47: =G47+2 -> 41087 | I47: =H47+2 -> 41089 | J47: =I47+2 -> 41091 | K47: =G47+4 -> 41089 | L47: =I47+4 -> 41093 | M47: =F47+21 -> 41088 | N47: =F47+38 -> 41105
A48: ='NE-AEC8'!A46 -> SIMA SAPPHIRE | B48: ='NE-AEC8'!B46 -> 418 | C48: ='NE-AEC8'!C46 -> 41056 | D48: ='NE-AEC8'!D46 -> 41059
A49: ='NE-AEC8'!A49 -> CAPE FRIO | B49: ='NE-AEC8'!B49 -> 56 | C49: ='NE-AEC8'!C49 -> 41061 | D49: ='NE-AEC8'!D49 -> 41064
E51: AL HILAL 1222W | F51: =F47+7 -> 41074 | G51: =F51+17 -> 41091 | H51: =G51+2 -> 41093 | I51: =H51+3 -> 41096 | J51: =I51+2 -> 41098 | K51: =G51+4 -> 41095 | L51: =I51+3 -> 41099 | M51: =F51+26 -> 41100 | N51: =F51+32 -> 41106
A52: ='NE-AEC8'!A50 -> SIMA SAPPHIRE | B52: ='NE-AEC8'!B50 -> 419 | C52: ='NE-AEC8'!C50 -> 41063 | D52: ='NE-AEC8'!D50 -> 41066
A53: ='NE-AEC8'!A53 -> PAC ANTLIA | B53: ='NE-AEC8'!B53 -> 65 | C53: ='NE-AEC8'!C53 -> 41068 | D53: ='NE-AEC8'!D53 -> 41071
...

Sheet EM-AMC1
F3: HOCHIMINHCITY TO EAST MEDITERRANEAN
F4: AMC1 SERVICE
P6: Update: | Q6: ='NE-AEC7 (DIRECTLY)'!$J$6 -> 41046
A7: FEEDER | B7: VOY | C7: ETD HCM | D7: ETA SIN | E7: ETA PKG | F7: MOTHER VESSEL | G7: ETA PKG | H7: ETA Port Said | I7: Istanbul-Ambarli | J7: Izmit | K7: Izmir | L7: Gemlik | M7: Istanbul-Haydarpasa | N7: Mersin | O7: Beirut | P7: Latakia | Q7: TRIPOLI,lybia | R7: MISURATA | S7: ALEXANDRIA | T7: EL DEKHEILA
A8: ='WM-AMC1'!A8 -> SARA | B8: ='WM-AMC1'!B8 -> 80 | C8: ='WM-AMC1'!C8 -> 40948 | D8: ='WM-AMC1'!#REF! -> #REF! | E8: ='WM-AMC1'!D8 -> 40951 | F8: ='WM-AMC1'!E8 -> XIN DA LIAN 1206W | G8: ='WM-AMC1'!F8 -> 40958 | H8: =G8+13 -> 40971 | I8: =H8+10 -> 40981 | J8: =H8+9 -> 40980 | K8: =J8+3 -> 40983 | L8: =H8+7 -> 40978 | M8: =H8+12 -> 40983 | N8: =H8+14 -> 40985 | O8: =H8+8 -> 40979 | P8: =H8+3 -> 40974 | Q8: =I8+3 -> 40984 | R8: =J8+3 -> 40983 | S8: =K8+3 -> 40986 | T8: =L8+3 -> 40981
A9: ='WM-AMC1'!A9 -> SARA | B9: ='WM-AMC1'!B9 -> 81 | C9: ='WM-AMC1'!C9 -> 40955 | D9: ='WM-AMC1'!#REF! -> #REF! | E9: ='WM-AMC1'!D9 -> 40958 | F9: ='WM-AMC1'!E9 -> XIN CHI WAN 1207W | G9: ='WM-AMC1'!F9 -> 40966 | H9: =G9+13 -> 40979 | I9: =H9+10 -> 40989 | J9: =H9+9 -> 40988 | K9: =J9+3 -> 40991 | L9: =H9+7 -> 40986 | M9: =H9+12 -> 40991 | N9: =H9+14 -> 40993 | O9: =H9+8 -> 40987 | P9: =H9+3 -> 40982 | Q9: =I9+3 -> 40992 | R9: =J9+3 -> 40991 | S9: =K9+3 -> 40994 | T9: =L9+3 -> 40989
A10: ='WM-AMC1'!A10 -> SARA | B10: ='WM-AMC1'!B10 -> 82 | C10: ='WM-AMC1'!C10 -> 40962 | D10: ='WM-AMC1'!#REF! -> #REF! | E10: ='WM-AMC1'!D10 -> 40965 | F10: ='WM-AMC1'!E10 -> AL RAWDAH 1208W | G10: ='WM-AMC1'!F10 -> 40977 | H10: =G10+12 -> 40989 | I10: =H10+10 -> 40999 | J10: =H10+9 -> 40998 | K10: =J10+3 -> 41001 | L10: =H10+7 -> 40996 | M10: =H10+12 -> 41001 | N10: =H10+14 -> 41003 | O10: =H10+8 -> 40997 | P10: =H10+3 -> 40992 | Q10: =I10+3 -> 41002 | R10: =J10+3 -> 41001 | S10: =K10+3 -> 41004 | T10: =L10+3 -> 40999
A11: ='WM-AMC1'!A11 -> SARA | B11: ='WM-AMC1'!B11 -> 83 | C11: ='WM-AMC1'!C11 -> 40969 | D11: ='WM-AMC1'!#REF! -> #REF! | E11: ='WM-AMC1'!D11 -> 40972
A12: ='WM-AMC1'!A12 -> SARA | B12: ='WM-AMC1'!B12 -> 84 | C12: ='WM-AMC1'!C12 -> 40976 | D12: ='WM-AMC1'!#REF! -> #REF! | E12: ='WM-AMC1'!D12 -> 40979 | F12: ='WM-AMC1'!E12 -> AL SAFAT 1209W | G12: ='WM-AMC1'!F12 -> 40985 | H12: =G12+12 -> 40997 | I12: =H12+15 -> 41012 | J12: =H12+9 -> 41006 | K12: =J12+3 -> 41009 | L12: =H12+7 -> 41004 | M12: =H12+12 -> 41009 | N12: =H12+14 -> 41011 | O12: =H12+8 -> 41005 | P12: =H12+3 -> 41000 | Q12: =I12+3 -> 41015 | R12: =J12+3 -> 41009 | S12: =K12+3 -> 41012 | T12: =L12+3 -> 41007
A13: ='WM-AMC1'!A13 -> SARA | B13: ='WM-AMC1'!B13 -> 85 | C13: ='WM-AMC1'!C13 -> 40983 | D13: ='WM-AMC1'!#REF! -> #REF! | E13: ='WM-AMC1'!D13 -> 40986 | F13: ='WM-AMC1'!E13 -> CSCL AMERICA 1210W | G13: ='WM-AMC1'!F13 -> 40988 | H13: =G13+13 -> 41001 | I13: =H13+9 -> 41010 | J13: =H13+9 -> 41010 | K13: =J13+3 -> 41013 | L13: =H13+7 -> 41008 | M13: =H13+12 -> 41013 | N13: =H13+14 -> 41015 | O13: =H13+8 -> 41009 | P13: =H13+3 -> 41004 | Q13: =I13+3 -> 41013 | R13: =J13+3 -> 41013 | S13: =K13+3 -> 41016 | T13: =L13+3 -> 41011
A14: ='WM-AMC1'!A14 -> SARA | B14: ='WM-AMC1'!B14 -> 86 | C14: ='WM-AMC1'!C14 -> 40990 | D14: ='WM-AMC1'!#REF! -> #REF! | E14: ='WM-AMC1'!D14 -> 40993 | F14: ='WM-AMC1'!E14 -> HATTA 1211W | G14: ='WM-AMC1'!F14 -> 40996 | H14: =G14+12 -> 41008 | I14: =H14+10 -> 41018 | J14: =H14+9 -> 41017 | K14: =J14+3 -> 41020 | L14: =H14+7 -> 41015 | M14: =H14+12 -> 41020 | N14: =H14+14 -> 41022 | O14: =H14+8 -> 41016 | P14: =H14+3 -> 41011 | Q14: =I14+3 -> 41021 | R14: =J14+3 -> 41020
A15: ='WM-AMC1'!A15 -> SARA | B15: ='WM-AMC1'!B15 -> 87 | C15: ='WM-AMC1'!C15 -> 40997 | D15: ='WM-AMC1'!#REF! -> #REF! | E15: ='WM-AMC1'!D15 -> 41000 | F15: ='WM-AMC1'!E15 -> AL HILAL 1212W | G15: ='WM-AMC1'!F15 -> 41004 | H15: =G15+12 -> 41016 | I15: =H15+10 -> 41026 | J15: =H15+9 -> 41025 | K15: =J15+3 -> 41028 | L15: =H15+7 -> 41023 | M15: =H15+12 -> 41028 | N15: =H15+14 -> 41030 | O15: =H15+8 -> 41024 | P15: =H15+3 -> 41019 | Q15: =I15+3 -> 41029 | R15: =J15+3 -> 41028
A16: ='WM-AMC1'!A16 -> CAPE FRIO | B16: ='WM-AMC1'!B16 -> 52 | C16: ='WM-AMC1'!C16 -> 41005 | D16: ='WM-AMC1'!#REF! -> #REF! | E16: ='WM-AMC1'!D16 -> 41008 | F16: ='WM-AMC1'!E16 -> XIN OU ZHOU 1213W | G16: ='WM-AMC1'!F16 -> 41011 | H16: =G16+12 -> 41023 | I16: =H16+16 -> 41039 | J16: =H16+15 -> 41038 | K16: =H16+19 -> 41042 | L16: =H16+7 -> 41030 | M16: =H16+23 -> 41046 | N16: =H16+11 -> 41034 | O16: =H16+4 -> 41027 | P16: =H16+7 -> 41030 | Q16: =H16+13 -> 41036 | R16: =H16+11 -> 41034 | S16: =H16+4 -> 41027 | T16: =S16+2 -> 41029
F17: ='WM-AMC1'!E19 -> MAYSSAN 1214W | G17: ='WM-AMC1'!$F$19 -> 41017 | H17: =G17+12 -> 41029 | I17: =H17+11 -> 41040 | J17: =H17+10 -> 41039 | K17: =H17+14 -> 41043 | L17: =I17+3 -> 41043 | M17: =H17+16 -> 41045 | N17: =H17+11 -> 41040 | O17: =H17+7 -> 41036 | P17: =H17+9 -> 41038 | Q17: =H17+20 -> 41049 | R17: =H17+18 -> 41047 | S17: =H17+4 -> 41033 | T17: =S17+2 -> 41035
A18: ='WM-AMC1'!A20 -> SIMA SAPPHIRE | B18: ='WM-AMC1'!B20 -> 411 | C18: ='WM-AMC1'!C20 -> 41007 | D18: ='WM-AMC1'!D20 -> 41010 | E18: ='WM-AMC1'!D20 -> 41010
A19: ='WM-AMC1'!A21 -> PAC ANTLIA | B19: ='WM-AMC1'!B21 -> 60 | C19: ='WM-AMC1'!C21 -> 41012 | D19: ='WM-AMC1'!D21 -> 41015 | E19: ='WM-AMC1'!D21 -> 41015
F21: ='WM-AMC1'!E23 -> JAZAN 1215W | G21: ='WM-AMC1'!F23 -> 41023 | H21: =G21+12 -> 41035 | I21: =H21+9 -> 41044 | J21: =H21+8 -> 41043 | K21: =H21+11 -> 41046 | L21: =I21+4 -> 41048 | M21: =H21+10 -> 41045 | N21: =H21+13 -> 41048 | O21: =H21+10 -> 41045 | P21: =H21+12 -> 41047 | Q21: =H21+13 -> 41048 | R21: =H21+11 -> 41046 | S21: =H21+7 -> 41042 | T21: =S21+2 -> 41044
A22: ='WM-AMC1'!A24 -> SIMA SAPPHIRE | B22: ='WM-AMC1'!B24 -> 412 | C22: ='WM-AMC1'!C24 -> 41014 | D22: ='WM-AMC1'!D24 -> 41017 | E22: ='WM-AMC1'!D24 -> 41017
A23: ='WM-AMC1'!A25 -> CAPE FRIO | B23: ='WM-AMC1'!B25 -> 53 | C23: ='WM-AMC1'!C25 -> 41019 | D23: ='WM-AMC1'!D25 -> 41022 | E23: ='WM-AMC1'!D25 -> 41022
F25: ='WM-AMC1'!E27 -> XIN YA ZHOU 1216W | G25: ='WM-AMC1'!F27 -> 41029 | H25: =G25+12 -> 41041 | I25: =H25+11 -> 41052 | J25: =H25+10 -> 41051 | K25: =H25+14 -> 41055 | L25: =H25+7 -> 41048 | M25: =H25+17 -> 41058 | N25: =H25+12 -> 41053 | O25: =H25+13 -> 41054 | P25: =H25+11 -> 41052 | Q25: =H25+20 -> 41061 | R25: =H25+18 -> 41059 | S25: =H25+5 -> 41046 | T25: =S25+2 -> 41048
A26: ='WM-AMC1'!A28 -> SIMA SAPPHIRE | B26: ='WM-AMC1'!B28 -> 413 | C26: ='WM-AMC1'!C28 -> 41021 | D26: ='WM-AMC1'!D28 -> 41024 | E26: ='WM-AMC1'!D28 -> 41024
A27: ='WM-AMC1'!A29 -> PAC ANTLIA | B27: ='WM-AMC1'!B29 -> 61 | C27: ='WM-AMC1'!C29 -> 41026 | D27: ='WM-AMC1'!D29 -> 41029 | E27: ='WM-AMC1'!D29 -> 41029
F29: ='WM-AMC1'!E31 -> AL MANAMAH 1217W | G29: ='WM-AMC1'!F31 -> 41040 | H29: =G29+13 -> 41053 | I29: =H29+11 -> 41064 | J29: =H29+9 -> 41062 | K29: =H29+12 -> 41065 | L29: =H29+9 -> 41062 | M29: =H29+17 -> 41070 | N29: =H29+15 -> 41068 | O29: =H29+6 -> 41059 | P29: =H29+8 -> 41061 | Q29: =H29+13 -> 41066 | R29: =H29+11 -> 41064 | S29: =H29+4 -> 41057 | T29: =S29+2 -> 41059
A30: ='WM-AMC1'!A32 -> SIMA SAPPHIRE | B30: ='WM-AMC1'!B32 -> 414 | C30: ='WM-AMC1'!C32 -> 41028 | D30: ='WM-AMC1'!D32 -> 41031 | E30: ='WM-AMC1'!D32 -> 41031
A31: ='WM-AMC1'!A33 -> CAPE FRIO | B31: ='WM-AMC1'!B33 -> 54 | C31: ='WM-AMC1'!C33 -> 41033 | D31: ='WM-AMC1'!D33 -> 41036 | E31: ='WM-AMC1'!D33 -> 41036
F33: ='WM-AMC1'!E35 -> AL RAWDAH 1218W | G33: ='WM-AMC1'!F35 -> 41047 | H33: =G33+13 -> 41060 | I33: =H33+11 -> 41071 | J33: =H33+10 -> 41070 | K33: =H33+14 -> 41074 | L33: =H33+7 -> 41067 | M33: =H33+17 -> 41077 | N33: =H33+12 -> 41072 | O33: =H33+13 -> 41073 | P33: =H33+11 -> 41071 | Q33: =H33+20 -> 41080 | R33: =H33+18 -> 41078 | S33: =H33+5 -> 41065 | T33: =S33+2 -> 41067
A34: ='WM-AMC1'!A36 -> SIMA SAPPHIRE | B34: ='WM-AMC1'!B36 -> 415 | C34: ='WM-AMC1'!C36 -> 41035 | D34: ='WM-AMC1'!D36 -> 41038 | E34: ='WM-AMC1'!D36 -> 41038
A35: ='WM-AMC1'!A37 -> PAC ANTLIA | B35: ='WM-AMC1'!B37 -> 62 | C35: ='WM-AMC1'!C37 -> 41040 | D35: ='WM-AMC1'!D37 -> 41043 | E35: ='WM-AMC1'!D37 -> 41043
F37: ='WM-AMC1'!E39 -> AL SAFAT 1219W | G37: ='WM-AMC1'!F39 -> 41053 | H37: =G37+13 -> 41066 | I37: =H37+11 -> 41077 | J37: =H37+9 -> 41075 | K37: =H37+12 -> 41078 | L37: =H37+9 -> 41075 | M37: =H37+17 -> 41083 | N37: =H37+15 -> 41081 | O37: =H37+6 -> 41072 | P37: =H37+8 -> 41074 | Q37: =H37+13 -> 41079 | R37: =H37+11 -> 41077 | S37: =H37+4 -> 41070 | T37: =S37+2 -> 41072
A38: ='WM-AMC1'!A40 -> SIMA SAPPHIRE | B38: ='WM-AMC1'!B40 -> 416 | C38: ='WM-AMC1'!C40 -> 41042 | D38: ='WM-AMC1'!D40 -> 41045 | E38: ='WM-AMC1'!D40 -> 41045
A39: ='WM-AMC1'!A41 -> CAPE FRIO | B39: ='WM-AMC1'!B41 -> 55 | C39: ='WM-AMC1'!C41 -> 41047 | D39: ='WM-AMC1'!D41 -> 41050 | E39: ='WM-AMC1'!D41 -> 41050
F41: ='WM-AMC1'!E43 -> CSCL AMERICA 1220W | G41: ='WM-AMC1'!F43 -> 41058 | H41: =G41+12 -> 41070 | I41: =H41+11 -> 41081 | J41: =H41+10 -> 41080 | K41: =H41+14 -> 41084 | L41: =H41+7 -> 41077 | M41: =H41+17 -> 41087 | N41: =H41+12 -> 41082 | O41: =H41+13 -> 41083 | P41: =H41+11 -> 41081 | Q41: =H41+20 -> 41090 | R41: =H41+18 -> 41088 | S41: =H41+5 -> 41075 | T41: =S41+2 -> 41077
A42: ='WM-AMC1'!A44 -> SIMA SAPPHIRE | B42: ='WM-AMC1'!B44 -> 417 | C42: ='WM-AMC1'!C44 -> 41049 | D42: ='WM-AMC1'!D44 -> 41052 | E42: ='WM-AMC1'!D44 -> 41052
A43: ='WM-AMC1'!A45 -> GALLANT WAVE | B43: ='WM-AMC1'!B45 -> 64 | C43: ='WM-AMC1'!C45 -> 41053 | D43: ='WM-AMC1'!D45 -> 41056 | E43: ='WM-AMC1'!D45 -> 41056
F45: ='WM-AMC1'!E47 -> HATTA 1221W | G45: ='WM-AMC1'!F47 -> 41067 | H45: =G45+13 -> 41080 | I45: =H45+11 -> 41091 | J45: =H45+9 -> 41089 | K45: =H45+12 -> 41092 | L45: =H45+9 -> 41089 | M45: =H45+17 -> 41097 | N45: =H45+15 -> 41095 | O45: =H45+6 -> 41086 | P45: =H45+8 -> 41088 | Q45: =H45+13 -> 41093 | R45: =H45+11 -> 41091 | S45: =H45+4 -> 41084 | T45: =S45+2 -> 41086
A46: ='WM-AMC1'!A48 -> SIMA SAPPHIRE | B46: ='WM-AMC1'!B48 -> 418 | C46: ='WM-AMC1'!C48 -> 41056 | D46: ='WM-AMC1'!D48 -> 41059 | E46: ='WM-AMC1'!D48 -> 41059
A47: ='WM-AMC1'!A49 -> CAPE FRIO | B47: ='WM-AMC1'!B49 -> 56 | C47: ='WM-AMC1'!C49 -> 41061 | D47: ='WM-AMC1'!D49 -> 41064 | E47: ='WM-AMC1'!D49 -> 41064
F49: ='WM-AMC1'!E51 -> AL HILAL 1222W | G49: ='WM-AMC1'!F51 -> 41074 | H49: =G49+12 -> 41086 | I49: =H49+11 -> 41097 | J49: =H49+10 -> 41096 | K49: =H49+14 -> 41100 | L49: =H49+7 -> 41093 | M49: =H49+17 -> 41103 | N49: =H49+12 -> 41098 | O49: =H49+13 -> 41099 | P49: =H49+11 -> 41097 | Q49: =H49+20 -> 41106 | R49: =H49+18 -> 41104 | S49: =H49+5 -> 41091 | T49: =S49+2 -> 41093
A50: ='WM-AMC1'!A52 -> SIMA SAPPHIRE | B50: ='WM-AMC1'!B52 -> 419 | C50: ='WM-AMC1'!C52 -> 41063 | D50: ='WM-AMC1'!D52 -> 41066 | E50: ='WM-AMC1'!D52 -> 41066
A51: ='WM-AMC1'!A53 -> PAC ANTLIA | B51: ='WM-AMC1'!B53 -> 65 | C51: ='WM-AMC1'!C53 -> 41068 | D51: ='WM-AMC1'!D53 -> 41071 | E51: ='WM-AMC1'!D53 -> 41071
...

Sheet AUSTRALIA-AAC1
D3: HOCHIMINHCITY TO AUSTRALIA
D4: AAC1 SERVICE
L6: Update: | M6: ='NE-AEC7 (DIRECTLY)'!$J$6 -> 41046
A7: FEEDER | B7: VOY | C7: ETD HCM | D7: ETA SIN | E7: ETA SIN | F7: ETA PKG | G7: MOTHER VESSEL | H7: ETA PKG | I7: ETA SIN | J7: Fremantle | K7: Sydney | L7: Melbourne | M7: Adelaide
A8: =#REF! -> #REF! | B8: =#REF! -> #REF! | C8: =#REF! -> #REF! | D8: - | F8: =C8+3 -> #REF! | G8: CSCL SANTIAGO 0040S | H8: 40617 | I8: =H8+2 -> 40619 | J8: =H8+8 -> 40625 | K8: =J8+7 -> 40632 | L8: =K8+2 -> 40634 | M8: =L8+2 -> 40636
A9: =#REF! -> #REF! | B9: =#REF! -> #REF! | C9: =#REF! -> #REF! | D9: - | F9: =C9+3 -> #REF! | G9: IBN KHALLIKAN 1112S | H9: =H8+8 -> 40625 | I9: =H9+1 -> 40626 | J9: =H9+7 -> 40632 | K9: =J9+7 -> 40639 | L9: =K9+3 -> 40642 | M9: =L9+2 -> 40644
A10: =#REF! -> #REF! | B10: =#REF! -> #REF! | C10: =#REF! -> #REF! | D10: - | F10: =C10+3 -> #REF! | G10: ELBWOLF 1113S | H10: =H9+7 -> 40632 | I10: =H10+1 -> 40633 | J10: =H10+7 -> 40639 | K10: =J10+7 -> 40646 | L10: =K10+2 -> 40648 | M10: =L10+2 -> 40650
A11: =#REF! -> #REF! | B11: =#REF! -> #REF! | C11: =#REF! -> #REF! | D11: - | F11: =C11+3 -> #REF! | G11: IRENES REMEDY 012S | H11: =H10+7 -> 40639 | I11: =H11+1 -> 40640 | J11: =H11+21 -> 40660 | K11: =I11+13 -> 40653 | L11: =K11+2 -> 40655 | M11: =L11+2 -> 40657
A12: =#REF! -> #REF! | B12: =#REF! -> #REF! | C12: =#REF! -> #REF! | D12: - | F12: =C12+3 -> #REF! | G12: CSCL SANTIAGO 0042S | H12: =H11+7 -> 40646 | I12: =H12+1 -> 40647 | J12: =H12+7 -> 40653 | K12: =J12+7 -> 40660 | L12: =K12+3 -> 40663 | M12: =L12+1 -> 40664
A13: =#REF! -> #REF! | B13: =#REF! -> #REF! | C13: =#REF! -> #REF! | D13: - | F13: =C13+3 -> #REF! | G13: IBN KHALLIKAN 1116S | H13: =H12+6 -> 40652 | I13: =H13+2 -> 40654 | J13: =H13+8 -> 40660 | K13: =J13+7 -> 40667 | L13: =K13+3 -> 40670 | M13: =L13+1 -> 40671
A14: =#REF! -> #REF! | B14: =#REF! -> #REF! | C14: =#REF! -> #REF! | D14: - | F14: =C14+3 -> #REF! | G14: ELBWOLF 1117S | H14: =H13+7 -> 40659 | I14: =H14+2 -> 40661 | J14: =H14+8 -> 40667 | K14: =J14+7 -> 40674 | L14: =K14+2 -> 40676 | M14: =L14+2 -> 40678
A15: =#REF! -> #REF! | B15: =#REF! -> #REF! | C15: =#REF! -> #REF! | D15: - | F15: =C15+3 -> #REF! | G15: IRENES REMEDY 013S | H15: =H14+8 -> 40667 | I15: =H15+1 -> 40668 | J15: =H15+7 -> 40674 | K15: =J15+7 -> 40681 | L15: =K15+3 -> 40684 | M15: =L15+2 -> 40686
A16: =#REF! -> #REF! | B16: =#REF! -> #REF! | C16: =#REF! -> #REF! | D16: - | F16: =C16+3 -> #REF! | G16: CSCL SANTIAGO 0044S | H16: =H15+10 -> 40677 | I16: =H16+2 -> 40679 | J16: =H16+19 -> 40696 | K16: =I16+9 -> 40688 | L16: =K16+2 -> 40690 | M16: =L16+2 -> 40692
A17: =#REF! -> #REF! | B17: =#REF! -> #REF! | C17: =#REF! -> #REF! | D17: - | F17: =C17+3 -> #REF! | G17: IBN KHALLIKAN 1120S | H17: =H16+4 -> 40681 | I17: =H17+1 -> 40682 | J17: =H17+8 -> 40689 | K17: =J17+7 -> 40696 | L17: =K17+2 -> 40698 | M17: =L17+2 -> 40700
A18: =#REF! -> #REF! | B18: =#REF! -> #REF! | C18: =#REF! -> #REF! | D18: - | F18: =C18+3 -> #REF! | G18: ELBWOLF 1121S | H18: =H17+6 -> 40687 | I18: =H18+2 -> 40689 | J18: =H18+8 -> 40695 | K18: =J18+7 -> 40702 | L18: =K18+2 -> 40704 | M18: =L18+2 -> 40706
A19: =#REF! -> #REF! | B19: =#REF! -> #REF! | C19: =#REF! -> #REF! | D19: - | F19: =C19+3 -> #REF! | G19: SANTA MONICA 002S | H19: =H18+10 -> 40697 | I19: =H19+1 -> 40698 | J19: =H19+7 -> 40704 | K19: =J19+6 -> 40710 | L19: =K19+2 -> 40712 | M19: =L19+3 -> 40715
A20: =#REF! -> #REF! | B20: =#REF! -> #REF! | C20: =#REF! -> #REF! | D20: - | F20: =C20+3 -> #REF! | G20: CSCL SANTIAGO 0046S | H20: =H19+9 -> 40706 | I20: =H20+1 -> 40707 | J20: =H20+8 -> 40714 | K20: =J20+3 -> 40717 | L20: =K20+2 -> 40719 | M20: =L20+2 -> 40721
A21: =#REF! -> #REF! | B21: =#REF! -> #REF! | C21: =#REF! -> #REF! | D21: - | F21: =C21+3 -> #REF! | G21: IBN KHALLIKAN 1124S | H21: =H20+5 -> 40711 | I21: =H21+1 -> 40712 | J21: =H21+9 -> 40720 | K21: =J21+7 -> 40727 | L21: =K21+3 -> 40730 | M21: =L21+2 -> 40732
A22: =#REF! -> #REF! | B22: =#REF! -> #REF! | C22: =#REF! -> #REF! | D22: - | F22: =C22+3 -> #REF! | G22: OMIT | H22: =H21+11 -> 40722 | I22: =H22+2 -> 40724 | J22: =H22+8 -> 40730 | K22: =J22+7 -> 40737 | L22: =K22+2 -> 40739 | M22: =L22+2 -> 40741
A23: =#REF! -> #REF! | B23: =#REF! -> #REF! | C23: =#REF! -> #REF! | D23: - | F23: =C23+3 -> #REF! | G23: ELBWOLF 1126S | H23: =H21+11 -> 40722 | I23: =H23+2 -> 40724 | J23: =H23+8 -> 40730 | K23: =J23+7 -> 40737 | L23: =K23+3 -> 40740 | M23: =L23+1 -> 40741
A24: =#REF! -> #REF! | B24: =#REF! -> #REF! | C24: =#REF! -> #REF! | D24: - | F24: =C24+3 -> #REF! | G24: SANTA MONICA 003S | H24: =H23+7 -> 40729 | I24: =H24+2 -> 40731 | J24: =H24+8 -> 40737 | K24: =J24+7 -> 40744 | L24: =K24+2 -> 40746 | M24: =L24+2 -> 40748
A25: =#REF! -> #REF! | B25: =#REF! -> #REF! | C25: =#REF! -> #REF! | D25: - | F25: =C25+3 -> #REF! | G25: CSCL SANTIAGO 0048S | H25: =H24+7 -> 40736 | I25: =H25+1 -> 40737 | J25: =H25+8 -> 40744 | K25: =J25+7 -> 40751 | L25: =K25+2 -> 40753 | M25: =L25+2 -> 40755
A26: =#REF! -> #REF! | B26: =#REF! -> #REF! | C26: =#REF! -> #REF! | D26: - | F26: =C26+3 -> #REF! | G26: IBN KHALLIKAN 1129S | H26: =H25+7 -> 40743 | I26: =H26+2 -> 40745 | J26: =H26+8 -> 40751 | K26: =J26+7 -> 40758 | L26: =K26+2 -> 40760 | M26: =L26+2 -> 40762
A27: =#REF! -> #REF! | B27: =#REF! -> #REF! | C27: =#REF! -> #REF! | D27: - | F27: =C27+3 -> #REF! | G27: ELBWOLF 1130S | H27: =H26+7 -> 40750 | I27: =H27+2 -> 40752 | J27: =H27+8 -> 40758 | K27: =J27+7 -> 40765 | L27: =K27+2 -> 40767 | M27: =L27+2 -> 40769
A28: =#REF! -> #REF! | B28: =#REF! -> #REF! | C28: =#REF! -> #REF! | D28: - | F28: =C28+3 -> #REF! | G28: SANTA MONICA 004S | H28: =H27+12 -> 40762 | I28: =H28+1 -> 40763 | J28: OMIT | K28: =I28+11 -> 40774 | L28: =K28+3 -> 40777 | M28: =L28+2 -> 40779
A29: SARA | B29: 53 | C29: =#REF! -> #REF! | D29: - | F29: =C29+3 -> #REF! | G29: CSCL SANTIAGO 0050S | H29: =H28+8 -> 40770 | I29: =H29+1 -> 40771 | J29: =H29+7 -> 40777 | K29: =J29+7 -> 40784 | L29: =K29+4 -> 40788 | M29: =L29+2 -> 40790
A30: =A29 -> SARA | B30: =B29+1 -> 54 | C30: =#REF! -> #REF! | D30: - | F30: =C30+3 -> #REF! | G30: HS WAGNER 1133S | H30: =H29+2 -> 40772 | I30: =H30+3 -> 40775 | J30: OMIT | K30: =I30+15 -> 40790 | L30: =K30+3 -> 40793 | M30: =L30+2 -> 40795
A31: =A30 -> SARA | B31: =B30+1 -> 55 | C31: =#REF! -> #REF! | D31: - | F31: =C31+3 -> #REF! | G31: CAPE MONDEGO 1134S | H31: =H30+8 -> 40780 | I31: =H31-1 -> 40779 | J31: OMIT | K31: =I31+14 -> 40793 | L31: =K31+2 -> 40795 | M31: =L31+2 -> 40797
A32: =A31 -> SARA | B32: =B31+1 -> 56 | C32: =#REF! -> #REF! | D32: - | F32: =C32+3 -> #REF! | G32: SANTA MONICA 005S | H32: =H31+9 -> 40789 | I32: =H32+2 -> 40791 | J32: =I32+6 -> 40797 | K32: =I32+12 -> 40803 | L32: =K32+3 -> 40806 | M32: =L32+2 -> 40808
A33: =A32 -> SARA | B33: =B32+1 -> 57 | C33: =#REF! -> #REF! | D33: - | F33: =C33+3 -> #REF! | G33: CSCL SANTIAGO 0052S | H33: =H32+12 -> 40801 | I33: =H33+1 -> 40802 | J33: OMIT | K33: OMIT | L33: =I33+9 -> 40811 | M33: =L33+3 -> 40814
A34: =A33 -> SARA | B34: =B33+1 -> 58 | C34: =#REF! -> #REF! | D34: - | F34: =C34+3 -> #REF! | G34: IBN KHALLIKAN 1137S | H34: =H33-1 -> 40800 | I34: =H34+1 -> 40801 | J34: =I34+20 -> 40821 | K34: =I34+13 -> 40814 | L34: OMIT | M34: OMIT
A35: =A34 -> SARA | B35: =B34+1 -> 59 | C35: =#REF! -> #REF! | D35: - | F35: =C35+3 -> #REF! | G35: CAPE MONDEGO 1138S | H35: =H34+8 -> 40808 | I35: =H35+1 -> 40809 | J35: OMIT | K35: =I35+12 -> 40821 | L35: =K35+2 -> 40823 | M35: =L35+2 -> 40825
A36: =A35 -> SARA | B36: =B35+1 -> 60 | C36: =#REF! -> #REF! | D36: - | F36: =C36+3 -> #REF! | G36: SANTA MONICA 006S | H36: =H35+17 -> 40825 | I36: =H36+1 -> 40826 | J36: OMIT | K36: OMIT | L36: =I36+10 -> 40836 | M36: =L36+2 -> 40838
A37: =A36 -> SARA | B37: =B36+1 -> 61 | C37: =#REF! -> #REF! | D37: - | F37: =C37+3 -> #REF! | G37: CSCL SANTIAGO 0054S | H37: =H36 +2 -> 40827 | I37: =H37+3 -> 40830 | J37: OMIT | K37: =I37+12 -> 40842 | L37: =K37+2 -> 40844 | M37: =L37+2 -> 40846
A38: =A37 -> SARA | B38: =B37+1 -> 62 | C38: =#REF! -> #REF! | D38: - | F38: =C38+3 -> #REF! | G38: IBN KHALLIKAN 1142S | H38: =H37+7 -> 40834 | I38: =H38+2 -> 40836 | J38: OMIT | K38: =I38+13 -> 40849 | L38: =K38+2 -> 40851 | M38: =L38+2 -> 40853
A39: =A38 -> SARA | B39: =B38+1 -> 63 | C39: =#REF! -> #REF! | D39: - | F39: =C39+3 -> #REF! | J39: OMIT
A40: =A39 -> SARA | B40: =B39+1 -> 64 | C40: =#REF! -> #REF! | D40: - | F40: =C40+3 -> #REF! | G40: CAPE MONDEGO 1143S | H40: =H38+8 -> 40842 | I40: =H40+2 -> 40844 | J40: OMIT | K40: =I40+12 -> 40856 | L40: =K40+2 -> 40858 | M40: =L40+2 -> 40860
A41: =A40 -> SARA | B41: =B40+1 -> 65 | C41: =#REF! -> #REF! | D41: - | F41: =C41+3 -> #REF! | G41: SANTA MONICA 007S | H41: =H40+9 -> 40851 | I41: =H41+1 -> 40852 | J41: OMIT | K41: =I41+11 -> 40863 | L41: =K41+2 -> 40865 | M41: =L41+2 -> 40867
A42: =A41 -> SARA | B42: =B41+1 -> 66 | C42: =#REF! -> #REF! | D42: - | F42: =C42+3 -> #REF! | G42: CSCL SANTIAGO 0056S | H42: =H41+5 -> 40856 | I42: =H42+2 -> 40858 | J42: OMIT | K42: =I42+11 -> 40869 | L42: =K42+3 -> 40872 | M42: =L42+2 -> 40874
A43: =A42 -> SARA | B43: =B42+1 -> 67 | C43: =#REF! -> #REF! | D43: - | F43: =C43+3 -> #REF! | G43: IBN KHALLIKAN 1146S | H43: =H42+8 -> 40864 | I43: =H43+2 -> 40866 | J43: OMIT | K43: =I43+11 -> 40877 | L43: =K43+2 -> 40879 | M43: =L43+2 -> 40881
...

Sheet AG-AGX1
D2: FROM HO CHI MINH TO ARABIAN GULF PORTS
D3: AGX1 SERVICE
Z5: Update: | AA5: ='NE-AEC7 (DIRECTLY)'!$J$6 -> 41046
A6: FEEDER | B6: VOY | C6: ETD HCM | D6: ETA PKG | E6: MOTHER VESSEL | F6: ETA PKG | G6: Khorfakkan | H6: Jebel Ali | I6: Ajman (via AEJEAi) | J6: UMM QASR | K6: KHORRAMSHAHR | L6: Shuaiba (Kuwait) | M6: Shuwaikh (Kuwait) | N6: Abu Dhabi | O6: FUJAIRAH | P6: RAS AL KHAIMAH | Q6: Sharjah | R6: Bahrain | S6: ASALUYEH (via AEJEA) | T6: BANDAR KHOMEINI (via AEJEA) | U6: IR.SHAHID RAJAEE | V6: Port Sultan Qaboo | W6: SOHAR | X6: Doha | Y6: Damman | Z6: JUBAIL | AA6: RIYADH ( via SADMM )
A7: =#REF! -> #REF! | B7: =#REF! -> #REF! | C7: =#REF! -> #REF! | D7: =#REF! -> #REF! | E7: UASC SHARJAH 1109W | F7: 40616 | G7: =F7+7 -> 40623 | H7: =G7+2 -> 40625 | I7: =H7+4 -> 40629 | L7: =G7+8 -> 40631 | M7: =G7+8 -> 40631 | N7: =G7+3 -> 40626 | Q7: =G7+2 -> 40625 | R7: =G7+7 -> 40630 | T7: =H7+7 -> 40632 | U7: =G7+6 -> 40629 | V7: =G7+3 -> 40626 | X7: =G7+2 -> 40625 | Y7: =G7+4 -> 40627 | Z7: =G7+2 -> 40625 | AA7: =Y7+1 -> 40628
A8: =A7 -> #REF! | B8: =B7+1 -> #REF! | C8: =C7+7 -> #REF! | D8: =C8+3 -> #REF! | E8: PESCARA 1110W | F8: =F7+7 -> 40623 | G8: =F8+7 -> 40630 | H8: =G8+2 -> 40632 | I8: =H8+4 -> 40636 | L8: =G8+8 -> 40638 | M8: =G8+8 -> 40638 | N8: =G8+3 -> 40633 | Q8: =G8+2 -> 40632 | R8: =G8+7 -> 40637 | T8: =H8+7 -> 40639 | U8: =G8+6 -> 40636 | V8: =G8+3 -> 40633 | X8: =G8+2 -> 40632 | Y8: =G8+4 -> 40634 | Z8: =G8+2 -> 40632 | AA8: =Y8+1 -> 40635
A9: =A8 -> #REF! | B9: =B8+1 -> #REF! | C9: =C8+7 -> #REF! | D9: =C9+3 -> #REF! | E9: HS WAGNER 1111W | F9: =F8+7 -> 40630 | G9: =F9+8 -> 40638 | H9: =G9+2 -> 40640 | I9: =H9+4 -> 40644 | L9: =G9+8 -> 40646 | M9: =G9+8 -> 40646 | N9: =G9+3 -> 40641 | Q9: =G9+2 -> 40640 | R9: =G9+7 -> 40645 | T9: =H9+7 -> 40647 | U9: =G9+6 -> 40644 | V9: =G9+3 -> 40641 | X9: =G9+2 -> 40640 | Y9: =G9+4 -> 40642 | Z9: =G9+2 -> 40640 | AA9: =Y9+1 -> 40643
A10: =A9 -> #REF! | B10: =B9+1 -> #REF! | C10: =C9+7 -> #REF! | D10: =C10+3 -> #REF! | E10: UASC SHUAIBA 1112W | F10: =F9+7 -> 40637 | G10: =F10+8 -> 40645 | H10: =G10+2 -> 40647 | I10: =H10+4 -> 40651 | L10: =G10+8 -> 40653 | M10: =G10+8 -> 40653 | N10: =G10+3 -> 40648 | Q10: =G10+2 -> 40647 | R10: =G10+7 -> 40652 | T10: =H10+7 -> 40654 | U10: =G10+6 -> 40651 | V10: =G10+3 -> 40648 | X10: =G10+2 -> 40647 | Y10: =G10+4 -> 40649 | Z10: =G10+2 -> 40647 | AA10: =Y10+1 -> 40650
A11: =A10 -> #REF! | B11: =B10+1 -> #REF! | C11: =C10+7 -> #REF! | D11: =C11+3 -> #REF! | E11: UASC ZAMZAM 1113W | F11: =F10+7 -> 40644 | G11: =F11+8 -> 40652 | H11: =G11+2 -> 40654 | I11: =H11+4 -> 40658 | L11: =G11+8 -> 40660 | M11: =G11+8 -> 40660 | N11: =G11+3 -> 40655 | Q11: =G11+2 -> 40654 | R11: =G11+7 -> 40659 | T11: =H11+7 -> 40661 | U11: =G11+6 -> 40658 | V11: =G11+3 -> 40655 | X11: =G11+2 -> 40654 | Y11: =G11+4 -> 40656 | Z11: =G11+2 -> 40654 | AA11: =Y11+1 -> 40657
A12: =A11 -> #REF! | B12: =B11+1 -> #REF! | C12: =C11+7 -> #REF! | D12: =C12+3 -> #REF! | E12: UASC SHARJAH 1114W | F12: =F11+7 -> 40651 | G12: =F12+8 -> 40659 | H12: =G12+2 -> 40661 | I12: =H12+4 -> 40665 | L12: =G12+8 -> 40667 | M12: =G12+8 -> 40667 | N12: =G12+3 -> 40662 | Q12: =G12+2 -> 40661 | R12: =G12+7 -> 40666 | T12: =H12+7 -> 40668 | U12: =G12+6 -> 40665 | V12: =G12+3 -> 40662 | X12: =G12+2 -> 40661 | Y12: =G12+4 -> 40663 | Z12: =G12+2 -> 40661 | AA12: =Y12+1 -> 40664
A13: =A12 -> #REF! | B13: =B12+1 -> #REF! | C13: =C12+7 -> #REF! | D13: =C13+3 -> #REF! | E13: UASC DOHA 1115W | F13: =F12+7 -> 40658 | G13: =F13+9 -> 40667 | H13: =G13+1 -> 40668 | I13: =H13+4 -> 40672 | L13: =G13+8 -> 40675 | M13: =G13+8 -> 40675 | N13: =G13+3 -> 40670 | Q13: =G13+2 -> 40669 | R13: =G13+7 -> 40674 | T13: =H13+7 -> 40675 | U13: =G13+6 -> 40673 | V13: =G13+3 -> 40670 | X13: =G13+2 -> 40669 | Y13: =G13+4 -> 40671 | Z13: =G13+2 -> 40669 | AA13: =Y13+1 -> 40672
A14: =A13 -> #REF! | B14: =B13+1 -> #REF! | C14: =C13+7 -> #REF! | D14: =C14+3 -> #REF! | E14: HS WAGNER 1116W | F14: =F13+7 -> 40665 | G14: =F14+8 -> 40673 | H14: =G14+2 -> 40675 | I14: =H14+4 -> 40679 | L14: =G14+8 -> 40681 | M14: =G14+8 -> 40681 | N14: =G14+3 -> 40676 | Q14: =G14+2 -> 40675 | R14: =G14+7 -> 40680 | T14: =H14+7 -> 40682 | U14: =G14+6 -> 40679 | V14: =G14+3 -> 40676 | X14: =G14+2 -> 40675 | Y14: =G14+4 -> 40677 | Z14: =G14+2 -> 40675 | AA14: =Y14+1 -> 40678
